Report for Jedi-Plugin-Auth-0.01

Back
From: metabase:user:314402c4-2aae-11df-837a-5e0a49663a4f
Subject: PASS Jedi-Plugin-Auth-0.01 v5.16.3 FreeBSD
Date: 2014-01-05T13:22:35Z

This distribution has been tested as part of the CPAN Testers
project, supporting the Perl programming language.  See
http://wiki.cpantesters.org/ for more information or email
questions to cpan-testers-discuss@perl.org


--
Dear celogeek,

This is a computer-generated report for Jedi-Plugin-Auth-0.01
on perl 5.16.3, created by CPAN-Reporter-1.2010.

Thank you for uploading your work to CPAN.  Congratulations!
All tests were successful.

Sections of this report:

    * Tester comments
    * Program output
    * Prerequisites
    * Environment and other context

------------------------------
TESTER COMMENTS
------------------------------

Additional comments from tester:

none provided

------------------------------
PROGRAM OUTPUT
------------------------------

Output from './Build test':

t/00-compile.t ........... ok
# Testing with Perl 5.016003, /usr/perl5.16.3/bin/perl
#     B::Hooks::EndOfScope version is 0.12
#     Carp version is 1.26
#     DBIx::Class::Core version is undefined
#     DBIx::Class::Migration version is 0.044
#     DBIx::Class::Schema version is undefined
#     Data::UUID version is 1.219
#     Digest::SHA1 version is 2.13
#     File::Spec version is 3.40
#     HTTP::Request::Common version is 6.04
#     IO::Handle version is 1.33
#     IPC::Open3 version is 1.12
#     Import::Into version is 1.001001
#     JSON version is 2.90
#     Jedi version is 1.002
#     Jedi::App version is 1.002
#     Jedi::Plugin::Session version is 0.04
#     Module::Build version is 0.4203
#     Module::Runtime version is 0.013
#     Moo::Role version is 1.003001
#     Path::Class version is 0.33
#     Plack::Test version is undefined
#     Scalar::Util version is 1.35
#     Test::File::ShareDir version is 0.4.1
#     Test::More version is 1.001002
#     Test::Most version is 0.31
#     base version is 2.18
#     feature version is 1.27
#     strict version is 1.07
#     warnings version is 1.13
Name "Devel::PartialDump::DEMOLISH" used only once: possible typo at /usr/perl5.16.3/lib/site_perl/5.16.3/Class/Tiny.pm line 93.
Name "Devel::PartialDump::BUILD" used only once: possible typo at /usr/perl5.16.3/lib/site_perl/5.16.3/Class/Tiny.pm line 92.
t/000-report-versions.t .. ok
[DBICDH] [warn] no need to run upgrade
t/auth.t ................. ok
t/author-critic.t ........ skipped: these tests are for testing by the author
t/errors.t ............... ok
t/release-kwalitee.t ..... skipped: these tests are for release candidate testing
t/release-unused-vars.t .. skipped: these tests are for release candidate testing
All tests successful.
Files=7, Tests=46,  8 wallclock secs ( 0.05 usr  0.04 sys +  5.44 cusr  0.52 csys =  6.05 CPU)
Result: PASS

------------------------------
PREREQUISITES
------------------------------

Prerequisite modules loaded:

requires:

    Module                 Need   Have    
    ---------------------- ------ --------
    B::Hooks::EndOfScope   0      0.12    
    base                   0      2.18    
    Carp                   0      1.26    
    Data::UUID             0      1.219   
    DBIx::Class::Core      0      0       
    DBIx::Class::Migration 0      0.044   
    DBIx::Class::Schema    0      0       
    Digest::SHA1           0      2.13    
    feature                0      1.27    
    File::ShareDir         1.00   1.03    
    Import::Into           0      1.001001
    Jedi                   1.002  1.002   
    Jedi::Plugin::Session  0.04   0.04    
    JSON                   0      2.90    
    Module::Runtime        0      0.013   
    Moo::Role              0      1.003001
    Path::Class            0      0.33    
    perl                   5.010  5.016003
    strict                 0      1.07    
    warnings               0      1.13    

build_requires:

    Module                 Need   Have    
    ---------------------- ------ --------
    File::Spec             0      3.40    
    HTTP::Request::Common  0      6.04    
    IO::Handle             0      1.33    
    IPC::Open3             0      1.12    
    Jedi                   1.002  1.002   
    Jedi::App              0      1.002   
    Jedi::Plugin::Session  0.04   0.04    
    Module::Build          0.3601 0.4203  
    perl                   5.010  5.016003
    Plack::Test            0      0       
    Scalar::Util           0      1.35    
    Test::File::ShareDir   0      0.4.1   
    Test::More             0.94   1.001002
    Test::Most             0      0.31    

configure_requires:

    Module                 Need   Have    
    ---------------------- ------ --------
    Module::Build          0.3601 0.4203  


------------------------------
ENVIRONMENT AND OTHER CONTEXT
------------------------------

Environment variables:

    DBIC_NO_WARN_BAD_PERL = 1
    PATH = /usr/local/bin:/usr/bin:/bin:/usr/local/sbin:/usr/sbin:/sbin:/home/cpansand/bin/freebsd9.1:/home/cpansand/bin/sh:/home/cpansand/bin:/usr/games:/home/cpansand/devel:/usr/home/eserte/work/srezic-misc/scripts
    PERL5LIB = 
    PERL5OPT = 
    PERL5_CPANPLUS_IS_RUNNING = 75496
    PERL5_CPAN_IS_RUNNING = 75496
    PERL5_CPAN_IS_RUNNING_IN_RECURSION = 75475,75496
    PERLDOC = -MPod::Perldoc::ToTextOverstrike
    PERL_BATCH = yes
    PERL_CPAN_REPORTER_CONFIG = /var/tmp/cpansmoker-1023/SNQwTbTIM4_config.ini
    PERL_EXTUTILS_AUTOINSTALL = --defaultdeps
    PERL_HTML_DISPLAY_CLASS = HTML::Display::Mozilla
    SHELL = /usr/local/bin/zsh
    TERM = screen
    TMPDIR = /var/tmp/cpansmoker-1023

Perl special variables (and OS-specific diagnostics, for MSWin32):

    $^X = /usr/perl5.16.3/bin/perl
    $UID/$EUID = 1023 / 1023
    $GID = 1023 1023
    $EGID = 1023 1023

Perl module toolchain versions installed:

    Module              Have    
    ------------------- --------
    CPAN                1.9800  
    CPAN::Meta          2.132830
    Cwd                 3.40    
    ExtUtils::CBuilder  0.280206
    ExtUtils::Command   1.17    
    ExtUtils::Install   1.58    
    ExtUtils::MakeMaker 6.82    
    ExtUtils::Manifest  1.61    
    ExtUtils::ParseXS   3.22    
    File::Spec          3.40    
    JSON                2.90    
    JSON::PP            2.27203 
    Module::Build       0.4203  
    Module::Signature   0.73    
    Parse::CPAN::Meta   1.4409  
    Test::Harness       3.30    
    Test::More          1.001002
    YAML                0.86    
    YAML::Syck          1.27    
    version             0.9904  


--

Summary of my perl5 (revision 5 version 16 subversion 3) configuration:
   
  Platform:
    osname=freebsd, osvers=9.2-release, archname=amd64-freebsd
    uname='freebsd cvrsnica-freebsd-92 9.2-release freebsd 9.2-release #0 r255898: thu sep 26 22:50:31 utc 2013 root@bake.isc.freebsd.org:usrobjusrsrcsysgeneric amd64 '
    config_args='-ds -e -Dprefix=/usr/perl5.16.3'
    hint=recommended, useposix=true, d_sigaction=define
    useithreads=undef, usemultiplicity=undef
    useperlio=define, d_sfio=undef, uselargefiles=define, usesocks=undef
    use64bitint=define, use64bitall=define, uselongdouble=undef
    usemymalloc=n, bincompat5005=undef
  Compiler:
    cc='cc', ccflags ='-DHAS_FPSETMASK -DHAS_FLOATINGPOINT_H -fno-strict-aliasing -pipe -fstack-protector -I/usr/local/include',
    optimize='-O',
    cppflags='-DHAS_FPSETMASK -DHAS_FLOATINGPOINT_H -fno-strict-aliasing -pipe -fstack-protector -I/usr/local/include'
    ccversion='', gccversion='4.2.1 20070831 patched [FreeBSD]', gccosandvers=''
    intsize=4, longsize=8, ptrsize=8, doublesize=8, byteorder=12345678
    d_longlong=define, longlongsize=8, d_longdbl=define, longdblsize=16
    ivtype='long', ivsize=8, nvtype='double', nvsize=8, Off_t='off_t', lseeksize=8
    alignbytes=8, prototype=define
  Linker and Libraries:
    ld='cc', ldflags ='-Wl,-E  -fstack-protector -L/usr/local/lib'
    libpth=/usr/lib /usr/local/lib
    libs=-lm -lcrypt -lutil -lc
    perllibs=-lm -lcrypt -lutil -lc
    libc=, so=so, useshrplib=false, libperl=libperl.a
    gnulibc_version=''
  Dynamic Linking:
    dlsrc=dl_dlopen.xs, dlext=so, d_dlsymun=undef, ccdlflags=' '
    cccdlflags='-DPIC -fPIC', lddlflags='-shared  -L/usr/local/lib -fstack-protector'


Characteristics of this binary (from libperl): 
  Compile-time options: HAS_TIMES PERLIO_LAYERS PERL_DONT_CREATE_GVSV
                        PERL_MALLOC_WRAP PERL_PRESERVE_IVUV USE_64_BIT_ALL
                        USE_64_BIT_INT USE_LARGE_FILES USE_LOCALE
                        USE_LOCALE_COLLATE USE_LOCALE_CTYPE
                        USE_LOCALE_NUMERIC USE_PERLIO USE_PERL_ATOF
  Built under freebsd
  Compiled at Nov 17 2013 13:29:42
  %ENV:
    PERL5LIB=""
    PERL5OPT=""
    PERL5_CPANPLUS_IS_RUNNING="75496"
    PERL5_CPAN_IS_RUNNING="75496"
    PERL5_CPAN_IS_RUNNING_IN_RECURSION="75475,75496"
    PERLDOC="-MPod::Perldoc::ToTextOverstrike"
    PERL_BATCH="yes"
    PERL_CPAN_REPORTER_CONFIG="/var/tmp/cpansmoker-1023/SNQwTbTIM4_config.ini"
    PERL_EXTUTILS_AUTOINSTALL="--defaultdeps"
    PERL_HTML_DISPLAY_CLASS="HTML::Display::Mozilla"
  @INC:
    /usr/perl5.16.3/lib/site_perl/5.16.3/amd64-freebsd
    /usr/perl5.16.3/lib/site_perl/5.16.3
    /usr/perl5.16.3/lib/5.16.3/amd64-freebsd
    /usr/perl5.16.3/lib/5.16.3
    .