Report for PLUTO-0.30

Back
From: metabase:user:320bfe00-2aae-11df-837a-5e0a49663a4f
Subject: PASS PLUTO-0.30 v5.23.2 GNU/Linux
Date: 2015-07-24T11:30:52Z

This distribution has been tested as part of the CPAN Testers
project, supporting the Perl programming language.  See
http://wiki.cpantesters.org/ for more information or email
questions to cpan-testers-discuss@perl.org


--
Dear Edward Kawas,

This is a computer-generated report for PLUTO-0.30
on perl 5.23.2, created by CPAN-Reporter-1.2014.

Thank you for uploading your work to CPAN.  Congratulations!
All tests were successful.

Sections of this report:

    * Tester comments
    * Program output
    * Prerequisites
    * Environment and other context

------------------------------
TESTER COMMENTS
------------------------------

Additional comments from tester:

this report is from an automated smoke testing program
and was not reviewed by a human for accuracy

------------------------------
PROGRAM OUTPUT
------------------------------

Output from '/usr/bin/make test':

PERL_DL_NONLAZY=1 "/tmp/basesmoker-reloperl-Af3r/bin/perl" "-MExtUtils::Command::MM" "-MTest::Harness" "-e" "undef *Test::Harness::Switches; test_harness(0, 'inc', 'blib/lib', 'blib/arch')" t/00_base.t t/10_nodes.t t/20_statements.t t/30_graph.t t/31_graph_memory.t t/40_parser.t t/41_parser_ntriples.t t/42_parser_xml.t t/43_parser_n3.t t/50_db.t t/60_jena.t t/61_jena_sql.t t/70_query.t t/71_query_simple.t t/72_query_rdql.t t/80_ontology.t t/81_ontology_rdfs.t t/81b_ontology_rdfs.t t/82_ontology_jena.t t/85_jena_graph_system.t
t/00_base.t ............... ok
t/10_nodes.t .............. ok
t/20_statements.t ......... ok
t/30_graph.t .............. ok
t/31_graph_memory.t ....... ok
t/40_parser.t ............. ok
t/41_parser_ntriples.t .... ok
Subroutine XML::Namespace::rdf redefined at /home/sand/src/perl/repoperls/installed-perls/perl/v5.23.1-30-g6df8187/9980/lib/site_perl/5.23.2/XML/Namespace.pm line 54.
Subroutine XML::Namespace::rdf redefined at /home/sand/src/perl/repoperls/installed-perls/perl/v5.23.1-30-g6df8187/9980/lib/site_perl/5.23.2/XML/Namespace.pm line 54.
Please download the latest approved test cases and place them in t/rdf.
See http://www.w3.org/2000/10/rdf-tests/rdfcore/latest_Approved.zip
t/42_parser_xml.t ......... ok
t/43_parser_n3.t .......... ok
t/50_db.t ................. ok
t/60_jena.t ............... ok
Unescaped left brace in regex is deprecated, passed through in regex; marked by <-- HERE in m/\${ <-- HERE a}/ at /tmp/loop_over_bdir-6419-Gpub84/PLUTO-0.30-MyG20U/blib/lib/ODO/Jena/SQL.pm line 138.
Unescaped left brace in regex is deprecated, passed through in regex; marked by <-- HERE in m/\${ <-- HERE b}/ at /tmp/loop_over_bdir-6419-Gpub84/PLUTO-0.30-MyG20U/blib/lib/ODO/Jena/SQL.pm line 138.
Unescaped left brace in regex is deprecated, passed through in regex; marked by <-- HERE in m/\${ <-- HERE c}/ at /tmp/loop_over_bdir-6419-Gpub84/PLUTO-0.30-MyG20U/blib/lib/ODO/Jena/SQL.pm line 138.
Unescaped left brace in regex is deprecated, passed through in regex; marked by <-- HERE in m/\${ <-- HERE d}/ at /tmp/loop_over_bdir-6419-Gpub84/PLUTO-0.30-MyG20U/blib/lib/ODO/Jena/SQL.pm line 138.
t/61_jena_sql.t ........... ok
t/70_query.t .............. ok
t/71_query_simple.t ....... ok
Use of uninitialized value in substr at /home/sand/src/perl/repoperls/installed-perls/perl/v5.23.1-30-g6df8187/9980/lib/site_perl/5.23.2/Class/ParamParser.pm line 353.
Subroutine XML::Namespace::rdf redefined at /home/sand/src/perl/repoperls/installed-perls/perl/v5.23.1-30-g6df8187/9980/lib/site_perl/5.23.2/XML/Namespace.pm line 54.
Subroutine XML::Namespace::rdf redefined at /home/sand/src/perl/repoperls/installed-perls/perl/v5.23.1-30-g6df8187/9980/lib/site_perl/5.23.2/XML/Namespace.pm line 54.
t/72_query_rdql.t ......... ok
t/80_ontology.t ........... ok
Subroutine XML::Namespace::rdf redefined at /home/sand/src/perl/repoperls/installed-perls/perl/v5.23.1-30-g6df8187/9980/lib/site_perl/5.23.2/XML/Namespace.pm line 54.
Subroutine XML::Namespace::rdf redefined at /home/sand/src/perl/repoperls/installed-perls/perl/v5.23.1-30-g6df8187/9980/lib/site_perl/5.23.2/XML/Namespace.pm line 54.
Subroutine XML::Namespace::rdfs redefined at /home/sand/src/perl/repoperls/installed-perls/perl/v5.23.1-30-g6df8187/9980/lib/site_perl/5.23.2/XML/Namespace.pm line 54.
Subroutine XML::Namespace::rdf redefined at /home/sand/src/perl/repoperls/installed-perls/perl/v5.23.1-30-g6df8187/9980/lib/site_perl/5.23.2/XML/Namespace.pm line 54.
Odd number of elements in hash assignment at /tmp/loop_over_bdir-6419-Gpub84/PLUTO-0.30-MyG20U/blib/lib/ODO/RDFS/Resource.pm line 24.
Odd number of elements in hash assignment at /tmp/loop_over_bdir-6419-Gpub84/PLUTO-0.30-MyG20U/blib/lib/ODO/RDFS/Class.pm line 24.
Odd number of elements in hash assignment at /tmp/loop_over_bdir-6419-Gpub84/PLUTO-0.30-MyG20U/blib/lib/ODO/RDFS/Resource.pm line 24.
Odd number of elements in hash assignment at (eval 71) line 34.
Odd number of elements in hash assignment at (eval 64) line 34.
Odd number of elements in hash assignment at (eval 113) line 34.
Odd number of elements in hash assignment at /tmp/loop_over_bdir-6419-Gpub84/PLUTO-0.30-MyG20U/blib/lib/ODO/RDFS/Container.pm line 24.
Odd number of elements in hash assignment at /tmp/loop_over_bdir-6419-Gpub84/PLUTO-0.30-MyG20U/blib/lib/ODO/RDFS/Resource.pm line 24.
Odd number of elements in hash assignment at (eval 71) line 34.
Odd number of elements in hash assignment at (eval 64) line 34.
Odd number of elements in hash assignment at (eval 113) line 34.
Odd number of elements in hash assignment at /tmp/loop_over_bdir-6419-Gpub84/PLUTO-0.30-MyG20U/blib/lib/ODO/RDFS/Container.pm line 24.
Odd number of elements in hash assignment at /tmp/loop_over_bdir-6419-Gpub84/PLUTO-0.30-MyG20U/blib/lib/ODO/RDFS/Resource.pm line 24.
t/81_ontology_rdfs.t ...... ok
Subroutine XML::Namespace::rdf redefined at /home/sand/src/perl/repoperls/installed-perls/perl/v5.23.1-30-g6df8187/9980/lib/site_perl/5.23.2/XML/Namespace.pm line 54.
Subroutine XML::Namespace::rdf redefined at /home/sand/src/perl/repoperls/installed-perls/perl/v5.23.1-30-g6df8187/9980/lib/site_perl/5.23.2/XML/Namespace.pm line 54.
Subroutine XML::Namespace::rdfs redefined at /home/sand/src/perl/repoperls/installed-perls/perl/v5.23.1-30-g6df8187/9980/lib/site_perl/5.23.2/XML/Namespace.pm line 54.
Subroutine XML::Namespace::rdf redefined at /home/sand/src/perl/repoperls/installed-perls/perl/v5.23.1-30-g6df8187/9980/lib/site_perl/5.23.2/XML/Namespace.pm line 54.
Odd number of elements in hash assignment at /tmp/loop_over_bdir-6419-Gpub84/PLUTO-0.30-MyG20U/blib/lib/ODO/RDFS/Resource.pm line 24.
Odd number of elements in hash assignment at /tmp/loop_over_bdir-6419-Gpub84/PLUTO-0.30-MyG20U/blib/lib/ODO/RDFS/Class.pm line 24.
Odd number of elements in hash assignment at /tmp/loop_over_bdir-6419-Gpub84/PLUTO-0.30-MyG20U/blib/lib/ODO/RDFS/Resource.pm line 24.
Odd number of elements in hash assignment at (eval 66) line 34.
Odd number of elements in hash assignment at (eval 59) line 34.
Odd number of elements in hash assignment at (eval 113) line 34.
Odd number of elements in hash assignment at /tmp/loop_over_bdir-6419-Gpub84/PLUTO-0.30-MyG20U/blib/lib/ODO/RDFS/Container.pm line 24.
Odd number of elements in hash assignment at /tmp/loop_over_bdir-6419-Gpub84/PLUTO-0.30-MyG20U/blib/lib/ODO/RDFS/Resource.pm line 24.
Odd number of elements in hash assignment at (eval 66) line 34.
Odd number of elements in hash assignment at (eval 59) line 34.
Odd number of elements in hash assignment at (eval 113) line 34.
Odd number of elements in hash assignment at /tmp/loop_over_bdir-6419-Gpub84/PLUTO-0.30-MyG20U/blib/lib/ODO/RDFS/Container.pm line 24.
Odd number of elements in hash assignment at /tmp/loop_over_bdir-6419-Gpub84/PLUTO-0.30-MyG20U/blib/lib/ODO/RDFS/Resource.pm line 24.
t/81b_ontology_rdfs.t ..... ok
t/82_ontology_jena.t ...... ok
t/85_jena_graph_system.t .. skipped: Ignored because of problems installing DBD::mysql
All tests successful.
Files=20, Tests=192,  3 wallclock secs ( 0.10 usr  0.10 sys +  3.10 cusr  0.42 csys =  3.72 CPU)
Result: PASS

------------------------------
PREREQUISITES
------------------------------

Prerequisite modules loaded:

requires:

    Module                    Need   Have    
    ------------------------- ------ --------
    Aspect                    0.10   1.04    
    Class::Accessor           0.25   0.34    
    Class::Base               0.02   0.06    
    Class::Interfaces         0.04   0.04    
    Class::ISA                0.32   0.36    
    Class::ParamParser        1.041  1.041   
    Digest::MD5               2.34   2.54    
    Error                     0.17   0.17024 
    Exception::Class          1.22   1.39    
    Exception::Class::DBI     0.94   1.01    
    Module::Load              0.10   0.32    
    Module::Load::Conditional 0.38   0.64    
    Params::Check             0.23   0.38    
    Parse::RecDescent         1.93   1.967009
    SQL::Library              v0.0.3 0.0.5   
    Template                  2.15   2.26    
    Time::HiRes               1.20   1.9726  
    URI                       1.35   1.68    
    XML::LibXML               1.70   2.0121  
    XML::Namespace            0.02   0.02    
    XML::RegExp               0.02   0.04    
    XML::SAX                  0.96   0.99    

build_requires:

    Module                    Need   Have    
    ------------------------- ------ --------
    ExtUtils::MakeMaker       6.42   7.04_01 

configure_requires:

    Module                    Need   Have    
    ------------------------- ------ --------
    ExtUtils::MakeMaker       6.42   7.04_01 


------------------------------
ENVIRONMENT AND OTHER CONTEXT
------------------------------

Environment variables:

    AUTOMATED_TESTING = 1
    LANG = en_US.UTF-8
    LANGUAGE = en_US:en
    PATH = /home/sand/bin:/usr/local/bin:/usr/bin:/bin:/usr/games:/usr/local/perl/bin:/usr/X11/bin:/sbin:/usr/sbin
    PERL5LIB = /tmp/loop_over_bdir-6419-Gpub84/Alien-ActiveMQ-0.00005-FoGA77/blib/arch:/tmp/loop_over_bdir-6419-Gpub84/Alien-ActiveMQ-0.00005-FoGA77/blib/lib
    PERL5OPT = 
    PERL5_CPANPLUS_IS_RUNNING = 3856
    PERL5_CPAN_IS_RUNNING = 3856
    PERL_MM_USE_DEFAULT = 1
    SHELL = /usr/bin/zsh
    TERM = screen

Perl special variables (and OS-specific diagnostics, for MSWin32):

    $^X = /tmp/basesmoker-reloperl-Af3r/bin/perl
    $UID/$EUID = 1005 / 1005
    $GID = 1005 1005
    $EGID = 1005 1005

Perl module toolchain versions installed:

    Module              Have    
    ------------------- --------
    CPAN                2.10    
    CPAN::Meta          2.150005
    Cwd                 3.56    
    ExtUtils::CBuilder  0.280223
    ExtUtils::Command   1.20    
    ExtUtils::Install   2.04    
    ExtUtils::MakeMaker 7.04_01 
    ExtUtils::Manifest  1.70    
    ExtUtils::ParseXS   3.28    
    File::Spec          3.56    
    JSON                2.90    
    JSON::PP            2.27300 
    Module::Build       0.4214  
    Module::Signature   0.79    
    Parse::CPAN::Meta   1.4417  
    Test::Harness       3.35    
    Test::More          1.001014
    YAML                1.15    
    YAML::Syck          1.29    
    version             0.9909  


--

Summary of my perl5 (revision 5 version 23 subversion 2) configuration:
  Commit id: 6df8187e5443cdbc89566d143a2e411e8ef75df0
  Platform:
    osname=linux, osvers=4.0.0-2-amd64, archname=x86_64-linux-thread-multi
    uname='linux k83 4.0.0-2-amd64 #1 smp debian 4.0.5-1 (2015-06-16) x86_64 gnulinux '
    config_args='-Dprefix=/home/sand/src/perl/repoperls/installed-perls/perl/v5.23.1-30-g6df8187/9980 -Dmyhostname=k83 -Dinstallusrbinperl=n -Uversiononly -Dusedevel -des -Ui_db -Duseithreads -Uuselongdouble -DDEBUGGING=-g'
    hint=recommended, useposix=true, d_sigaction=define
    useithreads=define, usemultiplicity=define
    use64bitint=define, use64bitall=define, uselongdouble=undef
    usemymalloc=n, bincompat5005=undef
  Compiler:
    cc='cc', ccflags ='-D_REENTRANT -D_GNU_SOURCE -fwrapv -fno-strict-aliasing -pipe -fstack-protector-strong -I/usr/local/include -D_LARGEFILE_SOURCE -D_FILE_OFFSET_BITS=64 -D_FORTIFY_SOURCE=2',
    optimize='-O2 -g',
    cppflags='-D_REENTRANT -D_GNU_SOURCE -fwrapv -fno-strict-aliasing -pipe -fstack-protector-strong -I/usr/local/include'
    ccversion='', gccversion='4.9.2', gccosandvers=''
    intsize=4, longsize=8, ptrsize=8, doublesize=8, byteorder=12345678, doublekind=3
    d_longlong=define, longlongsize=8, d_longdbl=define, longdblsize=16, longdblkind=3
    ivtype='long', ivsize=8, nvtype='double', nvsize=8, Off_t='off_t', lseeksize=8
    alignbytes=8, prototype=define
  Linker and Libraries:
    ld='cc', ldflags =' -fstack-protector-strong -L/usr/local/lib'
    libpth=/usr/local/lib /usr/lib/gcc/x86_64-linux-gnu/4.9/include-fixed /usr/include/x86_64-linux-gnu /usr/lib /lib/x86_64-linux-gnu /lib/../lib /usr/lib/x86_64-linux-gnu /usr/lib/../lib /lib
    libs=-lpthread -lnsl -lgdbm -ldb -ldl -lm -lcrypt -lutil -lc -lgdbm_compat
    perllibs=-lpthread -lnsl -ldl -lm -lcrypt -lutil -lc
    libc=libc-2.19.so, so=so, useshrplib=false, libperl=libperl.a
    gnulibc_version='2.19'
  Dynamic Linking:
    dlsrc=dl_dlopen.xs, dlext=so, d_dlsymun=undef, ccdlflags='-Wl,-E'
    cccdlflags='-fPIC', lddlflags='-shared -O2 -g -L/usr/local/lib -fstack-protector-strong'


Characteristics of this binary (from libperl): 
  Compile-time options: HAS_TIMES MULTIPLICITY PERLIO_LAYERS
                        PERL_COPY_ON_WRITE PERL_DONT_CREATE_GVSV
                        PERL_HASH_FUNC_ONE_AT_A_TIME_HARD
                        PERL_IMPLICIT_CONTEXT PERL_MALLOC_WRAP
                        PERL_PRESERVE_IVUV PERL_USE_DEVEL USE_64_BIT_ALL
                        USE_64_BIT_INT USE_ITHREADS USE_LARGE_FILES
                        USE_LOCALE USE_LOCALE_COLLATE USE_LOCALE_CTYPE
                        USE_LOCALE_NUMERIC USE_LOCALE_TIME USE_PERLIO
                        USE_PERL_ATOF USE_REENTRANT_API
  Built under linux
  Compiled at Jul 23 2015 16:14:32
  %ENV:
    PERL5LIB="/tmp/loop_over_bdir-6419-Gpub84/Alien-ActiveMQ-0.00005-FoGA77/blib/arch:/tmp/loop_over_bdir-6419-Gpub84/Alien-ActiveMQ-0.00005-FoGA77/blib/lib"
    PERL5OPT=""
    PERL5_CPANPLUS_IS_RUNNING="3856"
    PERL5_CPAN_IS_RUNNING="3856"
    PERL_MM_USE_DEFAULT="1"
  @INC:
    /tmp/loop_over_bdir-6419-Gpub84/Alien-ActiveMQ-0.00005-FoGA77/blib/arch
    /tmp/loop_over_bdir-6419-Gpub84/Alien-ActiveMQ-0.00005-FoGA77/blib/lib
    /home/sand/src/perl/repoperls/installed-perls/perl/v5.23.1-30-g6df8187/9980/lib/site_perl/5.23.2/x86_64-linux-thread-multi
    /home/sand/src/perl/repoperls/installed-perls/perl/v5.23.1-30-g6df8187/9980/lib/site_perl/5.23.2
    /home/sand/src/perl/repoperls/installed-perls/perl/v5.23.1-30-g6df8187/9980/lib/5.23.2/x86_64-linux-thread-multi
    /home/sand/src/perl/repoperls/installed-perls/perl/v5.23.1-30-g6df8187/9980/lib/5.23.2
    .