Report for Data-DPath-0.52

Back
From: metabase:user:7298ebcc-b357-11e4-8d18-8eca7e4756b9
Subject: PASS Data-DPath-0.52 v5.18.2 GNU/Linux
Date: 2015-03-05T19:33:03Z

This distribution has been tested as part of the CPAN Testers
project, supporting the Perl programming language.  See
http://wiki.cpantesters.org/ for more information or email
questions to cpan-testers-discuss@perl.org


--
Dear SCHWIGON,

This is a computer-generated report for Data-DPath-0.52
on perl 5.18.2, created by App::cpanminus::reporter 0.12 (1.7027).

Thank you for uploading your work to CPAN.  Congratulations!
All tests were successful.

Sections of this report:

    * Tester comments
    * Program output
    * Prerequisites
    * Environment and other context

------------------------------
TESTER COMMENTS
------------------------------

Additional comments from tester:

none provided

------------------------------
PROGRAM OUTPUT
------------------------------

Output from '':

Building and testing Data-DPath-0.52
cp lib/Data/DPath/Point.pm blib/lib/Data/DPath/Point.pm
cp lib/Data/DPath/Filters.pm blib/lib/Data/DPath/Filters.pm
cp lib/Data/DPath.pm blib/lib/Data/DPath.pm
cp lib/Data/DPath/Context.pm blib/lib/Data/DPath/Context.pm
cp lib/Data/DPath/Step.pm blib/lib/Data/DPath/Step.pm
cp lib/Data/DPath/Path.pm blib/lib/Data/DPath/Path.pm
cp lib/Data/DPath/Attrs.pm blib/lib/Data/DPath/Attrs.pm
Manifying blib/man3/Data::DPath::Step.3
Manifying blib/man3/Data::DPath::Filters.3
Manifying blib/man3/Data::DPath::Context.3
Manifying blib/man3/Data::DPath::Point.3
Manifying blib/man3/Data::DPath.3
Manifying blib/man3/Data::DPath::Path.3
Manifying blib/man3/Data::DPath::Attrs.3
PERL_DL_NONLAZY=1 /home/mojolicious/perl5/perlbrew/perls/perl-5.18.2/bin/perl "-MExtUtils::Command::MM" "-e" "test_harness(0, 'blib/lib', 'blib/arch')" t/*.t
t/00-load.t .................. ok
t/basics_without_overload.t .. ok
t/cyclic_structures.t ........ ok
Smartmatch is experimental at t/data_dpath.t line 236.
Smartmatch is experimental at t/data_dpath.t line 237.
Smartmatch is experimental at t/data_dpath.t line 238.
Smartmatch is experimental at t/data_dpath.t line 245.
Smartmatch is experimental at t/data_dpath.t line 246.
Smartmatch is experimental at t/data_dpath.t line 247.
Smartmatch is experimental at t/data_dpath.t line 248.
Smartmatch is experimental at t/data_dpath.t line 267.
Smartmatch is experimental at t/data_dpath.t line 270.
Smartmatch is experimental at t/data_dpath.t line 273.
Smartmatch is experimental at t/data_dpath.t line 276.
Smartmatch is experimental at t/data_dpath.t line 279.
Smartmatch is experimental at t/data_dpath.t line 285.
Smartmatch is experimental at t/data_dpath.t line 288.
Smartmatch is experimental at t/data_dpath.t line 291.
Smartmatch is experimental at t/data_dpath.t line 293.
Smartmatch is experimental at t/data_dpath.t line 296.
Smartmatch is experimental at t/data_dpath.t line 302.
Smartmatch is experimental at t/data_dpath.t line 312.
Smartmatch is experimental at t/data_dpath.t line 320.
Smartmatch is experimental at t/data_dpath.t line 323.
Smartmatch is experimental at t/data_dpath.t line 331.
Smartmatch is experimental at t/data_dpath.t line 336.
Smartmatch is experimental at t/data_dpath.t line 343.
Smartmatch is experimental at t/data_dpath.t line 352.
Smartmatch is experimental at t/data_dpath.t line 360.
Smartmatch is experimental at t/data_dpath.t line 362.
Smartmatch is experimental at t/data_dpath.t line 365.
Smartmatch is experimental at t/data_dpath.t line 367.
Smartmatch is experimental at t/data_dpath.t line 370.
Smartmatch is experimental at t/data_dpath.t line 373.
Smartmatch is experimental at t/data_dpath.t line 374.
Smartmatch is experimental at t/data_dpath.t line 377.
Smartmatch is experimental at t/data_dpath.t line 380.
Smartmatch is experimental at t/data_dpath.t line 383.
Smartmatch is experimental at t/data_dpath.t line 386.
Smartmatch is experimental at t/data_dpath.t line 395.
Smartmatch is experimental at t/data_dpath.t line 398.
Smartmatch is experimental at t/data_dpath.t line 408.
Smartmatch is experimental at t/data_dpath.t line 417.
Smartmatch is experimental at t/data_dpath.t line 422.
Smartmatch is experimental at t/data_dpath.t line 429.
Smartmatch is experimental at t/data_dpath.t line 435.
Smartmatch is experimental at t/data_dpath.t line 437.
Smartmatch is experimental at t/data_dpath.t line 440.
Smartmatch is experimental at t/data_dpath.t line 442.
Smartmatch is experimental at t/data_dpath.t line 445.
Smartmatch is experimental at t/data_dpath.t line 447.
Smartmatch is experimental at t/data_dpath.t line 450.
Smartmatch is experimental at t/data_dpath.t line 452.
Smartmatch is experimental at t/data_dpath.t line 455.
Smartmatch is experimental at t/data_dpath.t line 457.
Smartmatch is experimental at t/data_dpath.t line 460.
Smartmatch is experimental at t/data_dpath.t line 462.
Smartmatch is experimental at t/data_dpath.t line 465.
Smartmatch is experimental at t/data_dpath.t line 468.
Smartmatch is experimental at t/data_dpath.t line 472.
Smartmatch is experimental at t/data_dpath.t line 476.
Smartmatch is experimental at t/data_dpath.t line 479.
Smartmatch is experimental at t/data_dpath.t line 483.
Smartmatch is experimental at t/data_dpath.t line 497.
Smartmatch is experimental at t/data_dpath.t line 500.
Smartmatch is experimental at t/data_dpath.t line 503.
Smartmatch is experimental at t/data_dpath.t line 513.
Smartmatch is experimental at t/data_dpath.t line 516.
Smartmatch is experimental at t/data_dpath.t line 519.
Smartmatch is experimental at t/data_dpath.t line 523.
Smartmatch is experimental at t/data_dpath.t line 527.
Smartmatch is experimental at t/data_dpath.t line 529.
Smartmatch is experimental at t/data_dpath.t line 531.
Smartmatch is experimental at t/data_dpath.t line 533.
Smartmatch is experimental at t/data_dpath.t line 535.
Smartmatch is experimental at t/data_dpath.t line 537.
Smartmatch is experimental at t/data_dpath.t line 581.
Smartmatch is experimental at t/data_dpath.t line 584.
Smartmatch is experimental at t/data_dpath.t line 587.
Smartmatch is experimental at t/data_dpath.t line 592.
Smartmatch is experimental at t/data_dpath.t line 596.
Smartmatch is experimental at t/data_dpath.t line 599.
Smartmatch is experimental at t/data_dpath.t line 602.
Smartmatch is experimental at t/data_dpath.t line 605.
Smartmatch is experimental at t/data_dpath.t line 608.
Smartmatch is experimental at t/data_dpath.t line 613.
Smartmatch is experimental at t/data_dpath.t line 617.
Smartmatch is experimental at t/data_dpath.t line 621.
Smartmatch is experimental at t/data_dpath.t line 625.
Smartmatch is experimental at t/data_dpath.t line 629.
Smartmatch is experimental at t/data_dpath.t line 633.
Smartmatch is experimental at t/data_dpath.t line 637.
Smartmatch is experimental at t/data_dpath.t line 641.
Smartmatch is experimental at t/data_dpath.t line 645.
Smartmatch is experimental at t/data_dpath.t line 649.
Smartmatch is experimental at t/data_dpath.t line 653.
Smartmatch is experimental at t/data_dpath.t line 657.
Smartmatch is experimental at t/data_dpath.t line 661.
Smartmatch is experimental at t/data_dpath.t line 665.
Smartmatch is experimental at t/data_dpath.t line 669.
Smartmatch is experimental at t/data_dpath.t line 673.
Smartmatch is experimental at t/data_dpath.t line 677.
Smartmatch is experimental at t/data_dpath.t line 681.
Smartmatch is experimental at t/data_dpath.t line 685.
Smartmatch is experimental at t/data_dpath.t line 689.
Smartmatch is experimental at t/data_dpath.t line 693.
Smartmatch is experimental at t/data_dpath.t line 729.
Smartmatch is experimental at t/data_dpath.t line 732.
Smartmatch is experimental at t/data_dpath.t line 735.
Smartmatch is experimental at t/data_dpath.t line 738.
Smartmatch is experimental at t/data_dpath.t line 741.
Smartmatch is experimental at t/data_dpath.t line 747.
Smartmatch is experimental at t/data_dpath.t line 751.
Smartmatch is experimental at t/data_dpath.t line 757.
Smartmatch is experimental at t/data_dpath.t line 760.
Smartmatch is experimental at t/data_dpath.t line 764.
Smartmatch is experimental at t/data_dpath.t line 771.
Smartmatch is experimental at t/data_dpath.t line 778.
Smartmatch is experimental at t/data_dpath.t line 785.
Smartmatch is experimental at t/data_dpath.t line 790.
Smartmatch is experimental at t/data_dpath.t line 795.
Smartmatch is experimental at t/data_dpath.t line 802.
Smartmatch is experimental at t/data_dpath.t line 810.
Smartmatch is experimental at t/data_dpath.t line 818.
Smartmatch is experimental at t/data_dpath.t line 826.
Smartmatch is experimental at t/data_dpath.t line 829.
Smartmatch is experimental at t/data_dpath.t line 836.
Smartmatch is experimental at t/data_dpath.t line 842.
Smartmatch is experimental at t/data_dpath.t line 847.
Smartmatch is experimental at t/data_dpath.t line 865.
Smartmatch is experimental at t/data_dpath.t line 874.
Smartmatch is experimental at t/data_dpath.t line 877.
Smartmatch is experimental at t/data_dpath.t line 880.
Smartmatch is experimental at t/data_dpath.t line 883.
Smartmatch is experimental at t/data_dpath.t line 904.
Smartmatch is experimental at t/data_dpath.t line 907.
Smartmatch is experimental at t/data_dpath.t line 912.
Smartmatch is experimental at t/data_dpath.t line 915.
Smartmatch is experimental at t/data_dpath.t line 918.
Smartmatch is experimental at t/data_dpath.t line 925.
Smartmatch is experimental at t/data_dpath.t line 943.
Smartmatch is experimental at t/data_dpath.t line 997.
Smartmatch is experimental at t/data_dpath.t line 1006.
Smartmatch is experimental at (eval 233) line 1.
Smartmatch is experimental at (eval 235) line 1.
Smartmatch is experimental at (eval 249) line 1.
Smartmatch is experimental at (eval 251) line 1.
Smartmatch is experimental at (eval 253) line 1.
Smartmatch is experimental at (eval 255) line 1.
Smartmatch is experimental at (eval 257) line 1.
Smartmatch is experimental at (eval 259) line 1.
Smartmatch is experimental at (eval 261) line 1.
Smartmatch is experimental at (eval 263) line 1.
Smartmatch is experimental at (eval 265) line 1.
Smartmatch is experimental at (eval 267) line 1.
Smartmatch is experimental at (eval 269) line 1.
Smartmatch is experimental at (eval 271) line 1.
Smartmatch is experimental at (eval 297) line 1.
Smartmatch is experimental at (eval 299) line 1.
Smartmatch is experimental at (eval 301) line 1.
Smartmatch is experimental at (eval 303) line 1.
Smartmatch is experimental at (eval 305) line 1.
Smartmatch is experimental at (eval 307) line 1.
Smartmatch is experimental at (eval 309) line 1.
Smartmatch is experimental at (eval 311) line 1.
Smartmatch is experimental at (eval 313) line 1.
Smartmatch is experimental at (eval 315) line 1.
Smartmatch is experimental at (eval 317) line 1.
Smartmatch is experimental at (eval 319) line 1.
Smartmatch is experimental at (eval 519) line 1.
Smartmatch is experimental at (eval 521) line 1.
Smartmatch is experimental at (eval 523) line 1.
Smartmatch is experimental at (eval 525) line 1.
Smartmatch is experimental at (eval 527) line 1.
Smartmatch is experimental at (eval 529) line 1.
Smartmatch is experimental at (eval 531) line 1.
Smartmatch is experimental at (eval 533) line 1.
Smartmatch is experimental at (eval 535) line 1.
Smartmatch is experimental at (eval 537) line 1.
Smartmatch is experimental at (eval 539) line 1.
Smartmatch is experimental at (eval 541) line 1.
Smartmatch is experimental at (eval 543) line 1.
Smartmatch is experimental at (eval 545) line 1.
Smartmatch is experimental at (eval 547) line 1.
Smartmatch is experimental at (eval 549) line 1.
Smartmatch is experimental at (eval 551) line 1.
Smartmatch is experimental at (eval 553) line 1.
Smartmatch is experimental at (eval 555) line 1.
Smartmatch is experimental at (eval 557) line 1.
t/data_dpath.t ............... ok
t/iterator.t ................. ok
Smartmatch is experimental at t/optimization.t line 36.
Smartmatch is experimental at t/optimization.t line 39.
Smartmatch is experimental at t/optimization.t line 70.
Smartmatch is experimental at t/optimization.t line 73.
t/optimization.t ............. ok
t/parallel.t ................. ok
t/path.t ..................... ok
t/references.t ............... ok
Smartmatch is experimental at t/regressions.t line 30.
Smartmatch is experimental at t/regressions.t line 38.
Smartmatch is experimental at t/regressions.t line 46.
Smartmatch is experimental at t/regressions.t line 50.
t/regressions.t .............. ok
t/release-eol.t .............. skipped: these tests are for release candidate testing
t/release-no-tabs.t .......... skipped: these tests are for release candidate testing
t/release-pod-coverage.t ..... skipped: these tests are for release candidate testing
t/release-pod-syntax.t ....... skipped: these tests are for release candidate testing
Smartmatch is experimental at t/zeros.t line 42.
Smartmatch is experimental at t/zeros.t line 45.
Smartmatch is experimental at t/zeros.t line 48.
Smartmatch is experimental at t/zeros.t line 51.
Smartmatch is experimental at t/zeros.t line 54.
Smartmatch is experimental at t/zeros.t line 57.
Smartmatch is experimental at t/zeros.t line 60.
Smartmatch is experimental at t/zeros.t line 63.
Smartmatch is experimental at t/zeros.t line 66.
t/zeros.t .................... ok
All tests successful.
Files=15, Tests=472,  2 wallclock secs ( 0.12 usr  0.02 sys +  2.00 cusr  0.15 csys =  2.29 CPU)
Result: PASS

------------------------------
PREREQUISITES
------------------------------

Prerequisite modules loaded:

runtime:

    Module                   Need  Have    
    ------------------------ ----- --------
  ! aliased                  0.33  n/a     
  ! Class::XSAccessor        0     n/a     
  ! Class::XSAccessor::Array 0     n/a     
    constant                 0     1.27    
    Data::Dumper             0     2.145   
  ! Iterator::Util           0     n/a     
  ! List::MoreUtils          0     n/a     
    List::Util               0     1.27    
    perl                     5.008 5.018002
    POSIX                    0     1.32    
    Safe                     2.30  2.35    
    Scalar::Util             0     1.27    
    strict                   0     1.07    
    Sub::Exporter            0     0.987   
    Text::Balanced           2.02  2.02    
    warnings                 0     1.18    

configure:

    Module                   Need  Have    
    ------------------------ ----- --------
    ExtUtils::MakeMaker      6.30  6.66    


------------------------------
ENVIRONMENT AND OTHER CONTEXT
------------------------------

Environment variables:

    PATH = /home/mojolicious/perl5/perlbrew/bin:/home/mojolicious/perl5/perlbrew/perls/perl-5.20.1/bin:/usr/local/bin:/usr/bin:/bin:/usr/local/games:/usr/games
    PERLBREW_BASHRC_VERSION = 0.73
    PERLBREW_HOME = /home/mojolicious/.perlbrew
    PERLBREW_MANPATH = /home/mojolicious/perl5/perlbrew/perls/perl-5.20.1/man
    PERLBREW_PATH = /home/mojolicious/perl5/perlbrew/bin:/home/mojolicious/perl5/perlbrew/perls/perl-5.20.1/bin
    PERLBREW_PERL = perl-5.20.1
    PERLBREW_ROOT = /home/mojolicious/perl5/perlbrew
    PERLBREW_VERSION = 0.73
    SHELL = /bin/bash
    TERM = xterm

Perl special variables (and OS-specific diagnostics, for MSWin32):

    EGID = 1003 1003
    EUID = 1003
    EXECUTABLE_NAME = /home/mojolicious/perl5/perlbrew/perls/perl-5.18.2/bin/perl
    GID = 1003 1003
    UID = 1003

Perl module toolchain versions installed:

    Module              Have    
    ------------------- --------
    CPAN                2.00    
    CPAN::Meta          2.120921
    Cwd                 3.40    
    ExtUtils::CBuilder  0.280210
    ExtUtils::Command   1.17    
    ExtUtils::Install   1.59    
    ExtUtils::MakeMaker 6.66    
    ExtUtils::Manifest  1.63    
    ExtUtils::ParseXS   3.18    
    File::Spec          3.40    
    JSON                2.90    
    JSON::PP            2.27202 
    Module::Build       0.4003  
    Module::Signature   n/a     
    Parse::CPAN::Meta   1.4404  
    Test::Harness       3.26    
    Test::More          1.001014
    YAML                n/a     
    YAML::Syck          n/a     
    version             0.9902  


--

Summary of my perl5 (revision 5 version 18 subversion 2) configuration:
   
  Platform:
    osname=linux, osvers=3.13.0-042stab094.8, archname=x86_64-linux
    uname='linux lvps92-51-161-142.dedicated.hosteurope.de 3.13.0-042stab094.8 #1 smp tue dec 16 20:36:56 msk 2014 x86_64 x86_64 x86_64 gnulinux '
    config_args='-de -Dprefix=/home/mojolicious/perl5/perlbrew/perls/perl-5.18.2 -Aeval:scriptdir=/home/mojolicious/perl5/perlbrew/perls/perl-5.18.2/bin'
    hint=recommended, useposix=true, d_sigaction=define
    useithreads=undef, usemultiplicity=undef
    useperlio=define, d_sfio=undef, uselargefiles=define, usesocks=undef
    use64bitint=define, use64bitall=define, uselongdouble=undef
    usemymalloc=n, bincompat5005=undef
  Compiler:
    cc='cc', ccflags ='-fno-strict-aliasing -pipe -fstack-protector -I/usr/local/include -D_LARGEFILE_SOURCE -D_FILE_OFFSET_BITS=64',
    optimize='-O2',
    cppflags='-fno-strict-aliasing -pipe -fstack-protector -I/usr/local/include'
    ccversion='', gccversion='4.8.2', gccosandvers=''
    intsize=4, longsize=8, ptrsize=8, doublesize=8, byteorder=12345678
    d_longlong=define, longlongsize=8, d_longdbl=define, longdblsize=16
    ivtype='long', ivsize=8, nvtype='double', nvsize=8, Off_t='off_t', lseeksize=8
    alignbytes=8, prototype=define
  Linker and Libraries:
    ld='cc', ldflags =' -fstack-protector -L/usr/local/lib'
    libpth=/usr/local/lib /lib/x86_64-linux-gnu /lib/../lib /usr/lib/x86_64-linux-gnu /usr/lib/../lib /lib /usr/lib
    libs=-lnsl -ldl -lm -lcrypt -lutil -lc
    perllibs=-lnsl -ldl -lm -lcrypt -lutil -lc
    libc=libc-2.19.so, so=so, useshrplib=false, libperl=libperl.a
    gnulibc_version='2.19'
  Dynamic Linking:
    dlsrc=dl_dlopen.xs, dlext=so, d_dlsymun=undef, ccdlflags='-Wl,-E'
    cccdlflags='-fPIC', lddlflags='-shared -O2 -L/usr/local/lib -fstack-protector'


Characteristics of this binary (from libperl): 
  Compile-time options: HAS_TIMES PERLIO_LAYERS PERL_DONT_CREATE_GVSV
                        PERL_HASH_FUNC_ONE_AT_A_TIME_HARD PERL_MALLOC_WRAP
                        PERL_PRESERVE_IVUV PERL_SAWAMPERSAND USE_64_BIT_ALL
                        USE_64_BIT_INT USE_LARGE_FILES USE_LOCALE
                        USE_LOCALE_COLLATE USE_LOCALE_CTYPE
                        USE_LOCALE_NUMERIC USE_PERLIO USE_PERL_ATOF
  Locally applied patches:
	Devel::PatchPerl 1.30
  Built under linux
  Compiled at Feb 14 2015 12:27:20
  %ENV:
    PERLBREW_BASHRC_VERSION="0.73"
    PERLBREW_HOME="/home/mojolicious/.perlbrew"
    PERLBREW_MANPATH="/home/mojolicious/perl5/perlbrew/perls/perl-5.20.1/man"
    PERLBREW_PATH="/home/mojolicious/perl5/perlbrew/bin:/home/mojolicious/perl5/perlbrew/perls/perl-5.20.1/bin"
    PERLBREW_PERL="perl-5.20.1"
    PERLBREW_ROOT="/home/mojolicious/perl5/perlbrew"
    PERLBREW_VERSION="0.73"
  @INC:
    /home/mojolicious/perl5/perlbrew/perls/perl-5.18.2/lib/site_perl/5.18.2/x86_64-linux
    /home/mojolicious/perl5/perlbrew/perls/perl-5.18.2/lib/site_perl/5.18.2
    /home/mojolicious/perl5/perlbrew/perls/perl-5.18.2/lib/5.18.2/x86_64-linux
    /home/mojolicious/perl5/perlbrew/perls/perl-5.18.2/lib/5.18.2
    .