App-TimeTracker v3.010 Perl 5 v5.30.3 x86_64-linux
- Status
- Pass
- From
- Slaven Rezić
- Dist
-
App-TimeTracker v3.010
- Platform
- Perl 5 v5.30.3 x86_64-linux
- Date
- 2021-09-23 21:30:15
- ID
- 710637d2-1cb5-11ec-bec3-ec521f24ea8f
This distribution has been tested as part of the CPAN Testers
project, supporting the Perl programming language. See
http://wiki.cpantesters.org/ for more information or email
questions to cpan-testers-discuss@perl.org
--
Dear Thomas Klausner,
This is a computer-generated report for App-TimeTracker-3.010
on perl 5.30.3, created by CPAN-Reporter-1.2018.
Thank you for uploading your work to CPAN. Congratulations!
All tests were successful.
Sections of this report:
* Tester comments
* Program output
* Prerequisites
* Environment and other context
------------------------------
TESTER COMMENTS
------------------------------
Additional comments from tester:
none provided
------------------------------
PROGRAM OUTPUT
------------------------------
Output from './Build test':
Unable to get Terminal Size. The TIOCGWINSZ ioctl didn't work. The COLUMNS and LINES environment variables didn't work. The resize program didn't work. The stty program didn't work. at /opt/perl-5.30.3/lib/site_perl/5.30.3/Getopt/Long/Descriptive.pm line 295.
Unable to get Terminal Size. The TIOCGWINSZ ioctl didn't work. The COLUMNS and LINES environment variables didn't work. The resize program didn't work. The stty program didn't work. at /opt/perl-5.30.3/lib/site_perl/5.30.3/Getopt/Long/Descriptive.pm line 295.
Unable to get Terminal Size. The TIOCGWINSZ ioctl didn't work. The COLUMNS and LINES environment variables didn't work. The resize program didn't work. The stty program didn't work. at /opt/perl-5.30.3/lib/site_perl/5.30.3/Getopt/Long/Descriptive.pm line 295.
Unable to get Terminal Size. The TIOCGWINSZ ioctl didn't work. The COLUMNS and LINES environment variables didn't work. The resize program didn't work. The stty program didn't work. at /opt/perl-5.30.3/lib/site_perl/5.30.3/Getopt/Long/Descriptive.pm line 295. at t/00-compile.t line 95, <GEN24> line 2.
t/00-compile.t ................... ok
t/00-load.t ...................... ok
t/Command/core.t ................. ok
# Test initial bug report
# Test de facto bug
t/Command/rt_73859_daychange.t ... ok
t/Command/rt_88867_start_help.t .. ok
t/Proto/config.t ................. ok
t/Proto/run.t .................... ok
t/Task/current.t ................. ok
t/Task/helpers.t ................. ok
t/Task/start.t ................... ok
t/Task/storage_location.t ........ ok
t/TimeTracker/datetime_coerce.t .. ok
t/TimeTracker/find_task_files.t .. ok
t/TimeTracker/helpers.t .......... ok
All tests successful.
Files=14, Tests=138, 9 wallclock secs ( 0.07 usr 0.03 sys + 7.49 cusr 0.76 csys = 8.35 CPU)
Result: PASS
------------------------------
PREREQUISITES
------------------------------
Prerequisite modules loaded:
requires:
Module Need Have
------------------------------- ----- --------
Carp 0 1.50
constant 0 1.33
Data::Dumper 0 2.174
DateTime 0 1.54
DateTime::Format::Duration 0 1.04
DateTime::Format::ISO8601 0 0.15
Exporter 0 5.74
File::Copy 0 2.34
File::Find::Rule 0 0.34
File::HomeDir 0 1.004
Hash::Merge 0 0.300
JSON::XS 0 4.02
Moose 0 2.2015
Moose::Role 0 2.2015
Moose::Util::TypeConstraints 0 2.2015
MooseX::Getopt 0 0.75
MooseX::Storage 0 0.53
MooseX::Storage::Format::JSONpm 0 0.093093
MooseX::Types::Path::Class 0 0.09
namespace::autoclean 0 0.29
parent 0 0.237
Path::Class 0 0.37
Path::Class::Iterator 0 0.07
perl 5.010 5.030003
Scalar::Util 0 1.58
Term::ANSIColor 0 5.01
Text::Table 0 1.134
Try::Tiny 0 0.30
User::pwent 0 1.01
build_requires:
Module Need Have
------------------------------- ----- --------
File::Copy::Recursive 0 0.45
File::Spec 0 3.78
File::Temp 0 0.2309
IO::Capture::Stdout 0 0
IO::Handle 0 1.42
IPC::Open3 0 1.20
lib 0 0.65
Module::Build 0.28 0.4231
Module::Pluggable 0 5.2
Test::File 0 1.443
Test::MockTime 0 0.17
Test::More 0 1.302187
Test::Most 0 0.37
Test::Trap 0 0.3.4
------------------------------
ENVIRONMENT AND OTHER CONTEXT
------------------------------
Environment variables:
LANG = en_US.UTF-8
PATH = /usr/local/bin:/usr/bin:/bin:/usr/local/sbin:/usr/sbin:/sbin:/home/cpansand/bin/linux-gnu:/home/cpansand/bin/sh:/home/cpansand/bin:/usr/games:/home/cpansand/devel:/home/eserte/src/srezic-misc/scripts
PERL5LIB = /home/cpansand/.local/share/.cpan/build/2021092321/Task-AlienDev-0.01-5/blib/arch:/home/cpansand/.local/share/.cpan/build/2021092321/Task-AlienDev-0.01-5/blib/lib:/home/cpansand/.local/share/.cpan/build/2021092321/Dist-Zilla-Plugin-AlienBuild-0.32-5/blib/arch:/home/cpansand/.local/share/.cpan/build/2021092321/Dist-Zilla-Plugin-AlienBuild-0.32-5/blib/lib:/home/cpansand/.local/share/.cpan/build/2021092321/App-af-0.17-5/blib/arch:/home/cpansand/.local/share/.cpan/build/2021092321/App-af-0.17-5/blib/lib:/home/cpansand/.local/share/.cpan/build/2021092321/Shell-Perl-0.004-5/blib/arch:/home/cpansand/.local/share/.cpan/build/2021092321/Shell-Perl-0.004-5/blib/lib:/home/cpansand/.local/share/.cpan/build/2021092321/Alien-Build-2.41-4/blib/arch:/home/cpansand/.local/share/.cpan/build/2021092321/Alien-Build-2.41-4/blib/lib
PERL5OPT =
PERL5_CPANPLUS_IS_RUNNING = 747843
PERL5_CPAN_IS_RUNNING = 747843
PERL5_CPAN_IS_RUNNING_IN_RECURSION = 738269,747843
PERLDOC = -MPod::Perldoc::ToTextOverstrike
PERL_BATCH = yes
PERL_CANARY_STABILITY_NOPROMPT = 1
PERL_CPAN_REPORTER_CONFIG = /var/tmp/cpansmoker-1023/2021092321/cpanreporter_000_config.ini
PERL_EXTUTILS_AUTOINSTALL = --defaultdeps
PERL_USE_UNSAFE_INC = 1
SHELL = /usr/bin/zsh
TERM = screen
TMPDIR = /var/tmp/cpansmoker-1023/2021092321
Perl special variables (and OS-specific diagnostics, for MSWin32):
$^X = /opt/perl-5.30.3/bin/perl
$UID/$EUID = 1023 / 1023
$GID = 1023 1023
$EGID = 1023 1023
Perl module toolchain versions installed:
Module Have
------------------- --------
CPAN 2.22
CPAN::Meta 2.150010
Cwd 3.78
ExtUtils::CBuilder 0.280231
ExtUtils::Command 7.62
ExtUtils::Install 2.20
ExtUtils::MakeMaker 7.62
ExtUtils::Manifest 1.73
ExtUtils::ParseXS 3.40
File::Spec 3.78
JSON 4.03
JSON::PP 4.06
Module::Build 0.4231
Module::Signature 0.83
Parse::CPAN::Meta 2.150010
Test::Harness 3.42
Test::More 1.302187
YAML 1.30
YAML::Syck 1.33
version 0.9929
--
Summary of my perl5 (revision 5 version 30 subversion 3) configuration:
Platform:
osname=linux
osvers=5.4.0-33-generic
archname=x86_64-linux
uname='linux cloud8.bbbike.org 5.4.0-33-generic #37-ubuntu smp thu may 21 12:53:59 utc 2020 x86_64 x86_64 x86_64 gnulinux '
config_args='-ds -e -Dprefix=/opt/perl-5.30.3 -Dcf_email=srezic@cpan.org'
hint=recommended
useposix=true
d_sigaction=define
useithreads=undef
usemultiplicity=undef
use64bitint=define
use64bitall=define
uselongdouble=undef
usemymalloc=n
default_inc_excludes_dot=define
bincompat5005=undef
Compiler:
cc='cc'
ccflags ='-fwrapv -fno-strict-aliasing -pipe -fstack-protector-strong -I/usr/local/include -D_LARGEFILE_SOURCE -D_FILE_OFFSET_BITS=64'
optimize='-O2'
cppflags='-fwrapv -fno-strict-aliasing -pipe -fstack-protector-strong -I/usr/local/include'
ccversion=''
gccversion='9.3.0'
gccosandvers=''
intsize=4
longsize=8
ptrsize=8
doublesize=8
byteorder=12345678
doublekind=3
d_longlong=define
longlongsize=8
d_longdbl=define
longdblsize=16
longdblkind=3
ivtype='long'
ivsize=8
nvtype='double'
nvsize=8
Off_t='off_t'
lseeksize=8
alignbytes=8
prototype=define
Linker and Libraries:
ld='cc'
ldflags =' -fstack-protector-strong -L/usr/local/lib'
libpth=/usr/local/lib /usr/include/x86_64-linux-gnu /usr/lib /lib/x86_64-linux-gnu /lib/../lib /usr/lib/x86_64-linux-gnu /usr/lib/../lib /lib
libs=-lpthread -lnsl -lgdbm -ldb -ldl -lm -lcrypt -lutil -lc
perllibs=-lpthread -lnsl -ldl -lm -lcrypt -lutil -lc
libc=libc-2.31.so
so=so
useshrplib=false
libperl=libperl.a
gnulibc_version='2.31'
Dynamic Linking:
dlsrc=dl_dlopen.xs
dlext=so
d_dlsymun=undef
ccdlflags='-Wl,-E'
cccdlflags='-fPIC'
lddlflags='-shared -O2 -L/usr/local/lib -fstack-protector-strong'
Characteristics of this binary (from libperl):
Compile-time options:
HAS_TIMES
PERLIO_LAYERS
PERL_COPY_ON_WRITE
PERL_DONT_CREATE_GVSV
PERL_MALLOC_WRAP
PERL_OP_PARENT
PERL_PRESERVE_IVUV
USE_64_BIT_ALL
USE_64_BIT_INT
USE_LARGE_FILES
USE_LOCALE
USE_LOCALE_COLLATE
USE_LOCALE_CTYPE
USE_LOCALE_NUMERIC
USE_LOCALE_TIME
USE_PERLIO
USE_PERL_ATOF
Locally applied patches:
Devel::PatchPerl 1.86
Built under linux
Compiled at Jun 1 2020 22:01:28
%ENV:
PERL5LIB="/home/cpansand/.local/share/.cpan/build/2021092321/Task-AlienDev-0.01-5/blib/arch:/home/cpansand/.local/share/.cpan/build/2021092321/Task-AlienDev-0.01-5/blib/lib:/home/cpansand/.local/share/.cpan/build/2021092321/Dist-Zilla-Plugin-AlienBuild-0.32-5/blib/arch:/home/cpansand/.local/share/.cpan/build/2021092321/Dist-Zilla-Plugin-AlienBuild-0.32-5/blib/lib:/home/cpansand/.local/share/.cpan/build/2021092321/App-af-0.17-5/blib/arch:/home/cpansand/.local/share/.cpan/build/2021092321/App-af-0.17-5/blib/lib:/home/cpansand/.local/share/.cpan/build/2021092321/Shell-Perl-0.004-5/blib/arch:/home/cpansand/.local/share/.cpan/build/2021092321/Shell-Perl-0.004-5/blib/lib:/home/cpansand/.local/share/.cpan/build/2021092321/Alien-Build-2.41-4/blib/arch:/home/cpansand/.local/share/.cpan/build/2021092321/Alien-Build-2.41-4/blib/lib"
PERL5OPT=""
PERL5_CPANPLUS_IS_RUNNING="747843"
PERL5_CPAN_IS_RUNNING="747843"
PERL5_CPAN_IS_RUNNING_IN_RECURSION="738269,747843"
PERLDOC="-MPod::Perldoc::ToTextOverstrike"
PERL_BATCH="yes"
PERL_CANARY_STABILITY_NOPROMPT="1"
PERL_CPAN_REPORTER_CONFIG="/var/tmp/cpansmoker-1023/2021092321/cpanreporter_000_config.ini"
PERL_EXTUTILS_AUTOINSTALL="--defaultdeps"
PERL_USE_UNSAFE_INC="1"
@INC:
/home/cpansand/.local/share/.cpan/build/2021092321/Task-AlienDev-0.01-5/blib/arch
/home/cpansand/.local/share/.cpan/build/2021092321/Task-AlienDev-0.01-5/blib/lib
/home/cpansand/.local/share/.cpan/build/2021092321/Dist-Zilla-Plugin-AlienBuild-0.32-5/blib/arch
/home/cpansand/.local/share/.cpan/build/2021092321/Dist-Zilla-Plugin-AlienBuild-0.32-5/blib/lib
/home/cpansand/.local/share/.cpan/build/2021092321/App-af-0.17-5/blib/arch
/home/cpansand/.local/share/.cpan/build/2021092321/App-af-0.17-5/blib/lib
/home/cpansand/.local/share/.cpan/build/2021092321/Shell-Perl-0.004-5/blib/arch
/home/cpansand/.local/share/.cpan/build/2021092321/Shell-Perl-0.004-5/blib/lib
/home/cpansand/.local/share/.cpan/build/2021092321/Alien-Build-2.41-4/blib/arch
/home/cpansand/.local/share/.cpan/build/2021092321/Alien-Build-2.41-4/blib/lib
/opt/perl-5.30.3/lib/site_perl/5.30.3/x86_64-linux
/opt/perl-5.30.3/lib/site_perl/5.30.3
/opt/perl-5.30.3/lib/5.30.3/x86_64-linux
/opt/perl-5.30.3/lib/5.30.3
.