Dezi-App v0.016 Perl 5 v5.31.11 x86_64-linux-ld

Status
Pass
From
Andreas J. König (ANDK)
Dist
Dezi-App v0.016
Platform
Perl 5 v5.31.11 x86_64-linux-ld
Date
2020-05-01 21:33:47
ID
71108326-8bf3-11ea-aa97-2d0ad96ec9d5
This distribution has been tested as part of the CPAN Testers
project, supporting the Perl programming language.  See
http://wiki.cpantesters.org/ for more information or email
questions to cpan-testers-discuss@perl.org


--
Dear Peter Karman,

This is a computer-generated report for Dezi-App-0.016
on perl 5.31.11, created by CPAN-Reporter-1.2018.

Thank you for uploading your work to CPAN.  Congratulations!
All tests were successful.

Sections of this report:

    * Tester comments
    * Program output
    * Prerequisites
    * Environment and other context

------------------------------
TESTER COMMENTS
------------------------------

Additional comments from tester:

this report is from an automated smoke testing program
and was not reviewed by a human for accuracy

------------------------------
PROGRAM OUTPUT
------------------------------

Output from '/usr/bin/make test':

PERL_DL_NONLAZY=1 "/tmp/basesmoker-reloperl-bQ4m/bin/perl" "-MExtUtils::Command::MM" "-MTest::Harness" "-e" "undef *Test::Harness::Switches; test_harness(0, 'blib/lib', 'blib/arch')" t/*.t t/lucy/*.t
# Testing Dezi::App 0.016
# Lucy 0.006002
# SWISH::3 1.000015, libswish3 version 1.0.2480a0b libxml2 version 2.9.4
# Perl 5.031011, /tmp/basesmoker-reloperl-bQ4m/bin/perl
t/000-load.t .......................... ok
# testing Dezi::App version 0.016
# doc filter on t/test.xml
# doc filter on t/test-gz.xml
# doc filter on t/test2.html
# doc filter on t/test-gz.html
# doc filter on t/test.html
# doc filter on t/test.pdf
# doc filter on t/test.pdf
t/000-synopsis.t ...................... ok
t/001-fs.t ............................ ok
# Checking on Mail::Box
# Checking on Dezi::Aggregator::Mail
t/002-mail.t .......................... ok
# set TEST_SPIDER env var to test the spider
t/003-spider.t ........................ ok
t/004-indexer-config.t ................ ok
# { Format => "Test", Locale => "en_US.UTF-8", Name => "index.swish" }
t/005-invindex-header.t ............... ok
# converting t/config2/example6.config
# converting t/config2/example3.config
# converting t/config2/example5.config
# converting t/config2/example2.config
# converting t/config2/example8.config
# converting t/config2/example1.config
# converting t/config2/example4.config
# converting t/config2/example9.config
# converting t/config2/complex.conf
# converting t/config2/example7.config
t/006-indexer-config.t ................ ok
t/007-leak-test.t ..................... ok
# Checking on Mail::Box
# Checking on Dezi::Aggregator::MailFS
# t/mailfs/somedir/cur/1201404060.V802I5f9e4M893922.louvin.peknet.com:2,
t/008-mail-fs.t ....................... ok
# t/test.xml
# t/test-gz.html
# t/test.html
# t/test2.html
# t/test-gz.xml
t/009-searcher.t ...................... ok
Overriding invindex->path 'dezi.index' with IndexFile value from config 'foo/bar'
t/010-invindex-config.t ............... ok
t/011-replace-rules.t ................. ok
# Checking on Dezi::Aggregator::Spider
Can't locate XML/Feed.pm in @INC (you may need to install the XML::Feed module) (@INC contains: /tmp/loop_over_bdir-16068-b0KmBX/Dezi-App-0.016-0/blib/lib /tmp/loop_over_bdir-16068-b0KmBX/Dezi-App-0.016-0/blib/arch /tmp/loop_over_bdir-16068-b0KmBX/DBIx-Migration-Directories-0.12-0/blib/arch /tmp/loop_over_bdir-16068-b0KmBX/DBIx-Migration-Directories-0.12-0/blib/lib /tmp/loop_over_bdir-16068-b0KmBX/Debian-Packages-0.03-0/blib/arch /tmp/loop_over_bdir-16068-b0KmBX/Debian-Packages-0.03-0/blib/lib /tmp/loop_over_bdir-16068-b0KmBX/Dpkg-1.20.0-0/blib/arch /tmp/loop_over_bdir-16068-b0KmBX/Dpkg-1.20.0-0/blib/lib /tmp/loop_over_bdir-16068-b0KmBX/DBIx-Migration-Directories-0.12-0/blib/arch /tmp/loop_over_bdir-16068-b0KmBX/DBIx-Migration-Directories-0.12-0/blib/lib /tmp/loop_over_bdir-16068-b0KmBX/Debian-Packages-0.03-0/blib/arch /tmp/loop_over_bdir-16068-b0KmBX/Debian-Packages-0.03-0/blib/lib /tmp/loop_over_bdir-16068-b0KmBX/Dpkg-1.20.0-0/blib/arch /tmp/loop_over_bdir-16068-b0KmBX/Dpkg-1.20.0-0/blib/lib /home/sand/src/perl/repoperls/installed-perls/host/k93bionic/v5.31.11/ca05/lib/site_perl/5.31.11/x86_64-linux-ld /home/sand/src/perl/repoperls/installed-perls/host/k93bionic/v5.31.11/ca05/lib/site_perl/5.31.11 /home/sand/src/perl/repoperls/installed-perls/host/k93bionic/v5.31.11/ca05/lib/5.31.11/x86_64-linux-ld /home/sand/src/perl/repoperls/installed-perls/host/k93bionic/v5.31.11/ca05/lib/5.31.11 .) at /tmp/loop_over_bdir-16068-b0KmBX/Dezi-App-0.016-0/blib/lib/Dezi/Aggregator/Spider.pm line 15.
BEGIN failed--compilation aborted at /tmp/loop_over_bdir-16068-b0KmBX/Dezi-App-0.016-0/blib/lib/Dezi/Aggregator/Spider.pm line 15.
Compilation failed in require at t/012-spider-server.t line 23.
	main::try {...} () called at /home/sand/src/perl/repoperls/installed-perls/host/k93bionic/v5.31.11/ca05/lib/site_perl/5.31.11/Try/Tiny.pm line 100
	eval {...} called at /home/sand/src/perl/repoperls/installed-perls/host/k93bionic/v5.31.11/ca05/lib/site_perl/5.31.11/Try/Tiny.pm line 93
	Try::Tiny::try(CODE(0x55b0ec7c3280), Try::Tiny::Catch=REF(0x55b0ecfa52f0)) called at t/012-spider-server.t line 33
# ----------------------------------------
# Do you need to install XML::Feed ?
# ----------------------------------------
t/012-spider-server.t ................. ok
t/013-utils.t ......................... ok
t/014-logging.t ....................... ok
# Checking on Dezi::Aggregator::DBI
# Checking on DBI
# Checking on Rose::DBx::TestDB
# 1
t/015-dbi.t ........................... ok
# Testing Dezi::Lucy 0.016 Lucy 0.006002 , Perl 5.031011, /tmp/basesmoker-reloperl-bQ4m/bin/perl
t/lucy/000-load.t ..................... ok
# 16
# result2: ["doc"]
# result3: ["swishdefault"]
# result3: ["doc"]
# t/lucy/test.html
# t/lucy/test.xml
# t/lucy/test.xml
# t/lucy/test.html
t/lucy/001-fs.t ....................... ok
t/lucy/002-leak-trace.t ............... ok
# pass 1
# pass 2
# pass 3
t/lucy/003-update-index.t ............. ok
t/lucy/004-auto-reconnect-searcher.t .. ok
t/lucy/005-stemmer.t .................. ok
t/lucy/006-fields.t ................... ok
t/pod-coverage.t ...................... skipped: set RELEASE_TESTING to test POD
t/pod.t ............................... skipped: set RELEASE_TESTING to test POD
All tests successful.
Files=26, Tests=388, 14 wallclock secs ( 0.12 usr  0.14 sys + 11.94 cusr  1.99 csys = 14.19 CPU)
Result: PASS

------------------------------
PREREQUISITES
------------------------------

Prerequisite modules loaded:

requires:

    Module                       Need     Have    
    ---------------------------- -------- --------
    Carp                         0        1.50    
    Class::Load                  0        0.25    
    Config::General              2.31     2.63    
    Data::Dump                   0        1.23    
    DateTime::Format::DateParse  0        0.05    
    Digest::MD5                  0        2.55_01 
    File::Basename               0        2.85    
    File::Rules                  0.02     0.02    
    File::Spec                   0        3.78    
    File::Temp                   0        0.2309  
    HTTP::Date                   0        6.05    
    Lucy                         0.006002 0.006002
    Moose                        0        2.2012  
    MooseX::Getopt               0        0.74    
    MooseX::StrictConstructor    0        0.21    
    MooseX::Types::DateTime      0        0.13    
    MooseX::Types::Path::Class   0        0.09    
    MooseX::XSAccessor           0        0.009   
    namespace::autoclean         0        0.29    
    Path::Class                  0.32     0.37    
    Path::Class::File::Lockable  0        0.03    
    Path::Class::File::Stat      0.05     0.05    
    perl                         5.008003 5.031011
    Scalar::Util                 0        1.55    
    Search::Query                0.307    0.307   
    Search::Query::Dialect::Lucy 0.202    0.202   
    Search::Tools                1.000    1.007   
    Sort::SQL                    0        0.08    
    SWISH::3                     1.000015 1.000015
    SWISH::Filter                0.191    0.191   
    Sys::Hostname                0        1.23    
    Text::ParseWords             0        3.30    
    Time::HiRes                  0        1.9764  
    Try::Tiny                    0        0.30    
    Type::Tiny                   0        1.010001
    Types::Standard              0        1.010001

build_requires:

    Module                       Need     Have    
    ---------------------------- -------- --------
    CAM::PDF                     0        1.60    
    Compress::Zlib               0        2.093   
    ExtUtils::MakeMaker          0        7.44    
    Test::LeakTrace              0        0.16    
    Test::More                   0        1.302175

configure_requires:

    Module                       Need     Have    
    ---------------------------- -------- --------
    ExtUtils::MakeMaker          0        7.44    

opt_requires:

    Module                       Need     Have    
    ---------------------------- -------- --------
    DBI                          0        1.643   
    File::Find                   0        1.37    
    HTML::LinkExtor              0        3.69    
    HTML::Tagset                 0        3.20    
    HTTP::Cookies                0        6.08    
    HTTP::Message                0        6.22    
    HTTP::Server::Simple         0        0.52    
    HTTP::Server::Simple::Authen 0        0.04    
    JSON                         2.0      4.02    
    LWP::RobotUA                 0        6.44    
    Mail::Box                    0        3.008   
    Rose::DBx::TestDB            0        0.05    
    Term::ProgressBar            0        2.22    
    Test::HTTP::Server::Simple   0        0.11    
    URI                          0        1.76    
    WWW::Sitemap::XML            0        2.02    
  ! XML::Feed                    0        n/a     
    YAML::Syck                   0.72     1.32    


------------------------------
ENVIRONMENT AND OTHER CONTEXT
------------------------------

Environment variables:

    AUTOMATED_TESTING = 1
    LANG = en_US.UTF-8
    PATH = /home/sand/bin:/usr/local/bin:/usr/local/sbin:/usr/sbin:/usr/bin:/sbin:/bin:/usr/games:/usr/local/games:/usr/local/perl/bin:/usr/X11/bin
    PERL = /tmp/basesmoker-reloperl-bQ4m/bin/perl
    PERL5LIB = /tmp/loop_over_bdir-16068-b0KmBX/DBIx-Migration-Directories-0.12-0/blib/arch:/tmp/loop_over_bdir-16068-b0KmBX/DBIx-Migration-Directories-0.12-0/blib/lib:/tmp/loop_over_bdir-16068-b0KmBX/Debian-Packages-0.03-0/blib/arch:/tmp/loop_over_bdir-16068-b0KmBX/Debian-Packages-0.03-0/blib/lib:/tmp/loop_over_bdir-16068-b0KmBX/Dpkg-1.20.0-0/blib/arch:/tmp/loop_over_bdir-16068-b0KmBX/Dpkg-1.20.0-0/blib/lib
    PERL5OPT = 
    PERL5_CPANPLUS_IS_RUNNING = 16077
    PERL5_CPAN_IS_RUNNING = 16077
    PERL_CANARY_STABILITY_NOPROMPT = 1
    PERL_MM_USE_DEFAULT = 1
    PERL_USE_UNSAFE_INC = 1
    SHELL = /usr/bin/zsh
    TERM = screen

Perl special variables (and OS-specific diagnostics, for MSWin32):

    $^X = /tmp/basesmoker-reloperl-bQ4m/bin/perl
    $UID/$EUID = 1005 / 1005
    $GID = 1005 1005
    $EGID = 1005 1005

Perl module toolchain versions installed:

    Module              Have    
    ------------------- --------
    CPAN                2.27    
    CPAN::Meta          2.150010
    Cwd                 3.78    
    ExtUtils::CBuilder  0.280234
    ExtUtils::Command   7.44    
    ExtUtils::Install   2.14    
    ExtUtils::MakeMaker 7.44    
    ExtUtils::Manifest  1.72    
    ExtUtils::ParseXS   3.40    
    File::Spec          3.78    
    JSON                4.02    
    JSON::PP            4.04    
    Module::Build       0.4231  
    Module::Signature   0.83    
    Parse::CPAN::Meta   2.150010
    Test::Harness       3.42    
    Test::More          1.302175
    YAML                1.30    
    YAML::Syck          1.32    
    version             0.9924  


--

Summary of my perl5 (revision 5 version 31 subversion 11) configuration:
  Commit id: d4ae27f09bc08ceb90f8878b937ce53d1845d49d
  Platform:
    osname=linux
    osvers=4.15.0-99-generic
    archname=x86_64-linux-ld
    uname='linux k93bionic 4.15.0-99-generic #100-ubuntu smp wed apr 22 20:32:56 utc 2020 x86_64 x86_64 x86_64 gnulinux '
    config_args='-Dprefix=/home/sand/src/perl/repoperls/installed-perls/host/k93bionic/v5.31.11/ca05 -Dmyhostname=k93bionic -Dinstallusrbinperl=n -Uversiononly -Dusedevel -des -Ui_db -Dlibswanted=cl pthread socket inet nsl gdbm dbm malloc dl ld sun m crypt sec util c cposix posix ucb BSD gdbm_compat -Uuseithreads -Duselongdouble -DEBUGGING=-g'
    hint=recommended
    useposix=true
    d_sigaction=define
    useithreads=undef
    usemultiplicity=undef
    use64bitint=define
    use64bitall=define
    uselongdouble=define
    usemymalloc=n
    default_inc_excludes_dot=define
    bincompat5005=undef
  Compiler:
    cc='cc'
    ccflags ='-fwrapv -fno-strict-aliasing -pipe -fstack-protector-strong -I/usr/local/include -D_LARGEFILE_SOURCE -D_FILE_OFFSET_BITS=64'
    optimize='-O2 -g'
    cppflags='-fwrapv -fno-strict-aliasing -pipe -fstack-protector-strong -I/usr/local/include'
    ccversion=''
    gccversion='7.5.0'
    gccosandvers=''
    intsize=4
    longsize=8
    ptrsize=8
    doublesize=8
    byteorder=12345678
    doublekind=3
    d_longlong=define
    longlongsize=8
    d_longdbl=define
    longdblsize=16
    longdblkind=3
    ivtype='long'
    ivsize=8
    nvtype='long double'
    nvsize=16
    Off_t='off_t'
    lseeksize=8
    alignbytes=16
    prototype=define
  Linker and Libraries:
    ld='cc'
    ldflags =' -fstack-protector-strong -L/usr/local/lib'
    libpth=/usr/local/lib /usr/lib/gcc/x86_64-linux-gnu/7/include-fixed /usr/include/x86_64-linux-gnu /usr/lib /lib/x86_64-linux-gnu /lib/../lib /usr/lib/x86_64-linux-gnu /usr/lib/../lib /lib
    libs=-lpthread -lnsl -ldl -lm -lcrypt -lutil -lc
    perllibs=-lpthread -lnsl -ldl -lm -lcrypt -lutil -lc
    libc=libc-2.27.so
    so=so
    useshrplib=false
    libperl=libperl.a
    gnulibc_version='2.27'
  Dynamic Linking:
    dlsrc=dl_dlopen.xs
    dlext=so
    d_dlsymun=undef
    ccdlflags='-Wl,-E'
    cccdlflags='-fPIC'
    lddlflags='-shared -O2 -g -L/usr/local/lib -fstack-protector-strong'


Characteristics of this binary (from libperl): 
  Compile-time options:
    HAS_TIMES
    PERLIO_LAYERS
    PERL_COPY_ON_WRITE
    PERL_DONT_CREATE_GVSV
    PERL_MALLOC_WRAP
    PERL_OP_PARENT
    PERL_PRESERVE_IVUV
    PERL_USE_DEVEL
    USE_64_BIT_ALL
    USE_64_BIT_INT
    USE_LARGE_FILES
    USE_LOCALE
    USE_LOCALE_COLLATE
    USE_LOCALE_CTYPE
    USE_LOCALE_NUMERIC
    USE_LOCALE_TIME
    USE_LONG_DOUBLE
    USE_PERLIO
    USE_PERL_ATOF
  Built under linux
  Compiled at Apr 29 2020 19:29:09
  %ENV:
    PERL="/tmp/basesmoker-reloperl-bQ4m/bin/perl"
    PERL5LIB="/tmp/loop_over_bdir-16068-b0KmBX/DBIx-Migration-Directories-0.12-0/blib/arch:/tmp/loop_over_bdir-16068-b0KmBX/DBIx-Migration-Directories-0.12-0/blib/lib:/tmp/loop_over_bdir-16068-b0KmBX/Debian-Packages-0.03-0/blib/arch:/tmp/loop_over_bdir-16068-b0KmBX/Debian-Packages-0.03-0/blib/lib:/tmp/loop_over_bdir-16068-b0KmBX/Dpkg-1.20.0-0/blib/arch:/tmp/loop_over_bdir-16068-b0KmBX/Dpkg-1.20.0-0/blib/lib"
    PERL5OPT=""
    PERL5_CPANPLUS_IS_RUNNING="16077"
    PERL5_CPAN_IS_RUNNING="16077"
    PERL_CANARY_STABILITY_NOPROMPT="1"
    PERL_MM_USE_DEFAULT="1"
    PERL_USE_UNSAFE_INC="1"
  @INC:
    /tmp/loop_over_bdir-16068-b0KmBX/DBIx-Migration-Directories-0.12-0/blib/arch
    /tmp/loop_over_bdir-16068-b0KmBX/DBIx-Migration-Directories-0.12-0/blib/lib
    /tmp/loop_over_bdir-16068-b0KmBX/Debian-Packages-0.03-0/blib/arch
    /tmp/loop_over_bdir-16068-b0KmBX/Debian-Packages-0.03-0/blib/lib
    /tmp/loop_over_bdir-16068-b0KmBX/Dpkg-1.20.0-0/blib/arch
    /tmp/loop_over_bdir-16068-b0KmBX/Dpkg-1.20.0-0/blib/lib
    /home/sand/src/perl/repoperls/installed-perls/host/k93bionic/v5.31.11/ca05/lib/site_perl/5.31.11/x86_64-linux-ld
    /home/sand/src/perl/repoperls/installed-perls/host/k93bionic/v5.31.11/ca05/lib/site_perl/5.31.11
    /home/sand/src/perl/repoperls/installed-perls/host/k93bionic/v5.31.11/ca05/lib/5.31.11/x86_64-linux-ld
    /home/sand/src/perl/repoperls/installed-perls/host/k93bionic/v5.31.11/ca05/lib/5.31.11
    .