Net-HTTP v6.18 Perl 5 v5.14.4 amd64-netbsd
- Status
- Pass
- From
- Nigel Horne
- Dist
-
Net-HTTP v6.18
- Platform
- Perl 5 v5.14.4 amd64-netbsd
- Date
- 2018-09-28 17:17:56
- ID
- 712caa7c-c342-11e8-a1a8-f68362b887d7
This distribution has been tested as part of the CPAN Testers
project, supporting the Perl programming language. See
http://wiki.cpantesters.org/ for more information or email
questions to cpan-testers-discuss@perl.org
--
Dear Olaf Alders,
This is a computer-generated report for Net-HTTP-6.18
on perl 5.14.4, created by CPAN-Reporter-1.2018.
Thank you for uploading your work to CPAN. Congratulations!
All tests were successful.
Sections of this report:
* Tester comments
* Program output
* Prerequisites
* Environment and other context
------------------------------
TESTER COMMENTS
------------------------------
Additional comments from tester:
none provided
------------------------------
PROGRAM OUTPUT
------------------------------
Output from '/usr/bin/make test':
PERL_DL_NONLAZY=1 "/home/njh/perl5/perlbrew/perls/perl-5.14.4/bin/perl" "-MExtUtils::Command::MM" "-MTest::Harness" "-e" "undef *Test::Harness::Switches; test_harness(0, 'blib/lib', 'blib/arch')" t/*.t
#
# Versions for all modules listed in MYMETA.json (including optional ones):
#
# === Configure Requires ===
#
# Module Want Have
# ------------------- ---- ----
# ExtUtils::MakeMaker any 7.34
#
# === Configure Suggests ===
#
# Module Want Have
# -------- ------- -------
# JSON::PP 2.27300 2.97001
#
# === Build Requires ===
#
# Module Want Have
# ------------------- ---- ----
# ExtUtils::MakeMaker any 7.34
#
# === Test Requires ===
#
# Module Want Have
# ------------------- ---- --------
# Data::Dumper any 2.130_02
# ExtUtils::MakeMaker any 7.34
# File::Spec any 3.33
# IO::Select any 1.20
# Socket any 1.94
# Test::More any 1.302140
#
# === Test Recommends ===
#
# Module Want Have
# ---------- -------- --------
# CPAN::Meta 2.120900 2.143240
#
# === Runtime Requires ===
#
# Module Want Have
# ---------------------- ---- -----
# Carp any 1.20
# Compress::Raw::Zlib any 2.033
# IO::Socket::INET any 1.31
# IO::Uncompress::Gunzip any 2.033
# URI any 1.74
# base any 2.16
# strict any 1.04
# vars any 1.02
# warnings any 1.12
#
# === Runtime Suggests ===
#
# Module Want Have
# ----------------- ----- -------
# IO::Socket any 1.32
# IO::Socket::INET6 any missing
# IO::Socket::IP any missing
# IO::Socket::SSL 2.012 missing
# Symbol any 1.07
#
t/00-report-prereqs.t .. ok
t/http-nb.t ............ ok
t/http.t ............... ok
t/live-https.t ......... skipped: IO::Socket::SSL or Net::SSL not available
t/live.t ............... ok
All tests successful.
Files=5, Tests=58, 1 wallclock secs ( 0.04 usr 0.01 sys + 0.54 cusr 0.03 csys = 0.62 CPU)
Result: PASS
------------------------------
PREREQUISITES
------------------------------
Prerequisite modules loaded:
requires:
Module Need Have
---------------------- -------- --------
base 0 2.16
Carp 0 1.20
Compress::Raw::Zlib 0 2.033
IO::Socket::INET 0 1.31
IO::Uncompress::Gunzip 0 2.033
perl 5.006002 5.014004
strict 0 1.04
URI 0 1.74
vars 0 1.02
warnings 0 1.12
build_requires:
Module Need Have
---------------------- -------- --------
Data::Dumper 0 2.130_02
ExtUtils::MakeMaker 0 7.34
File::Spec 0 3.33
IO::Select 0 1.20
Socket 0 1.94
Test::More 0 1.302140
configure_requires:
Module Need Have
---------------------- -------- --------
ExtUtils::MakeMaker 0 7.34
------------------------------
ENVIRONMENT AND OTHER CONTEXT
------------------------------
Environment variables:
PATH = /home/njh/perl5/perlbrew/bin:/home/njh/perl5/perlbrew/perls/perl-5.14.4/bin:/usr/bin:/bin:/usr/pkg/bin:/usr/local/bin
PERL5LIB =
PERL5OPT =
PERL5_CPANPLUS_IS_RUNNING = 10286
PERL5_CPAN_IS_RUNNING = 10286
PERLBREW_HOME = /home/njh/.perlbrew
PERLBREW_MANPATH = /home/njh/perl5/perlbrew/perls/perl-5.14.4/man
PERLBREW_PATH = /home/njh/perl5/perlbrew/bin:/home/njh/perl5/perlbrew/perls/perl-5.14.4/bin
PERLBREW_PERL = perl-5.14.4
PERLBREW_ROOT = /home/njh/perl5/perlbrew
PERLBREW_SHELLRC_VERSION = 0.82
PERLBREW_VERSION = 0.82
SHELL = /usr/pkg/bin/bash
TERM = xterm-256color
TMPDIR = /tmp
Perl special variables (and OS-specific diagnostics, for MSWin32):
$^X = /home/njh/perl5/perlbrew/perls/perl-5.14.4/bin/perl
$UID/$EUID = 1000 / 1000
$GID = 100 100 0
$EGID = 100 100 0
Perl module toolchain versions installed:
Module Have
------------------- ---------
CPAN 1.9600_01
CPAN::Meta 2.143240
Cwd 3.36
ExtUtils::CBuilder 0.280203
ExtUtils::Command 7.34
ExtUtils::Install 2.06
ExtUtils::MakeMaker 7.34
ExtUtils::Manifest 1.70
ExtUtils::ParseXS 2.2210
File::Spec 3.33
JSON n/a
JSON::PP 2.97001
Module::Build 0.3800
Module::Signature n/a
Parse::CPAN::Meta 1.4414
Test::Harness 3.23
Test::More 1.302140
YAML 1.26
YAML::Syck n/a
version 0.88
--
Summary of my perl5 (revision 5 version 14 subversion 4) configuration:
Platform:
osname=netbsd, osvers=7.1.2, archname=amd64-netbsd
uname='netbsd vultr2.bandsman.co.uk 7.1.2 netbsd 7.1.2 (generic.201803151611z) amd64 '
config_args='-de -Dprefix=/home/njh/perl5/perlbrew/perls/perl-5.14.4 -Aeval:scriptdir=/home/njh/perl5/perlbrew/perls/perl-5.14.4/bin'
hint=recommended, useposix=true, d_sigaction=define
useithreads=undef, usemultiplicity=undef
useperlio=define, d_sfio=undef, uselargefiles=define, usesocks=undef
use64bitint=define, use64bitall=define, uselongdouble=undef
usemymalloc=n, bincompat5005=undef
Compiler:
cc='cc', ccflags ='-fno-strict-aliasing -pipe -fstack-protector -I/usr/pkg/include',
optimize='-O',
cppflags='-fno-strict-aliasing -pipe -fstack-protector -I/usr/pkg/include'
ccversion='', gccversion='4.8.5', gccosandvers=''
intsize=4, longsize=8, ptrsize=8, doublesize=8, byteorder=12345678
d_longlong=define, longlongsize=8, d_longdbl=define, longdblsize=16
ivtype='long', ivsize=8, nvtype='double', nvsize=8, Off_t='off_t', lseeksize=8
alignbytes=8, prototype=define
Linker and Libraries:
ld='cc', ldflags =' -Wl,-rpath,/usr/pkg/lib -Wl,-rpath,/usr/local/lib -fstack-protector -L/usr/pkg/lib'
libpth=/usr/pkg/lib /lib /usr/lib
libs=-lm -lcrypt -lutil -lc -lposix
perllibs=-lm -lcrypt -lutil -lc -lposix
libc=/lib/libc.so, so=so, useshrplib=false, libperl=libperl.a
gnulibc_version=''
Dynamic Linking:
dlsrc=dl_dlopen.xs, dlext=so, d_dlsymun=undef, ccdlflags='-Wl,-E '
cccdlflags='-DPIC -fPIC ', lddlflags='-shared -L/usr/pkg/lib -fstack-protector'
Characteristics of this binary (from libperl):
Compile-time options: PERL_DONT_CREATE_GVSV PERL_MALLOC_WRAP
PERL_PRESERVE_IVUV USE_64_BIT_ALL USE_64_BIT_INT
USE_LARGE_FILES USE_PERLIO USE_PERL_ATOF
Locally applied patches:
Devel::PatchPerl 1.48
Built under netbsd
Compiled at Sep 26 2018 09:47:33
%ENV:
PERL5LIB=""
PERL5OPT=""
PERL5_CPANPLUS_IS_RUNNING="10286"
PERL5_CPAN_IS_RUNNING="10286"
PERLBREW_HOME="/home/njh/.perlbrew"
PERLBREW_MANPATH="/home/njh/perl5/perlbrew/perls/perl-5.14.4/man"
PERLBREW_PATH="/home/njh/perl5/perlbrew/bin:/home/njh/perl5/perlbrew/perls/perl-5.14.4/bin"
PERLBREW_PERL="perl-5.14.4"
PERLBREW_ROOT="/home/njh/perl5/perlbrew"
PERLBREW_SHELLRC_VERSION="0.82"
PERLBREW_VERSION="0.82"
@INC:
/home/njh/perl5/perlbrew/perls/perl-5.14.4/lib/site_perl/5.14.4/amd64-netbsd
/home/njh/perl5/perlbrew/perls/perl-5.14.4/lib/site_perl/5.14.4
/home/njh/perl5/perlbrew/perls/perl-5.14.4/lib/5.14.4/amd64-netbsd
/home/njh/perl5/perlbrew/perls/perl-5.14.4/lib/5.14.4
.