Net-Curl-Promiser v0.18 Perl 5 v5.34.0 x86_64-linux

Status
Pass
From
Slaven Rezić
Dist
Net-Curl-Promiser v0.18
Platform
Perl 5 v5.34.0 x86_64-linux
Date
2022-04-15 21:24:32
ID
712dce6c-bd02-11ec-9fd9-bf7e1f24ea8f
This distribution has been tested as part of the CPAN Testers
project, supporting the Perl programming language.  See
http://wiki.cpantesters.org/ for more information or email
questions to cpan-testers-discuss@perl.org


--
Dear Felipe Gasper,

This is a computer-generated report for Net-Curl-Promiser-0.18
on perl 5.34.0, created by CPAN-Reporter-1.2018.

Thank you for uploading your work to CPAN.  Congratulations!
All tests were successful.

Sections of this report:

    * Tester comments
    * Program output
    * Prerequisites
    * Environment and other context

------------------------------
TESTER COMMENTS
------------------------------

Additional comments from tester:

none provided

------------------------------
PROGRAM OUTPUT
------------------------------

Output from '/usr/bin/make test':

PERL_DL_NONLAZY=1 "/opt/perl-5.34.0/bin/perl" "-MExtUtils::Command::MM" "-MTest::Harness" "-e" "undef *Test::Harness::Switches; test_harness(0, 'blib/lib', 'blib/arch')" t/*.t
# Created listening socket on port 36465
* Expire in 0 ms for 6 (transfer 0x5648743fff00)
*   Trying 127.0.0.1...
* TCP_NODELAY set
* Expire in 200 ms for 4 (transfer 0x5648743fff00)
* Connected to 127.0.0.1 (127.0.0.1) port 36465 (#0)
> GET / HTTP/1.1
Host: 127.0.0.1:36465
Accept: */*

# Curl told us to poll; continuing …
* Closing connection 0
# Created listening socket on port 57657
* Expire in 0 ms for 6 (transfer 0x56487448c580)
*   Trying 127.0.0.1...
* TCP_NODELAY set
* Expire in 200 ms for 4 (transfer 0x56487448c580)
* Connected to 127.0.0.1 (127.0.0.1) port 57657 (#0)
> GET / HTTP/1.1
Host: 127.0.0.1:57657
Accept: */*

# Curl told us to poll; continuing …
* Closing connection 0
# Created listening socket on port 46405
* Expire in 0 ms for 6 (transfer 0x56487448c580)
*   Trying 127.0.0.1...
* TCP_NODELAY set
* Expire in 200 ms for 4 (transfer 0x56487448c580)
* Connected to 127.0.0.1 (127.0.0.1) port 46405 (#0)
> GET / HTTP/1.1
Host: 127.0.0.1:46405
Accept: */*

# Curl told us to poll; continuing …
* Closing connection 0
t/cancel_fail.t ....................................... ok
# Using AnyEvent 7.17; backend: AnyEvent::Impl::Perl
# SERVER PORT: 52085
# SERVER PID: 6595
# libcurl libcurl/7.64.0 OpenSSL/1.1.1n zlib/1.2.11 libidn2/2.0.5 libpsl/0.20.2 (+libidn2/2.0.5) libssh2/1.8.0 nghttp2/1.36.0 librtmp/2.3 (475136)
# Testing cancellation …
# FINISHING SERVER: PID 6595 (from PID 6594)
# Server (6595) received request to shut down
# REAPED SERVER: PID 6595 (from PID 6594)
t/Net-Curl-Promiser-AnyEvent.t ........................ ok
# SERVER PORT: 50137
# SERVER PID: 6597
# FINISHING SERVER: PID 6597 (from PID 6596)
# Server (6597) received request to shut down
# REAPED SERVER: PID 6597 (from PID 6596)
t/Net-Curl-Promiser-AnyEvent_reuse.t .................. ok
# Using IO::Async::Loop 0.801
# SERVER PORT: 34741
# SERVER PID: 6599
# Using loop class IO::Async::Loop::Select 0.801
# libcurl libcurl/7.64.0 OpenSSL/1.1.1n zlib/1.2.11 libidn2/2.0.5 libpsl/0.20.2 (+libidn2/2.0.5) libssh2/1.8.0 nghttp2/1.36.0 librtmp/2.3 (475136)
# FINISHING SERVER: PID 6599 (from PID 6598)
# Server (6599) received request to shut down
# REAPED SERVER: PID 6599 (from PID 6598)
t/Net-Curl-Promiser-IOAsync.t ......................... ok
# SERVER PORT: 45475
# SERVER PID: 6601
# FINISHING SERVER: PID 6601 (from PID 6600)
# Server (6601) received request to shut down
# REAPED SERVER: PID 6601 (from PID 6600)
t/Net-Curl-Promiser-IOAsync_net_curl_easy_overload.t .. ok
# Mojolicious version: 9.23
# Using loop class Mojo::Reactor::Poll
# SERVER PORT: 56373
# SERVER PID: 6603
# libcurl libcurl/7.64.0 OpenSSL/1.1.1n zlib/1.2.11 libidn2/2.0.5 libpsl/0.20.2 (+libidn2/2.0.5) libssh2/1.8.0 nghttp2/1.36.0 librtmp/2.3 (475136)
# FINISHING SERVER: PID 6603 (from PID 6602)
# Server (6603) received request to shut down
# REAPED SERVER: PID 6603 (from PID 6602)
t/Net-Curl-Promiser-Mojo.t ............................ ok
# SERVER PORT: 52215
# SERVER PID: 6605
# libcurl libcurl/7.64.0 OpenSSL/1.1.1n zlib/1.2.11 libidn2/2.0.5 libpsl/0.20.2 (+libidn2/2.0.5) libssh2/1.8.0 nghttp2/1.36.0 librtmp/2.3 (475136)
# FINISHING SERVER: PID 6605 (from PID 6604)
# Server (6605) received request to shut down
# REAPED SERVER: PID 6605 (from PID 6604)
t/Net-Curl-Promiser-Select.t .......................... ok
t/Net-Curl-Promiser-Select_setopt_fail.t .............. ok
All tests successful.
Files=8, Tests=64,  3 wallclock secs ( 0.04 usr  0.00 sys +  0.79 cusr  0.13 csys =  0.96 CPU)
Result: PASS

------------------------------
PREREQUISITES
------------------------------

Prerequisite modules loaded:

requires:

    Module              Need  Have    
    ------------------- ----- --------
    Net::Curl           0.44  0.50    
    Promise::ES6        0.07  0.25    

build_requires:

    Module              Need  Have    
    ------------------- ----- --------
    autodie             0     2.34    
    ExtUtils::MakeMaker 0     7.64    
    FindBin             0     1.52    
    Test::Class::Tiny   0     0.03    
    Test::Deep          1.120 1.130   
    Test::FailWarnings  0     0.008   
    Test::Fatal         0     0.016   
    Test::More          0     1.302190

configure_requires:

    Module              Need  Have    
    ------------------- ----- --------
    ExtUtils::MakeMaker 0     7.64    


------------------------------
ENVIRONMENT AND OTHER CONTEXT
------------------------------

Environment variables:

    LANG = C
    PATH = /usr/local/bin:/usr/bin:/bin:/usr/local/sbin:/usr/sbin:/sbin:/home/cpansand/bin/linux-gnu:/home/cpansand/bin/sh:/home/cpansand/bin:/usr/games:/home/cpansand/devel:/home/eserte/src/srezic-misc/scripts
    PERL5LIB = 
    PERL5OPT = 
    PERL5_CPANPLUS_IS_RUNNING = 6502
    PERL5_CPAN_IS_RUNNING = 6502
    PERL5_CPAN_IS_RUNNING_IN_RECURSION = 31179,6502
    PERLDOC = -MPod::Perldoc::ToTextOverstrike
    PERL_BATCH = yes
    PERL_CANARY_STABILITY_NOPROMPT = 1
    PERL_CPAN_REPORTER_CONFIG = /var/tmp/cpansmoker-1023/2022041512/cpanreporter_000_config.ini
    PERL_EXTUTILS_AUTOINSTALL = --defaultdeps
    PERL_USE_UNSAFE_INC = 1
    SHELL = /usr/bin/zsh
    TERM = screen
    TMPDIR = /var/tmp/cpansmoker-1023/2022041512

Perl special variables (and OS-specific diagnostics, for MSWin32):

    $^X = /opt/perl-5.34.0/bin/perl
    $UID/$EUID = 1023 / 1023
    $GID = 1023 1023
    $EGID = 1023 1023

Perl module toolchain versions installed:

    Module              Have    
    ------------------- --------
    CPAN                2.29    
    CPAN::Meta          2.150010
    Cwd                 3.80    
    ExtUtils::CBuilder  0.280236
    ExtUtils::Command   7.64    
    ExtUtils::Install   2.20    
    ExtUtils::MakeMaker 7.64    
    ExtUtils::Manifest  1.73    
    ExtUtils::ParseXS   3.44    
    File::Spec          3.80    
    JSON                4.05    
    JSON::PP            4.08    
    Module::Build       0.4231  
    Module::Signature   0.88    
    Parse::CPAN::Meta   2.150010
    Test::Harness       3.43    
    Test::More          1.302190
    YAML                1.30    
    YAML::Syck          1.34    
    version             0.9928  


--

Summary of my perl5 (revision 5 version 34 subversion 0) configuration:
   
  Platform:
    osname=linux
    osvers=4.19.0-17-amd64
    archname=x86_64-linux
    uname='linux cloud12.bbbike.org 4.19.0-17-amd64 #1 smp debian 4.19.194-3 (2021-07-18) x86_64 gnulinux '
    config_args='-ds -e -Dprefix=/opt/perl-5.34.0 -Dcf_email=srezic@cpan.org'
    hint=recommended
    useposix=true
    d_sigaction=define
    useithreads=undef
    usemultiplicity=undef
    use64bitint=define
    use64bitall=define
    uselongdouble=undef
    usemymalloc=n
    default_inc_excludes_dot=define
  Compiler:
    cc='cc'
    ccflags ='-fwrapv -fno-strict-aliasing -pipe -fstack-protector-strong -I/usr/local/include -D_LARGEFILE_SOURCE -D_FILE_OFFSET_BITS=64 -D_FORTIFY_SOURCE=2'
    optimize='-O2'
    cppflags='-fwrapv -fno-strict-aliasing -pipe -fstack-protector-strong -I/usr/local/include'
    ccversion=''
    gccversion='8.3.0'
    gccosandvers=''
    intsize=4
    longsize=8
    ptrsize=8
    doublesize=8
    byteorder=12345678
    doublekind=3
    d_longlong=define
    longlongsize=8
    d_longdbl=define
    longdblsize=16
    longdblkind=3
    ivtype='long'
    ivsize=8
    nvtype='double'
    nvsize=8
    Off_t='off_t'
    lseeksize=8
    alignbytes=8
    prototype=define
  Linker and Libraries:
    ld='cc'
    ldflags =' -fstack-protector-strong -L/usr/local/lib'
    libpth=/usr/local/lib /usr/lib/x86_64-linux-gnu /usr/lib /usr/lib64
    libs=-lpthread -lnsl -ldl -lm -lcrypt -lutil -lc
    perllibs=-lpthread -lnsl -ldl -lm -lcrypt -lutil -lc
    libc=libc-2.28.so
    so=so
    useshrplib=false
    libperl=libperl.a
    gnulibc_version='2.28'
  Dynamic Linking:
    dlsrc=dl_dlopen.xs
    dlext=so
    d_dlsymun=undef
    ccdlflags='-Wl,-E'
    cccdlflags='-fPIC'
    lddlflags='-shared -O2 -L/usr/local/lib -fstack-protector-strong'


Characteristics of this binary (from libperl): 
  Compile-time options:
    HAS_TIMES
    PERLIO_LAYERS
    PERL_COPY_ON_WRITE
    PERL_DONT_CREATE_GVSV
    PERL_MALLOC_WRAP
    PERL_OP_PARENT
    PERL_PRESERVE_IVUV
    USE_64_BIT_ALL
    USE_64_BIT_INT
    USE_LARGE_FILES
    USE_LOCALE
    USE_LOCALE_COLLATE
    USE_LOCALE_CTYPE
    USE_LOCALE_NUMERIC
    USE_LOCALE_TIME
    USE_PERLIO
    USE_PERL_ATOF
  Built under linux
  Compiled at Sep  4 2021 12:02:49
  %ENV:
    PERL5LIB=""
    PERL5OPT=""
    PERL5_CPANPLUS_IS_RUNNING="6502"
    PERL5_CPAN_IS_RUNNING="6502"
    PERL5_CPAN_IS_RUNNING_IN_RECURSION="31179,6502"
    PERLDOC="-MPod::Perldoc::ToTextOverstrike"
    PERL_BATCH="yes"
    PERL_CANARY_STABILITY_NOPROMPT="1"
    PERL_CPAN_REPORTER_CONFIG="/var/tmp/cpansmoker-1023/2022041512/cpanreporter_000_config.ini"
    PERL_EXTUTILS_AUTOINSTALL="--defaultdeps"
    PERL_USE_UNSAFE_INC="1"
  @INC:
    /opt/perl-5.34.0/lib/site_perl/5.34.0/x86_64-linux
    /opt/perl-5.34.0/lib/site_perl/5.34.0
    /opt/perl-5.34.0/lib/5.34.0/x86_64-linux
    /opt/perl-5.34.0/lib/5.34.0
    .