Report for MarpaX-Languages-IDL-AST-0.007

Back
From: metabase:user:30ae4450-2aae-11df-837a-5e0a49663a4f
Subject: PASS MarpaX-Languages-IDL-AST-0.007 v5.25.10 
Date: 2017-04-13T09:43:39Z

This distribution has been tested as part of the CPAN Testers
project, supporting the Perl programming language.  See
http://wiki.cpantesters.org/ for more information or email
questions to cpan-testers-discuss@perl.org


--
Dear Jean-Damien Durand,

This is a computer-generated report for MarpaX-Languages-IDL-AST-0.007
on perl 5.25.10, created by CPAN-Reporter-1.2018.

Thank you for uploading your work to CPAN.  Congratulations!
All tests were successful.

Sections of this report:

    * Tester comments
    * Program output
    * Prerequisites
    * Environment and other context

------------------------------
TESTER COMMENTS
------------------------------

Additional comments from tester:

this report is from an automated smoke testing program
and was not reviewed by a human for accuracy

------------------------------
PROGRAM OUTPUT
------------------------------

Output from 'C:\STRAWB~1\c\bin\dmake.exe test':

Skip blib\lib\auto\share\dist\MarpaX-Languages-IDL-AST\perl5.tt2 (unchanged)
Skip blib\lib\auto\share\dist\MarpaX-Languages-IDL-AST\perl5\style\Moose\initGlobalVariables.tt2 (unchanged)
Skip blib\lib\auto\share\dist\MarpaX-Languages-IDL-AST\perl5\style\Moose\import.tt2 (unchanged)
Skip blib\lib\auto\share\dist\MarpaX-Languages-IDL-AST\perl5\style\Moose\useSpecializedType.tt2 (unchanged)
Skip blib\lib\auto\share\dist\MarpaX-Languages-IDL-AST\perl5\style\Moose\top.tt2 (unchanged)
Skip blib\lib\auto\share\dist\MarpaX-Languages-IDL-AST\perl5\style\Moose\posValidatedList.tt2 (unchanged)
Skip blib\lib\auto\share\dist\MarpaX-Languages-IDL-AST\perl5\style\Moose\op.tt2 (unchanged)
Skip blib\lib\auto\share\dist\MarpaX-Languages-IDL-AST\perl5\style\Moose\useClassAttribute.tt2 (unchanged)
Skip blib\lib\auto\share\dist\MarpaX-Languages-IDL-AST\perl5\style\Moose\useBaseTypes.tt2 (unchanged)
Skip blib\lib\auto\share\dist\MarpaX-Languages-IDL-AST\perl5\style\Moose\initNameSpace.tt2 (unchanged)
Skip blib\lib\auto\share\dist\MarpaX-Languages-IDL-AST\perl5\style\Moose\namespace.tt2 (unchanged)
Skip blib\lib\auto\share\dist\MarpaX-Languages-IDL-AST\perl5\style\Moose\token.tt2 (unchanged)
Skip blib\lib\auto\share\dist\MarpaX-Languages-IDL-AST\perl5\style\Moose\bottom.tt2 (unchanged)
"C:\Strawberry2510\perl\bin\perl.exe" "-MExtUtils::Command::MM" "-MTest::Harness" "-e" "undef *Test::Harness::Switches; test_harness(0, 'blib\lib', 'blib\arch')" t/*.t
t/00-compile.t ......... ok
# 
# Versions for all modules listed in MYMETA.json (including optional ones):
# 
# === Configure Requires ===
# 
#     Module                  Want Have
#     ----------------------- ---- ----
#     ExtUtils::MakeMaker      any 7.24
#     File::ShareDir::Install 0.06 0.11
# 
# === Build Requires ===
# 
#     Module              Want Have
#     ------------------- ---- ----
#     ExtUtils::MakeMaker  any 7.24
# 
# === Test Requires ===
# 
#     Module              Want     Have
#     ------------------- ---- --------
#     ExtUtils::MakeMaker  any     7.24
#     File::Spec           any     3.66
#     File::Temp           any   0.2304
#     IO::Handle           any     1.36
#     IPC::Open3           any     1.20
#     Test::More           any 1.302075
#     blib                1.01     1.06
# 
# === Test Recommends ===
# 
#     Module         Want     Have
#     ---------- -------- --------
#     CPAN::Meta 2.120900 2.150010
# 
# === Runtime Requires ===
# 
#     Module                       Want     Have
#     ---------------------------- ---- --------
#     Carp                          any     1.42
#     Data::Dumper                  any    2.167
#     Data::Scan                    any    0.008
#     Data::Scan::Role::Consumer    any    0.008
#     Encode                        any     2.88
#     File::BOM                     any     0.15
#     File::Basename                any     2.85
#     File::ShareDir                any    1.102
#     File::Spec::Functions         any     3.66
#     Getopt::Long                  any     2.49
#     IO::String                    any     1.08
#     MRO::Compat                   any     0.12
#     Marpa::R2                     any 4.000000
#     Math::BigFloat                any 1.999809
#     Moo                           any 2.003001
#     Moo::Role                     any 2.003001
#     MooX::Role::Logger            any    0.005
#     Moose                         any   2.2004
#     MooseX::ClassAttribute        any     0.29
#     MooseX::Params::Validate      any     0.21
#     MooseX::Types                 any     0.50
#     MooseX::Types::Moose          any     0.50
#     MooseX::Types::Structured     any     0.35
#     POSIX                         any     1.76
#     Pod::Usage                    any     1.69
#     Scalar::Util                  any     1.47
#     Template                      any     2.26
#     Template::Constants           any     2.75
#     Template::Plugin::PerlTidy    any     0.03
#     Template::Plugin::ScalarUtil  any 1.121160
#     Type::Library                 any 1.000006
#     Type::Utils                   any 1.000006
#     Types::Common::Numeric        any 1.000006
#     Types::Standard               any 1.000006
#     Win32::ShellQuote             any 0.003001
#     constant                      any     1.33
#     diagnostics                   any     1.36
#     namespace::sweep              any    0.006
#     strict                        any     1.11
#     warnings                      any     1.37
# 
t/00-report-prereqs.t .. ok
t/domLevel3.t .......... ok
All tests successful.
Files=3, Tests=13, 22 wallclock secs ( 0.06 usr +  0.01 sys =  0.07 CPU)
Result: PASS

------------------------------
PREREQUISITES
------------------------------

Prerequisite modules loaded:

requires:

    Module                       Need  Have    
    ---------------------------- ----- --------
    Carp                         0     1.42    
    constant                     0     1.33    
    Data::Dumper                 0     2.167   
    Data::Scan                   0     0.008   
    Data::Scan::Role::Consumer   0     0.008   
    diagnostics                  0     1.36    
    Encode                       0     2.88    
    File::Basename               0     2.85    
    File::BOM                    0     0.15    
    File::ShareDir               0     1.102   
    File::Spec::Functions        0     3.66    
    Getopt::Long                 0     2.49    
    IO::String                   0     1.08    
    Marpa::R2                    0     4.000000
    Math::BigFloat               0     1.999809
    Moo                          0     2.003001
    Moo::Role                    0     2.003001
    Moose                        0     2.2004  
    MooseX::ClassAttribute       0     0.29    
    MooseX::Params::Validate     0     0.21    
    MooseX::Types                0     0.50    
    MooseX::Types::Moose         0     0.50    
    MooseX::Types::Structured    0     0.35    
    MooX::Role::Logger           0     0.005   
    MRO::Compat                  0     0.12    
    namespace::sweep             0     0.006   
    perl                         5.010 5.025010
    Pod::Usage                   0     1.69    
    POSIX                        0     1.76    
    Scalar::Util                 0     1.47    
    strict                       0     1.11    
    Template                     0     2.26    
    Template::Constants          0     2.75    
    Template::Plugin::PerlTidy   0     0.03    
    Template::Plugin::ScalarUtil 0     1.121160
    Type::Library                0     1.000006
    Type::Utils                  0     1.000006
    Types::Common::Numeric       0     1.000006
    Types::Standard              0     1.000006
    warnings                     0     1.37    
    Win32::ShellQuote            0     0.003001

build_requires:

    Module                       Need  Have    
    ---------------------------- ----- --------
    blib                         1.01  1.06    
    ExtUtils::MakeMaker          0     7.24    
    File::Spec                   0     3.66    
    File::Temp                   0     0.2304  
    IO::Handle                   0     1.36    
    IPC::Open3                   0     1.20    
    Test::More                   0     1.302075

configure_requires:

    Module                       Need  Have    
    ---------------------------- ----- --------
    ExtUtils::MakeMaker          0     7.24    
    File::ShareDir::Install      0.06  0.11    
    perl                         5.010 5.025010


------------------------------
ENVIRONMENT AND OTHER CONTEXT
------------------------------

Environment variables:

    AUTOMATED_TESTING = 1
    COMSPEC = C:\WINDOWS\system32\cmd.exe
    NUMBER_OF_PROCESSORS = 1
    PATH = C:\WINDOWS\system32;C:\WINDOWS;C:\WINDOWS\System32\Wbem;C:\Git\cmd;C:\Strawberry2510\c\bin;C:\Strawberry2510\perl\site\bin;C:\Strawberry2510\perl\bin
    PERL5LIB = C:\STRAWB~1\cpan\build\Template-Plugin-ScalarUtil-1.121160-0/blib/arch;C:\STRAWB~1\cpan\build\Template-Plugin-ScalarUtil-1.121160-0/blib/lib;C:\STRAWB~1\cpan\build\Template-Plugin-PerlTidy-0.03-0/blib/arch;C:\STRAWB~1\cpan\build\Template-Plugin-PerlTidy-0.03-0/blib/lib;C:\STRAWB~1\cpan\build\MooX-Role-Logger-0.005-0/blib/arch;C:\STRAWB~1\cpan\build\MooX-Role-Logger-0.005-0/blib/lib;C:\STRAWB~1\cpan\build\Marpa-R2-4.000000-0/blib/arch;C:\STRAWB~1\cpan\build\Marpa-R2-4.000000-0/blib/lib;C:\STRAWB~1\cpan\build\Data-Scan-0.008-0/blib/arch;C:\STRAWB~1\cpan\build\Data-Scan-0.008-0/blib/lib
    PERL5OPT = 
    PERL5_CPANPLUS_IS_RUNNING = 2980
    PERL5_CPAN_IS_RUNNING = 2980
    PERL5_CPAN_IS_RUNNING_IN_RECURSION = 1508,2980
    PERL_CR_SMOKER_CURRENT = MarpaX-Languages-IDL-AST-0.007
    PERL_CR_SMOKER_RUNONCE = 1
    PERL_EXTUTILS_AUTOINSTALL = --defaultdeps
    PERL_MM_USE_DEFAULT = 1
    PERL_USE_UNSAFE_INC = 1
    PROCESSOR_IDENTIFIER = x86 Family 16 Model 5 Stepping 3, AuthenticAMD
    TEMP = C:\DOCUME~1\a\LOCALS~1\Temp

Perl special variables (and OS-specific diagnostics, for MSWin32):

    $^X = C:\Strawberry2510\perl\bin\perl.exe
    $UID/$EUID = 0 / 0
    $GID = 0
    $EGID = 0
    Win32::GetOSName = WinXP/.Net
    Win32::GetOSVersion = Service Pack 3, 5, 1, 2600, 2, 3, 0, 256, 1
    Win32::FsType = NTFS
    Win32::IsAdminUser = 1

Perl module toolchain versions installed:

    Module              Have      
    ------------------- ----------
    CPAN                2.17      
    CPAN::Meta          2.150010  
    Cwd                 3.66      
    ExtUtils::CBuilder  0.280225  
    ExtUtils::Command   7.24      
    ExtUtils::Install   2.04      
    ExtUtils::MakeMaker 7.24      
    ExtUtils::Manifest  1.70      
    ExtUtils::ParseXS   3.33      
    File::Spec          3.66      
    JSON                2.90      
    JSON::PP            2.27400_02
    Module::Build       0.4220    
    Module::Signature   0.81      
    Parse::CPAN::Meta   2.150010  
    Test::Harness       3.36_01   
    Test::More          1.302075  
    YAML                1.23      
    YAML::Syck          1.29      
    version             0.9917    


--

Summary of my perl5 (revision 5 version 25 subversion 10) configuration:
   
  Platform:
    osname=MSWin32
    osvers=4.0
    archname=MSWin32-x86-multi-thread
    uname='Win32 strawberry-perl 5.25.10.1-beta1 #1 Fri Feb 24 21:36:42 2017 i386'
    config_args='undef'
    hint=recommended
    useposix=true
    d_sigaction=undef
    useithreads=define
    usemultiplicity=define
    use64bitint=undef
    use64bitall=undef
    uselongdouble=undef
    usemymalloc=n
    bincompat5005=undef
  Compiler:
    cc='gcc'
    ccflags =' -s -O2 -DWIN32  -DPERL_TEXTMODE_SCRIPTS -DPERL_IMPLICIT_CONTEXT -DPERL_IMPLICIT_SYS -fwrapv -fno-strict-aliasing -mms-bitfields'
    optimize='-s -O2'
    cppflags='-DWIN32'
    ccversion=''
    gccversion='4.9.2'
    gccosandvers=''
    intsize=4
    longsize=4
    ptrsize=4
    doublesize=8
    byteorder=1234
    doublekind=3
    d_longlong=define
    longlongsize=8
    d_longdbl=define
    longdblsize=12
    longdblkind=3
    ivtype='long'
    ivsize=4
    nvtype='double'
    nvsize=8
    Off_t='long long'
    lseeksize=8
    alignbytes=8
    prototype=define
  Linker and Libraries:
    ld='g++'
    ldflags ='-s -L"C:\STRAWB~1\perl\lib\CORE" -L"C:\STRAWB~1\c\lib"'
    libpth=C:\STRAWB~1\c\lib C:\STRAWB~1\c\i686-w64-mingw32\lib C:\STRAWB~1\c\lib\gcc\i686-w64-mingw32\4.9.2
    libs=-lmoldname -lkernel32 -luser32 -lgdi32 -lwinspool -lcomdlg32 -ladvapi32 -lshell32 -lole32 -loleaut32 -lnetapi32 -luuid -lws2_32 -lmpr -lwinmm -lversion -lodbc32 -lodbccp32 -lcomctl32
    perllibs=-lmoldname -lkernel32 -luser32 -lgdi32 -lwinspool -lcomdlg32 -ladvapi32 -lshell32 -lole32 -loleaut32 -lnetapi32 -luuid -lws2_32 -lmpr -lwinmm -lversion -lodbc32 -lodbccp32 -lcomctl32
    libc=
    so=dll
    useshrplib=true
    libperl=libperl525.a
    gnulibc_version=''
  Dynamic Linking:
    dlsrc=dl_win32.xs
    dlext=xs.dll
    d_dlsymun=undef
    ccdlflags=' '
    cccdlflags=' '
    lddlflags='-mdll -s -L"C:\STRAWB~1\perl\lib\CORE" -L"C:\STRAWB~1\c\lib"'


Characteristics of this binary (from libperl): 
  Compile-time options:
    HAS_TIMES
    HAVE_INTERP_INTERN
    MULTIPLICITY
    PERLIO_LAYERS
    PERL_COPY_ON_WRITE
    PERL_DONT_CREATE_GVSV
    PERL_HASH_FUNC_ONE_AT_A_TIME_HARD
    PERL_IMPLICIT_CONTEXT
    PERL_IMPLICIT_SYS
    PERL_MALLOC_WRAP
    PERL_OP_PARENT
    PERL_PRESERVE_IVUV
    USE_ITHREADS
    USE_LARGE_FILES
    USE_LOCALE
    USE_LOCALE_COLLATE
    USE_LOCALE_CTYPE
    USE_LOCALE_NUMERIC
    USE_LOCALE_TIME
    USE_PERLIO
    USE_PERL_ATOF
  Built under MSWin32
  Compiled at Feb 24 2017 21:45:33
  %ENV:
    PERL5LIB="C:\STRAWB~1\cpan\build\Template-Plugin-ScalarUtil-1.121160-0/blib/arch;C:\STRAWB~1\cpan\build\Template-Plugin-ScalarUtil-1.121160-0/blib/lib;C:\STRAWB~1\cpan\build\Template-Plugin-PerlTidy-0.03-0/blib/arch;C:\STRAWB~1\cpan\build\Template-Plugin-PerlTidy-0.03-0/blib/lib;C:\STRAWB~1\cpan\build\MooX-Role-Logger-0.005-0/blib/arch;C:\STRAWB~1\cpan\build\MooX-Role-Logger-0.005-0/blib/lib;C:\STRAWB~1\cpan\build\Marpa-R2-4.000000-0/blib/arch;C:\STRAWB~1\cpan\build\Marpa-R2-4.000000-0/blib/lib;C:\STRAWB~1\cpan\build\Data-Scan-0.008-0/blib/arch;C:\STRAWB~1\cpan\build\Data-Scan-0.008-0/blib/lib"
    PERL5_CPANPLUS_IS_RUNNING="2980"
    PERL5_CPAN_IS_RUNNING="2980"
    PERL5_CPAN_IS_RUNNING_IN_RECURSION="1508,2980"
    PERL_CR_SMOKER_CURRENT="MarpaX-Languages-IDL-AST-0.007"
    PERL_CR_SMOKER_RUNONCE="1"
    PERL_EXTUTILS_AUTOINSTALL="--defaultdeps"
    PERL_MM_USE_DEFAULT="1"
    PERL_USE_UNSAFE_INC="1"
  @INC:
    C:\STRAWB~1\cpan\build\Template-Plugin-ScalarUtil-1.121160-0/blib/arch
    C:\STRAWB~1\cpan\build\Template-Plugin-ScalarUtil-1.121160-0/blib/lib
    C:\STRAWB~1\cpan\build\Template-Plugin-PerlTidy-0.03-0/blib/arch
    C:\STRAWB~1\cpan\build\Template-Plugin-PerlTidy-0.03-0/blib/lib
    C:\STRAWB~1\cpan\build\MooX-Role-Logger-0.005-0/blib/arch
    C:\STRAWB~1\cpan\build\MooX-Role-Logger-0.005-0/blib/lib
    C:\STRAWB~1\cpan\build\Marpa-R2-4.000000-0/blib/arch
    C:\STRAWB~1\cpan\build\Marpa-R2-4.000000-0/blib/lib
    C:\STRAWB~1\cpan\build\Data-Scan-0.008-0/blib/arch
    C:\STRAWB~1\cpan\build\Data-Scan-0.008-0/blib/lib
    C:/Strawberry2510/perl/site/lib
    C:/Strawberry2510/perl/vendor/lib
    C:/Strawberry2510/perl/lib
    .