Report for MRS-Client-1.0.1

Back
From: metabase:user:314402c4-2aae-11df-837a-5e0a49663a4f
Subject: PASS MRS-Client-1.0.1 v5.22.1 RC2 GNU/Linux
Date: 2015-11-18T16:28:47Z

This distribution has been tested as part of the CPAN Testers
project, supporting the Perl programming language.  See
http://wiki.cpantesters.org/ for more information or email
questions to cpan-testers-discuss@perl.org


--
Dear Martin Senger,

This is a computer-generated report for MRS-Client-1.0.1
on perl 5.22.1, created by CPAN-Reporter-1.2015.

Thank you for uploading your work to CPAN.  Congratulations!
All tests were successful.

Sections of this report:

    * Tester comments
    * Program output
    * Prerequisites
    * Environment and other context

------------------------------
TESTER COMMENTS
------------------------------

Additional comments from tester:

none provided

------------------------------
PROGRAM OUTPUT
------------------------------

Output from '/usr/bin/make test':

PERL_DL_NONLAZY=1 "/bbbike/perl-5.22.1-RC2/bin/perl" "-MExtUtils::Command::MM" "-MTest::Harness" "-e" "undef *Test::Harness::Switches; test_harness(0, 'blib/lib', 'blib/arch')" t/*.t
Possible precedence issue with control flow operator at lib/MRS/Client/Blast.pm line 269.
Unescaped left brace in regex is deprecated, passed through in regex; marked by <-- HERE in m/\${ <-- HERE JOBID}/ at lib/MRS/Client/Blast.pm line 409.
Unescaped left brace in regex is deprecated, passed through in regex; marked by <-- HERE in m/\${ <-- HERE SEQDESC}/ at lib/MRS/Client/Blast.pm line 411.
Unescaped left brace in regex is deprecated, passed through in regex; marked by <-- HERE in m/\${ <-- HERE SEQDESC}/ at lib/MRS/Client/Blast.pm line 413.
Unescaped left brace in regex is deprecated, passed through in regex; marked by <-- HERE in m/\${ <-- HERE SEQDESC}/ at lib/MRS/Client/Blast.pm line 415.
Unescaped left brace in regex is deprecated, passed through in regex; marked by <-- HERE in m/\${ <-- HERE DB}/ at lib/MRS/Client/Blast.pm line 417.
Unescaped left brace in regex is deprecated, passed through in regex; marked by <-- HERE in m/\${ <-- HERE SEQLEN}/ at lib/MRS/Client/Blast.pm line 418.
Unescaped left brace in regex is deprecated, passed through in regex; marked by <-- HERE in m/\${ <-- HERE PARMATRIX}/ at lib/MRS/Client/Blast.pm line 419.
Unescaped left brace in regex is deprecated, passed through in regex; marked by <-- HERE in m/\${ <-- HERE PAREXPECT}/ at lib/MRS/Client/Blast.pm line 420.
Unescaped left brace in regex is deprecated, passed through in regex; marked by <-- HERE in m/\${ <-- HERE PARGAPOPEN}/ at lib/MRS/Client/Blast.pm line 421.
Unescaped left brace in regex is deprecated, passed through in regex; marked by <-- HERE in m/\${ <-- HERE PARGAPEXTEND}/ at lib/MRS/Client/Blast.pm line 422.
Unescaped left brace in regex is deprecated, passed through in regex; marked by <-- HERE in m/\${ <-- HERE PARFILTER}/ at lib/MRS/Client/Blast.pm line 423.
Unescaped left brace in regex is deprecated, passed through in regex; marked by <-- HERE in m/\${ <-- HERE DBCOUNT}/ at lib/MRS/Client/Blast.pm line 425.
Unescaped left brace in regex is deprecated, passed through in regex; marked by <-- HERE in m/\${ <-- HERE DBLENGTH}/ at lib/MRS/Client/Blast.pm line 426.
Unescaped left brace in regex is deprecated, passed through in regex; marked by <-- HERE in m/\${ <-- HERE DBSPACE}/ at lib/MRS/Client/Blast.pm line 427.
Unescaped left brace in regex is deprecated, passed through in regex; marked by <-- HERE in m/\${ <-- HERE KAPPA}/ at lib/MRS/Client/Blast.pm line 428.
Unescaped left brace in regex is deprecated, passed through in regex; marked by <-- HERE in m/\${ <-- HERE LAMBDA}/ at lib/MRS/Client/Blast.pm line 429.
Unescaped left brace in regex is deprecated, passed through in regex; marked by <-- HERE in m/\${ <-- HERE ENTROPY}/ at lib/MRS/Client/Blast.pm line 430.
Unescaped left brace in regex is deprecated, passed through in regex; marked by <-- HERE in m/\${ <-- HERE HITNR}/ at lib/MRS/Client/Blast.pm line 439.
Unescaped left brace in regex is deprecated, passed through in regex; marked by <-- HERE in m/\${ <-- HERE HITID}/ at lib/MRS/Client/Blast.pm line 440.
Unescaped left brace in regex is deprecated, passed through in regex; marked by <-- HERE in m/\${ <-- HERE HITSEQID}/ at lib/MRS/Client/Blast.pm line 442.
Unescaped left brace in regex is deprecated, passed through in regex; marked by <-- HERE in m/\${ <-- HERE HITSEQID}/ at lib/MRS/Client/Blast.pm line 444.
Unescaped left brace in regex is deprecated, passed through in regex; marked by <-- HERE in m/\${ <-- HERE HITSUBLEN}/ at lib/MRS/Client/Blast.pm line 447.
Unescaped left brace in regex is deprecated, passed through in regex; marked by <-- HERE in m/\${ <-- HERE HSPNR}/ at lib/MRS/Client/Blast.pm line 456.
Unescaped left brace in regex is deprecated, passed through in regex; marked by <-- HERE in m/\${ <-- HERE HSPBITSCORE}/ at lib/MRS/Client/Blast.pm line 457.
Unescaped left brace in regex is deprecated, passed through in regex; marked by <-- HERE in m/\${ <-- HERE HSPSCORE}/ at lib/MRS/Client/Blast.pm line 458.
Unescaped left brace in regex is deprecated, passed through in regex; marked by <-- HERE in m/\${ <-- HERE HSPEXPECT}/ at lib/MRS/Client/Blast.pm line 459.
Unescaped left brace in regex is deprecated, passed through in regex; marked by <-- HERE in m/\${ <-- HERE HSPIDENTITY}/ at lib/MRS/Client/Blast.pm line 460.
Unescaped left brace in regex is deprecated, passed through in regex; marked by <-- HERE in m/\${ <-- HERE HSPPOSITIVE}/ at lib/MRS/Client/Blast.pm line 461.
Unescaped left brace in regex is deprecated, passed through in regex; marked by <-- HERE in m/\${ <-- HERE HSPMIDLINE}/ at lib/MRS/Client/Blast.pm line 462.
Unescaped left brace in regex is deprecated, passed through in regex; marked by <-- HERE in m/\${ <-- HERE HSPQFROM}/ at lib/MRS/Client/Blast.pm line 484.
Unescaped left brace in regex is deprecated, passed through in regex; marked by <-- HERE in m/\${ <-- HERE HSPQTO}/ at lib/MRS/Client/Blast.pm line 485.
Unescaped left brace in regex is deprecated, passed through in regex; marked by <-- HERE in m/\${ <-- HERE HSPHFROM}/ at lib/MRS/Client/Blast.pm line 486.
Unescaped left brace in regex is deprecated, passed through in regex; marked by <-- HERE in m/\${ <-- HERE HSPHTO}/ at lib/MRS/Client/Blast.pm line 487.
Unescaped left brace in regex is deprecated, passed through in regex; marked by <-- HERE in m/\${ <-- HERE HSPALIGNLEN}/ at lib/MRS/Client/Blast.pm line 488.
Unescaped left brace in regex is deprecated, passed through in regex; marked by <-- HERE in m/\${ <-- HERE HSPQALIGN}/ at lib/MRS/Client/Blast.pm line 489.
Unescaped left brace in regex is deprecated, passed through in regex; marked by <-- HERE in m/\${ <-- HERE HSPSUBALIGN}/ at lib/MRS/Client/Blast.pm line 490.
Unescaped left brace in regex is deprecated, passed through in regex; marked by <-- HERE in m/\${ <-- HERE LOCATION}/ at lib/MRS/Client.pm line 221.
Unescaped left brace in regex is deprecated, passed through in regex; marked by <-- HERE in m/\${ <-- HERE SERVICE}/ at lib/MRS/Client.pm line 222.
Possible precedence issue with control flow operator at lib/MRS/Client/Blast.pm line 269.
Unescaped left brace in regex is deprecated, passed through in regex; marked by <-- HERE in m/\${ <-- HERE JOBID}/ at lib/MRS/Client/Blast.pm line 409.
Unescaped left brace in regex is deprecated, passed through in regex; marked by <-- HERE in m/\${ <-- HERE SEQDESC}/ at lib/MRS/Client/Blast.pm line 411.
Unescaped left brace in regex is deprecated, passed through in regex; marked by <-- HERE in m/\${ <-- HERE SEQDESC}/ at lib/MRS/Client/Blast.pm line 413.
Unescaped left brace in regex is deprecated, passed through in regex; marked by <-- HERE in m/\${ <-- HERE SEQDESC}/ at lib/MRS/Client/Blast.pm line 415.
Unescaped left brace in regex is deprecated, passed through in regex; marked by <-- HERE in m/\${ <-- HERE DB}/ at lib/MRS/Client/Blast.pm line 417.
Unescaped left brace in regex is deprecated, passed through in regex; marked by <-- HERE in m/\${ <-- HERE SEQLEN}/ at lib/MRS/Client/Blast.pm line 418.
Unescaped left brace in regex is deprecated, passed through in regex; marked by <-- HERE in m/\${ <-- HERE PARMATRIX}/ at lib/MRS/Client/Blast.pm line 419.
Unescaped left brace in regex is deprecated, passed through in regex; marked by <-- HERE in m/\${ <-- HERE PAREXPECT}/ at lib/MRS/Client/Blast.pm line 420.
Unescaped left brace in regex is deprecated, passed through in regex; marked by <-- HERE in m/\${ <-- HERE PARGAPOPEN}/ at lib/MRS/Client/Blast.pm line 421.
Unescaped left brace in regex is deprecated, passed through in regex; marked by <-- HERE in m/\${ <-- HERE PARGAPEXTEND}/ at lib/MRS/Client/Blast.pm line 422.
Unescaped left brace in regex is deprecated, passed through in regex; marked by <-- HERE in m/\${ <-- HERE PARFILTER}/ at lib/MRS/Client/Blast.pm line 423.
Unescaped left brace in regex is deprecated, passed through in regex; marked by <-- HERE in m/\${ <-- HERE DBCOUNT}/ at lib/MRS/Client/Blast.pm line 425.
Unescaped left brace in regex is deprecated, passed through in regex; marked by <-- HERE in m/\${ <-- HERE DBLENGTH}/ at lib/MRS/Client/Blast.pm line 426.
Unescaped left brace in regex is deprecated, passed through in regex; marked by <-- HERE in m/\${ <-- HERE DBSPACE}/ at lib/MRS/Client/Blast.pm line 427.
Unescaped left brace in regex is deprecated, passed through in regex; marked by <-- HERE in m/\${ <-- HERE KAPPA}/ at lib/MRS/Client/Blast.pm line 428.
Unescaped left brace in regex is deprecated, passed through in regex; marked by <-- HERE in m/\${ <-- HERE LAMBDA}/ at lib/MRS/Client/Blast.pm line 429.
Unescaped left brace in regex is deprecated, passed through in regex; marked by <-- HERE in m/\${ <-- HERE ENTROPY}/ at lib/MRS/Client/Blast.pm line 430.
Unescaped left brace in regex is deprecated, passed through in regex; marked by <-- HERE in m/\${ <-- HERE HITNR}/ at lib/MRS/Client/Blast.pm line 439.
Unescaped left brace in regex is deprecated, passed through in regex; marked by <-- HERE in m/\${ <-- HERE HITID}/ at lib/MRS/Client/Blast.pm line 440.
Unescaped left brace in regex is deprecated, passed through in regex; marked by <-- HERE in m/\${ <-- HERE HITSEQID}/ at lib/MRS/Client/Blast.pm line 442.
Unescaped left brace in regex is deprecated, passed through in regex; marked by <-- HERE in m/\${ <-- HERE HITSEQID}/ at lib/MRS/Client/Blast.pm line 444.
Unescaped left brace in regex is deprecated, passed through in regex; marked by <-- HERE in m/\${ <-- HERE HITSUBLEN}/ at lib/MRS/Client/Blast.pm line 447.
Unescaped left brace in regex is deprecated, passed through in regex; marked by <-- HERE in m/\${ <-- HERE HSPNR}/ at lib/MRS/Client/Blast.pm line 456.
Unescaped left brace in regex is deprecated, passed through in regex; marked by <-- HERE in m/\${ <-- HERE HSPBITSCORE}/ at lib/MRS/Client/Blast.pm line 457.
Unescaped left brace in regex is deprecated, passed through in regex; marked by <-- HERE in m/\${ <-- HERE HSPSCORE}/ at lib/MRS/Client/Blast.pm line 458.
Unescaped left brace in regex is deprecated, passed through in regex; marked by <-- HERE in m/\${ <-- HERE HSPEXPECT}/ at lib/MRS/Client/Blast.pm line 459.
Unescaped left brace in regex is deprecated, passed through in regex; marked by <-- HERE in m/\${ <-- HERE HSPIDENTITY}/ at lib/MRS/Client/Blast.pm line 460.
Unescaped left brace in regex is deprecated, passed through in regex; marked by <-- HERE in m/\${ <-- HERE HSPPOSITIVE}/ at lib/MRS/Client/Blast.pm line 461.
Unescaped left brace in regex is deprecated, passed through in regex; marked by <-- HERE in m/\${ <-- HERE HSPMIDLINE}/ at lib/MRS/Client/Blast.pm line 462.
Unescaped left brace in regex is deprecated, passed through in regex; marked by <-- HERE in m/\${ <-- HERE HSPQFROM}/ at lib/MRS/Client/Blast.pm line 484.
Unescaped left brace in regex is deprecated, passed through in regex; marked by <-- HERE in m/\${ <-- HERE HSPQTO}/ at lib/MRS/Client/Blast.pm line 485.
Unescaped left brace in regex is deprecated, passed through in regex; marked by <-- HERE in m/\${ <-- HERE HSPHFROM}/ at lib/MRS/Client/Blast.pm line 486.
Unescaped left brace in regex is deprecated, passed through in regex; marked by <-- HERE in m/\${ <-- HERE HSPHTO}/ at lib/MRS/Client/Blast.pm line 487.
Unescaped left brace in regex is deprecated, passed through in regex; marked by <-- HERE in m/\${ <-- HERE HSPALIGNLEN}/ at lib/MRS/Client/Blast.pm line 488.
Unescaped left brace in regex is deprecated, passed through in regex; marked by <-- HERE in m/\${ <-- HERE HSPQALIGN}/ at lib/MRS/Client/Blast.pm line 489.
Unescaped left brace in regex is deprecated, passed through in regex; marked by <-- HERE in m/\${ <-- HERE HSPSUBALIGN}/ at lib/MRS/Client/Blast.pm line 490.
t/00-compile.t .......... ok
Possible precedence issue with control flow operator at /tmpfs/.cpan-build/2015111815/MRS-Client-1.0.1-Nn6X1F/blib/lib/MRS/Client/Blast.pm line 269.
Unescaped left brace in regex is deprecated, passed through in regex; marked by <-- HERE in m/\${ <-- HERE JOBID}/ at /tmpfs/.cpan-build/2015111815/MRS-Client-1.0.1-Nn6X1F/blib/lib/MRS/Client/Blast.pm line 409.
Unescaped left brace in regex is deprecated, passed through in regex; marked by <-- HERE in m/\${ <-- HERE SEQDESC}/ at /tmpfs/.cpan-build/2015111815/MRS-Client-1.0.1-Nn6X1F/blib/lib/MRS/Client/Blast.pm line 411.
Unescaped left brace in regex is deprecated, passed through in regex; marked by <-- HERE in m/\${ <-- HERE SEQDESC}/ at /tmpfs/.cpan-build/2015111815/MRS-Client-1.0.1-Nn6X1F/blib/lib/MRS/Client/Blast.pm line 413.
Unescaped left brace in regex is deprecated, passed through in regex; marked by <-- HERE in m/\${ <-- HERE SEQDESC}/ at /tmpfs/.cpan-build/2015111815/MRS-Client-1.0.1-Nn6X1F/blib/lib/MRS/Client/Blast.pm line 415.
Unescaped left brace in regex is deprecated, passed through in regex; marked by <-- HERE in m/\${ <-- HERE DB}/ at /tmpfs/.cpan-build/2015111815/MRS-Client-1.0.1-Nn6X1F/blib/lib/MRS/Client/Blast.pm line 417.
Unescaped left brace in regex is deprecated, passed through in regex; marked by <-- HERE in m/\${ <-- HERE SEQLEN}/ at /tmpfs/.cpan-build/2015111815/MRS-Client-1.0.1-Nn6X1F/blib/lib/MRS/Client/Blast.pm line 418.
Unescaped left brace in regex is deprecated, passed through in regex; marked by <-- HERE in m/\${ <-- HERE PARMATRIX}/ at /tmpfs/.cpan-build/2015111815/MRS-Client-1.0.1-Nn6X1F/blib/lib/MRS/Client/Blast.pm line 419.
Unescaped left brace in regex is deprecated, passed through in regex; marked by <-- HERE in m/\${ <-- HERE PAREXPECT}/ at /tmpfs/.cpan-build/2015111815/MRS-Client-1.0.1-Nn6X1F/blib/lib/MRS/Client/Blast.pm line 420.
Unescaped left brace in regex is deprecated, passed through in regex; marked by <-- HERE in m/\${ <-- HERE PARGAPOPEN}/ at /tmpfs/.cpan-build/2015111815/MRS-Client-1.0.1-Nn6X1F/blib/lib/MRS/Client/Blast.pm line 421.
Unescaped left brace in regex is deprecated, passed through in regex; marked by <-- HERE in m/\${ <-- HERE PARGAPEXTEND}/ at /tmpfs/.cpan-build/2015111815/MRS-Client-1.0.1-Nn6X1F/blib/lib/MRS/Client/Blast.pm line 422.
Unescaped left brace in regex is deprecated, passed through in regex; marked by <-- HERE in m/\${ <-- HERE PARFILTER}/ at /tmpfs/.cpan-build/2015111815/MRS-Client-1.0.1-Nn6X1F/blib/lib/MRS/Client/Blast.pm line 423.
Unescaped left brace in regex is deprecated, passed through in regex; marked by <-- HERE in m/\${ <-- HERE DBCOUNT}/ at /tmpfs/.cpan-build/2015111815/MRS-Client-1.0.1-Nn6X1F/blib/lib/MRS/Client/Blast.pm line 425.
Unescaped left brace in regex is deprecated, passed through in regex; marked by <-- HERE in m/\${ <-- HERE DBLENGTH}/ at /tmpfs/.cpan-build/2015111815/MRS-Client-1.0.1-Nn6X1F/blib/lib/MRS/Client/Blast.pm line 426.
Unescaped left brace in regex is deprecated, passed through in regex; marked by <-- HERE in m/\${ <-- HERE DBSPACE}/ at /tmpfs/.cpan-build/2015111815/MRS-Client-1.0.1-Nn6X1F/blib/lib/MRS/Client/Blast.pm line 427.
Unescaped left brace in regex is deprecated, passed through in regex; marked by <-- HERE in m/\${ <-- HERE KAPPA}/ at /tmpfs/.cpan-build/2015111815/MRS-Client-1.0.1-Nn6X1F/blib/lib/MRS/Client/Blast.pm line 428.
Unescaped left brace in regex is deprecated, passed through in regex; marked by <-- HERE in m/\${ <-- HERE LAMBDA}/ at /tmpfs/.cpan-build/2015111815/MRS-Client-1.0.1-Nn6X1F/blib/lib/MRS/Client/Blast.pm line 429.
Unescaped left brace in regex is deprecated, passed through in regex; marked by <-- HERE in m/\${ <-- HERE ENTROPY}/ at /tmpfs/.cpan-build/2015111815/MRS-Client-1.0.1-Nn6X1F/blib/lib/MRS/Client/Blast.pm line 430.
Unescaped left brace in regex is deprecated, passed through in regex; marked by <-- HERE in m/\${ <-- HERE HITNR}/ at /tmpfs/.cpan-build/2015111815/MRS-Client-1.0.1-Nn6X1F/blib/lib/MRS/Client/Blast.pm line 439.
Unescaped left brace in regex is deprecated, passed through in regex; marked by <-- HERE in m/\${ <-- HERE HITID}/ at /tmpfs/.cpan-build/2015111815/MRS-Client-1.0.1-Nn6X1F/blib/lib/MRS/Client/Blast.pm line 440.
Unescaped left brace in regex is deprecated, passed through in regex; marked by <-- HERE in m/\${ <-- HERE HITSEQID}/ at /tmpfs/.cpan-build/2015111815/MRS-Client-1.0.1-Nn6X1F/blib/lib/MRS/Client/Blast.pm line 442.
Unescaped left brace in regex is deprecated, passed through in regex; marked by <-- HERE in m/\${ <-- HERE HITSEQID}/ at /tmpfs/.cpan-build/2015111815/MRS-Client-1.0.1-Nn6X1F/blib/lib/MRS/Client/Blast.pm line 444.
Unescaped left brace in regex is deprecated, passed through in regex; marked by <-- HERE in m/\${ <-- HERE HITSUBLEN}/ at /tmpfs/.cpan-build/2015111815/MRS-Client-1.0.1-Nn6X1F/blib/lib/MRS/Client/Blast.pm line 447.
Unescaped left brace in regex is deprecated, passed through in regex; marked by <-- HERE in m/\${ <-- HERE HSPNR}/ at /tmpfs/.cpan-build/2015111815/MRS-Client-1.0.1-Nn6X1F/blib/lib/MRS/Client/Blast.pm line 456.
Unescaped left brace in regex is deprecated, passed through in regex; marked by <-- HERE in m/\${ <-- HERE HSPBITSCORE}/ at /tmpfs/.cpan-build/2015111815/MRS-Client-1.0.1-Nn6X1F/blib/lib/MRS/Client/Blast.pm line 457.
Unescaped left brace in regex is deprecated, passed through in regex; marked by <-- HERE in m/\${ <-- HERE HSPSCORE}/ at /tmpfs/.cpan-build/2015111815/MRS-Client-1.0.1-Nn6X1F/blib/lib/MRS/Client/Blast.pm line 458.
Unescaped left brace in regex is deprecated, passed through in regex; marked by <-- HERE in m/\${ <-- HERE HSPEXPECT}/ at /tmpfs/.cpan-build/2015111815/MRS-Client-1.0.1-Nn6X1F/blib/lib/MRS/Client/Blast.pm line 459.
Unescaped left brace in regex is deprecated, passed through in regex; marked by <-- HERE in m/\${ <-- HERE HSPIDENTITY}/ at /tmpfs/.cpan-build/2015111815/MRS-Client-1.0.1-Nn6X1F/blib/lib/MRS/Client/Blast.pm line 460.
Unescaped left brace in regex is deprecated, passed through in regex; marked by <-- HERE in m/\${ <-- HERE HSPPOSITIVE}/ at /tmpfs/.cpan-build/2015111815/MRS-Client-1.0.1-Nn6X1F/blib/lib/MRS/Client/Blast.pm line 461.
Unescaped left brace in regex is deprecated, passed through in regex; marked by <-- HERE in m/\${ <-- HERE HSPMIDLINE}/ at /tmpfs/.cpan-build/2015111815/MRS-Client-1.0.1-Nn6X1F/blib/lib/MRS/Client/Blast.pm line 462.
Unescaped left brace in regex is deprecated, passed through in regex; marked by <-- HERE in m/\${ <-- HERE HSPQFROM}/ at /tmpfs/.cpan-build/2015111815/MRS-Client-1.0.1-Nn6X1F/blib/lib/MRS/Client/Blast.pm line 484.
Unescaped left brace in regex is deprecated, passed through in regex; marked by <-- HERE in m/\${ <-- HERE HSPQTO}/ at /tmpfs/.cpan-build/2015111815/MRS-Client-1.0.1-Nn6X1F/blib/lib/MRS/Client/Blast.pm line 485.
Unescaped left brace in regex is deprecated, passed through in regex; marked by <-- HERE in m/\${ <-- HERE HSPHFROM}/ at /tmpfs/.cpan-build/2015111815/MRS-Client-1.0.1-Nn6X1F/blib/lib/MRS/Client/Blast.pm line 486.
Unescaped left brace in regex is deprecated, passed through in regex; marked by <-- HERE in m/\${ <-- HERE HSPHTO}/ at /tmpfs/.cpan-build/2015111815/MRS-Client-1.0.1-Nn6X1F/blib/lib/MRS/Client/Blast.pm line 487.
Unescaped left brace in regex is deprecated, passed through in regex; marked by <-- HERE in m/\${ <-- HERE HSPALIGNLEN}/ at /tmpfs/.cpan-build/2015111815/MRS-Client-1.0.1-Nn6X1F/blib/lib/MRS/Client/Blast.pm line 488.
Unescaped left brace in regex is deprecated, passed through in regex; marked by <-- HERE in m/\${ <-- HERE HSPQALIGN}/ at /tmpfs/.cpan-build/2015111815/MRS-Client-1.0.1-Nn6X1F/blib/lib/MRS/Client/Blast.pm line 489.
Unescaped left brace in regex is deprecated, passed through in regex; marked by <-- HERE in m/\${ <-- HERE HSPSUBALIGN}/ at /tmpfs/.cpan-build/2015111815/MRS-Client-1.0.1-Nn6X1F/blib/lib/MRS/Client/Blast.pm line 490.
Unescaped left brace in regex is deprecated, passed through in regex; marked by <-- HERE in m/\${ <-- HERE LOCATION}/ at /tmpfs/.cpan-build/2015111815/MRS-Client-1.0.1-Nn6X1F/blib/lib/MRS/Client.pm line 221.
Unescaped left brace in regex is deprecated, passed through in regex; marked by <-- HERE in m/\${ <-- HERE SERVICE}/ at /tmpfs/.cpan-build/2015111815/MRS-Client-1.0.1-Nn6X1F/blib/lib/MRS/Client.pm line 222.
# Testing MRS::Client 1.0.1, Perl v5.22.1, /bbbike/perl-5.22.1-RC2/bin/perl
t/00-load.t ............. ok
Possible precedence issue with control flow operator at /tmpfs/.cpan-build/2015111815/MRS-Client-1.0.1-Nn6X1F/blib/lib/MRS/Client/Blast.pm line 269.
Unescaped left brace in regex is deprecated, passed through in regex; marked by <-- HERE in m/\${ <-- HERE JOBID}/ at /tmpfs/.cpan-build/2015111815/MRS-Client-1.0.1-Nn6X1F/blib/lib/MRS/Client/Blast.pm line 409.
Unescaped left brace in regex is deprecated, passed through in regex; marked by <-- HERE in m/\${ <-- HERE SEQDESC}/ at /tmpfs/.cpan-build/2015111815/MRS-Client-1.0.1-Nn6X1F/blib/lib/MRS/Client/Blast.pm line 411.
Unescaped left brace in regex is deprecated, passed through in regex; marked by <-- HERE in m/\${ <-- HERE SEQDESC}/ at /tmpfs/.cpan-build/2015111815/MRS-Client-1.0.1-Nn6X1F/blib/lib/MRS/Client/Blast.pm line 413.
Unescaped left brace in regex is deprecated, passed through in regex; marked by <-- HERE in m/\${ <-- HERE SEQDESC}/ at /tmpfs/.cpan-build/2015111815/MRS-Client-1.0.1-Nn6X1F/blib/lib/MRS/Client/Blast.pm line 415.
Unescaped left brace in regex is deprecated, passed through in regex; marked by <-- HERE in m/\${ <-- HERE DB}/ at /tmpfs/.cpan-build/2015111815/MRS-Client-1.0.1-Nn6X1F/blib/lib/MRS/Client/Blast.pm line 417.
Unescaped left brace in regex is deprecated, passed through in regex; marked by <-- HERE in m/\${ <-- HERE SEQLEN}/ at /tmpfs/.cpan-build/2015111815/MRS-Client-1.0.1-Nn6X1F/blib/lib/MRS/Client/Blast.pm line 418.
Unescaped left brace in regex is deprecated, passed through in regex; marked by <-- HERE in m/\${ <-- HERE PARMATRIX}/ at /tmpfs/.cpan-build/2015111815/MRS-Client-1.0.1-Nn6X1F/blib/lib/MRS/Client/Blast.pm line 419.
Unescaped left brace in regex is deprecated, passed through in regex; marked by <-- HERE in m/\${ <-- HERE PAREXPECT}/ at /tmpfs/.cpan-build/2015111815/MRS-Client-1.0.1-Nn6X1F/blib/lib/MRS/Client/Blast.pm line 420.
Unescaped left brace in regex is deprecated, passed through in regex; marked by <-- HERE in m/\${ <-- HERE PARGAPOPEN}/ at /tmpfs/.cpan-build/2015111815/MRS-Client-1.0.1-Nn6X1F/blib/lib/MRS/Client/Blast.pm line 421.
Unescaped left brace in regex is deprecated, passed through in regex; marked by <-- HERE in m/\${ <-- HERE PARGAPEXTEND}/ at /tmpfs/.cpan-build/2015111815/MRS-Client-1.0.1-Nn6X1F/blib/lib/MRS/Client/Blast.pm line 422.
Unescaped left brace in regex is deprecated, passed through in regex; marked by <-- HERE in m/\${ <-- HERE PARFILTER}/ at /tmpfs/.cpan-build/2015111815/MRS-Client-1.0.1-Nn6X1F/blib/lib/MRS/Client/Blast.pm line 423.
Unescaped left brace in regex is deprecated, passed through in regex; marked by <-- HERE in m/\${ <-- HERE DBCOUNT}/ at /tmpfs/.cpan-build/2015111815/MRS-Client-1.0.1-Nn6X1F/blib/lib/MRS/Client/Blast.pm line 425.
Unescaped left brace in regex is deprecated, passed through in regex; marked by <-- HERE in m/\${ <-- HERE DBLENGTH}/ at /tmpfs/.cpan-build/2015111815/MRS-Client-1.0.1-Nn6X1F/blib/lib/MRS/Client/Blast.pm line 426.
Unescaped left brace in regex is deprecated, passed through in regex; marked by <-- HERE in m/\${ <-- HERE DBSPACE}/ at /tmpfs/.cpan-build/2015111815/MRS-Client-1.0.1-Nn6X1F/blib/lib/MRS/Client/Blast.pm line 427.
Unescaped left brace in regex is deprecated, passed through in regex; marked by <-- HERE in m/\${ <-- HERE KAPPA}/ at /tmpfs/.cpan-build/2015111815/MRS-Client-1.0.1-Nn6X1F/blib/lib/MRS/Client/Blast.pm line 428.
Unescaped left brace in regex is deprecated, passed through in regex; marked by <-- HERE in m/\${ <-- HERE LAMBDA}/ at /tmpfs/.cpan-build/2015111815/MRS-Client-1.0.1-Nn6X1F/blib/lib/MRS/Client/Blast.pm line 429.
Unescaped left brace in regex is deprecated, passed through in regex; marked by <-- HERE in m/\${ <-- HERE ENTROPY}/ at /tmpfs/.cpan-build/2015111815/MRS-Client-1.0.1-Nn6X1F/blib/lib/MRS/Client/Blast.pm line 430.
Unescaped left brace in regex is deprecated, passed through in regex; marked by <-- HERE in m/\${ <-- HERE HITNR}/ at /tmpfs/.cpan-build/2015111815/MRS-Client-1.0.1-Nn6X1F/blib/lib/MRS/Client/Blast.pm line 439.
Unescaped left brace in regex is deprecated, passed through in regex; marked by <-- HERE in m/\${ <-- HERE HITID}/ at /tmpfs/.cpan-build/2015111815/MRS-Client-1.0.1-Nn6X1F/blib/lib/MRS/Client/Blast.pm line 440.
Unescaped left brace in regex is deprecated, passed through in regex; marked by <-- HERE in m/\${ <-- HERE HITSEQID}/ at /tmpfs/.cpan-build/2015111815/MRS-Client-1.0.1-Nn6X1F/blib/lib/MRS/Client/Blast.pm line 442.
Unescaped left brace in regex is deprecated, passed through in regex; marked by <-- HERE in m/\${ <-- HERE HITSEQID}/ at /tmpfs/.cpan-build/2015111815/MRS-Client-1.0.1-Nn6X1F/blib/lib/MRS/Client/Blast.pm line 444.
Unescaped left brace in regex is deprecated, passed through in regex; marked by <-- HERE in m/\${ <-- HERE HITSUBLEN}/ at /tmpfs/.cpan-build/2015111815/MRS-Client-1.0.1-Nn6X1F/blib/lib/MRS/Client/Blast.pm line 447.
Unescaped left brace in regex is deprecated, passed through in regex; marked by <-- HERE in m/\${ <-- HERE HSPNR}/ at /tmpfs/.cpan-build/2015111815/MRS-Client-1.0.1-Nn6X1F/blib/lib/MRS/Client/Blast.pm line 456.
Unescaped left brace in regex is deprecated, passed through in regex; marked by <-- HERE in m/\${ <-- HERE HSPBITSCORE}/ at /tmpfs/.cpan-build/2015111815/MRS-Client-1.0.1-Nn6X1F/blib/lib/MRS/Client/Blast.pm line 457.
Unescaped left brace in regex is deprecated, passed through in regex; marked by <-- HERE in m/\${ <-- HERE HSPSCORE}/ at /tmpfs/.cpan-build/2015111815/MRS-Client-1.0.1-Nn6X1F/blib/lib/MRS/Client/Blast.pm line 458.
Unescaped left brace in regex is deprecated, passed through in regex; marked by <-- HERE in m/\${ <-- HERE HSPEXPECT}/ at /tmpfs/.cpan-build/2015111815/MRS-Client-1.0.1-Nn6X1F/blib/lib/MRS/Client/Blast.pm line 459.
Unescaped left brace in regex is deprecated, passed through in regex; marked by <-- HERE in m/\${ <-- HERE HSPIDENTITY}/ at /tmpfs/.cpan-build/2015111815/MRS-Client-1.0.1-Nn6X1F/blib/lib/MRS/Client/Blast.pm line 460.
Unescaped left brace in regex is deprecated, passed through in regex; marked by <-- HERE in m/\${ <-- HERE HSPPOSITIVE}/ at /tmpfs/.cpan-build/2015111815/MRS-Client-1.0.1-Nn6X1F/blib/lib/MRS/Client/Blast.pm line 461.
Unescaped left brace in regex is deprecated, passed through in regex; marked by <-- HERE in m/\${ <-- HERE HSPMIDLINE}/ at /tmpfs/.cpan-build/2015111815/MRS-Client-1.0.1-Nn6X1F/blib/lib/MRS/Client/Blast.pm line 462.
Unescaped left brace in regex is deprecated, passed through in regex; marked by <-- HERE in m/\${ <-- HERE HSPQFROM}/ at /tmpfs/.cpan-build/2015111815/MRS-Client-1.0.1-Nn6X1F/blib/lib/MRS/Client/Blast.pm line 484.
Unescaped left brace in regex is deprecated, passed through in regex; marked by <-- HERE in m/\${ <-- HERE HSPQTO}/ at /tmpfs/.cpan-build/2015111815/MRS-Client-1.0.1-Nn6X1F/blib/lib/MRS/Client/Blast.pm line 485.
Unescaped left brace in regex is deprecated, passed through in regex; marked by <-- HERE in m/\${ <-- HERE HSPHFROM}/ at /tmpfs/.cpan-build/2015111815/MRS-Client-1.0.1-Nn6X1F/blib/lib/MRS/Client/Blast.pm line 486.
Unescaped left brace in regex is deprecated, passed through in regex; marked by <-- HERE in m/\${ <-- HERE HSPHTO}/ at /tmpfs/.cpan-build/2015111815/MRS-Client-1.0.1-Nn6X1F/blib/lib/MRS/Client/Blast.pm line 487.
Unescaped left brace in regex is deprecated, passed through in regex; marked by <-- HERE in m/\${ <-- HERE HSPALIGNLEN}/ at /tmpfs/.cpan-build/2015111815/MRS-Client-1.0.1-Nn6X1F/blib/lib/MRS/Client/Blast.pm line 488.
Unescaped left brace in regex is deprecated, passed through in regex; marked by <-- HERE in m/\${ <-- HERE HSPQALIGN}/ at /tmpfs/.cpan-build/2015111815/MRS-Client-1.0.1-Nn6X1F/blib/lib/MRS/Client/Blast.pm line 489.
Unescaped left brace in regex is deprecated, passed through in regex; marked by <-- HERE in m/\${ <-- HERE HSPSUBALIGN}/ at /tmpfs/.cpan-build/2015111815/MRS-Client-1.0.1-Nn6X1F/blib/lib/MRS/Client/Blast.pm line 490.
Unescaped left brace in regex is deprecated, passed through in regex; marked by <-- HERE in m/\${ <-- HERE LOCATION}/ at /tmpfs/.cpan-build/2015111815/MRS-Client-1.0.1-Nn6X1F/blib/lib/MRS/Client.pm line 221.
Unescaped left brace in regex is deprecated, passed through in regex; marked by <-- HERE in m/\${ <-- HERE SERVICE}/ at /tmpfs/.cpan-build/2015111815/MRS-Client-1.0.1-Nn6X1F/blib/lib/MRS/Client.pm line 222.
# Data manipulation
t/01-data.t ............. ok
Possible precedence issue with control flow operator at /tmpfs/.cpan-build/2015111815/MRS-Client-1.0.1-Nn6X1F/blib/lib/MRS/Client/Blast.pm line 269.
Unescaped left brace in regex is deprecated, passed through in regex; marked by <-- HERE in m/\${ <-- HERE JOBID}/ at /tmpfs/.cpan-build/2015111815/MRS-Client-1.0.1-Nn6X1F/blib/lib/MRS/Client/Blast.pm line 409.
Unescaped left brace in regex is deprecated, passed through in regex; marked by <-- HERE in m/\${ <-- HERE SEQDESC}/ at /tmpfs/.cpan-build/2015111815/MRS-Client-1.0.1-Nn6X1F/blib/lib/MRS/Client/Blast.pm line 411.
Unescaped left brace in regex is deprecated, passed through in regex; marked by <-- HERE in m/\${ <-- HERE SEQDESC}/ at /tmpfs/.cpan-build/2015111815/MRS-Client-1.0.1-Nn6X1F/blib/lib/MRS/Client/Blast.pm line 413.
Unescaped left brace in regex is deprecated, passed through in regex; marked by <-- HERE in m/\${ <-- HERE SEQDESC}/ at /tmpfs/.cpan-build/2015111815/MRS-Client-1.0.1-Nn6X1F/blib/lib/MRS/Client/Blast.pm line 415.
Unescaped left brace in regex is deprecated, passed through in regex; marked by <-- HERE in m/\${ <-- HERE DB}/ at /tmpfs/.cpan-build/2015111815/MRS-Client-1.0.1-Nn6X1F/blib/lib/MRS/Client/Blast.pm line 417.
Unescaped left brace in regex is deprecated, passed through in regex; marked by <-- HERE in m/\${ <-- HERE SEQLEN}/ at /tmpfs/.cpan-build/2015111815/MRS-Client-1.0.1-Nn6X1F/blib/lib/MRS/Client/Blast.pm line 418.
Unescaped left brace in regex is deprecated, passed through in regex; marked by <-- HERE in m/\${ <-- HERE PARMATRIX}/ at /tmpfs/.cpan-build/2015111815/MRS-Client-1.0.1-Nn6X1F/blib/lib/MRS/Client/Blast.pm line 419.
Unescaped left brace in regex is deprecated, passed through in regex; marked by <-- HERE in m/\${ <-- HERE PAREXPECT}/ at /tmpfs/.cpan-build/2015111815/MRS-Client-1.0.1-Nn6X1F/blib/lib/MRS/Client/Blast.pm line 420.
Unescaped left brace in regex is deprecated, passed through in regex; marked by <-- HERE in m/\${ <-- HERE PARGAPOPEN}/ at /tmpfs/.cpan-build/2015111815/MRS-Client-1.0.1-Nn6X1F/blib/lib/MRS/Client/Blast.pm line 421.
Unescaped left brace in regex is deprecated, passed through in regex; marked by <-- HERE in m/\${ <-- HERE PARGAPEXTEND}/ at /tmpfs/.cpan-build/2015111815/MRS-Client-1.0.1-Nn6X1F/blib/lib/MRS/Client/Blast.pm line 422.
Unescaped left brace in regex is deprecated, passed through in regex; marked by <-- HERE in m/\${ <-- HERE PARFILTER}/ at /tmpfs/.cpan-build/2015111815/MRS-Client-1.0.1-Nn6X1F/blib/lib/MRS/Client/Blast.pm line 423.
Unescaped left brace in regex is deprecated, passed through in regex; marked by <-- HERE in m/\${ <-- HERE DBCOUNT}/ at /tmpfs/.cpan-build/2015111815/MRS-Client-1.0.1-Nn6X1F/blib/lib/MRS/Client/Blast.pm line 425.
Unescaped left brace in regex is deprecated, passed through in regex; marked by <-- HERE in m/\${ <-- HERE DBLENGTH}/ at /tmpfs/.cpan-build/2015111815/MRS-Client-1.0.1-Nn6X1F/blib/lib/MRS/Client/Blast.pm line 426.
Unescaped left brace in regex is deprecated, passed through in regex; marked by <-- HERE in m/\${ <-- HERE DBSPACE}/ at /tmpfs/.cpan-build/2015111815/MRS-Client-1.0.1-Nn6X1F/blib/lib/MRS/Client/Blast.pm line 427.
Unescaped left brace in regex is deprecated, passed through in regex; marked by <-- HERE in m/\${ <-- HERE KAPPA}/ at /tmpfs/.cpan-build/2015111815/MRS-Client-1.0.1-Nn6X1F/blib/lib/MRS/Client/Blast.pm line 428.
Unescaped left brace in regex is deprecated, passed through in regex; marked by <-- HERE in m/\${ <-- HERE LAMBDA}/ at /tmpfs/.cpan-build/2015111815/MRS-Client-1.0.1-Nn6X1F/blib/lib/MRS/Client/Blast.pm line 429.
Unescaped left brace in regex is deprecated, passed through in regex; marked by <-- HERE in m/\${ <-- HERE ENTROPY}/ at /tmpfs/.cpan-build/2015111815/MRS-Client-1.0.1-Nn6X1F/blib/lib/MRS/Client/Blast.pm line 430.
Unescaped left brace in regex is deprecated, passed through in regex; marked by <-- HERE in m/\${ <-- HERE HITNR}/ at /tmpfs/.cpan-build/2015111815/MRS-Client-1.0.1-Nn6X1F/blib/lib/MRS/Client/Blast.pm line 439.
Unescaped left brace in regex is deprecated, passed through in regex; marked by <-- HERE in m/\${ <-- HERE HITID}/ at /tmpfs/.cpan-build/2015111815/MRS-Client-1.0.1-Nn6X1F/blib/lib/MRS/Client/Blast.pm line 440.
Unescaped left brace in regex is deprecated, passed through in regex; marked by <-- HERE in m/\${ <-- HERE HITSEQID}/ at /tmpfs/.cpan-build/2015111815/MRS-Client-1.0.1-Nn6X1F/blib/lib/MRS/Client/Blast.pm line 442.
Unescaped left brace in regex is deprecated, passed through in regex; marked by <-- HERE in m/\${ <-- HERE HITSEQID}/ at /tmpfs/.cpan-build/2015111815/MRS-Client-1.0.1-Nn6X1F/blib/lib/MRS/Client/Blast.pm line 444.
Unescaped left brace in regex is deprecated, passed through in regex; marked by <-- HERE in m/\${ <-- HERE HITSUBLEN}/ at /tmpfs/.cpan-build/2015111815/MRS-Client-1.0.1-Nn6X1F/blib/lib/MRS/Client/Blast.pm line 447.
Unescaped left brace in regex is deprecated, passed through in regex; marked by <-- HERE in m/\${ <-- HERE HSPNR}/ at /tmpfs/.cpan-build/2015111815/MRS-Client-1.0.1-Nn6X1F/blib/lib/MRS/Client/Blast.pm line 456.
Unescaped left brace in regex is deprecated, passed through in regex; marked by <-- HERE in m/\${ <-- HERE HSPBITSCORE}/ at /tmpfs/.cpan-build/2015111815/MRS-Client-1.0.1-Nn6X1F/blib/lib/MRS/Client/Blast.pm line 457.
Unescaped left brace in regex is deprecated, passed through in regex; marked by <-- HERE in m/\${ <-- HERE HSPSCORE}/ at /tmpfs/.cpan-build/2015111815/MRS-Client-1.0.1-Nn6X1F/blib/lib/MRS/Client/Blast.pm line 458.
Unescaped left brace in regex is deprecated, passed through in regex; marked by <-- HERE in m/\${ <-- HERE HSPEXPECT}/ at /tmpfs/.cpan-build/2015111815/MRS-Client-1.0.1-Nn6X1F/blib/lib/MRS/Client/Blast.pm line 459.
Unescaped left brace in regex is deprecated, passed through in regex; marked by <-- HERE in m/\${ <-- HERE HSPIDENTITY}/ at /tmpfs/.cpan-build/2015111815/MRS-Client-1.0.1-Nn6X1F/blib/lib/MRS/Client/Blast.pm line 460.
Unescaped left brace in regex is deprecated, passed through in regex; marked by <-- HERE in m/\${ <-- HERE HSPPOSITIVE}/ at /tmpfs/.cpan-build/2015111815/MRS-Client-1.0.1-Nn6X1F/blib/lib/MRS/Client/Blast.pm line 461.
Unescaped left brace in regex is deprecated, passed through in regex; marked by <-- HERE in m/\${ <-- HERE HSPMIDLINE}/ at /tmpfs/.cpan-build/2015111815/MRS-Client-1.0.1-Nn6X1F/blib/lib/MRS/Client/Blast.pm line 462.
Unescaped left brace in regex is deprecated, passed through in regex; marked by <-- HERE in m/\${ <-- HERE HSPQFROM}/ at /tmpfs/.cpan-build/2015111815/MRS-Client-1.0.1-Nn6X1F/blib/lib/MRS/Client/Blast.pm line 484.
Unescaped left brace in regex is deprecated, passed through in regex; marked by <-- HERE in m/\${ <-- HERE HSPQTO}/ at /tmpfs/.cpan-build/2015111815/MRS-Client-1.0.1-Nn6X1F/blib/lib/MRS/Client/Blast.pm line 485.
Unescaped left brace in regex is deprecated, passed through in regex; marked by <-- HERE in m/\${ <-- HERE HSPHFROM}/ at /tmpfs/.cpan-build/2015111815/MRS-Client-1.0.1-Nn6X1F/blib/lib/MRS/Client/Blast.pm line 486.
Unescaped left brace in regex is deprecated, passed through in regex; marked by <-- HERE in m/\${ <-- HERE HSPHTO}/ at /tmpfs/.cpan-build/2015111815/MRS-Client-1.0.1-Nn6X1F/blib/lib/MRS/Client/Blast.pm line 487.
Unescaped left brace in regex is deprecated, passed through in regex; marked by <-- HERE in m/\${ <-- HERE HSPALIGNLEN}/ at /tmpfs/.cpan-build/2015111815/MRS-Client-1.0.1-Nn6X1F/blib/lib/MRS/Client/Blast.pm line 488.
Unescaped left brace in regex is deprecated, passed through in regex; marked by <-- HERE in m/\${ <-- HERE HSPQALIGN}/ at /tmpfs/.cpan-build/2015111815/MRS-Client-1.0.1-Nn6X1F/blib/lib/MRS/Client/Blast.pm line 489.
Unescaped left brace in regex is deprecated, passed through in regex; marked by <-- HERE in m/\${ <-- HERE HSPSUBALIGN}/ at /tmpfs/.cpan-build/2015111815/MRS-Client-1.0.1-Nn6X1F/blib/lib/MRS/Client/Blast.pm line 490.
Unescaped left brace in regex is deprecated, passed through in regex; marked by <-- HERE in m/\${ <-- HERE LOCATION}/ at /tmpfs/.cpan-build/2015111815/MRS-Client-1.0.1-Nn6X1F/blib/lib/MRS/Client.pm line 221.
Unescaped left brace in regex is deprecated, passed through in regex; marked by <-- HERE in m/\${ <-- HERE SERVICE}/ at /tmpfs/.cpan-build/2015111815/MRS-Client-1.0.1-Nn6X1F/blib/lib/MRS/Client.pm line 222.
# Setting host and endpoints
t/02-endpoint.t ......... ok
t/03-network.t .......... skipped: these tests are for testing by the author (when AUTHOR_TESTING=1)
Possible precedence issue with control flow operator at /tmpfs/.cpan-build/2015111815/MRS-Client-1.0.1-Nn6X1F/blib/lib/MRS/Client/Blast.pm line 269.
Unescaped left brace in regex is deprecated, passed through in regex; marked by <-- HERE in m/\${ <-- HERE JOBID}/ at /tmpfs/.cpan-build/2015111815/MRS-Client-1.0.1-Nn6X1F/blib/lib/MRS/Client/Blast.pm line 409.
Unescaped left brace in regex is deprecated, passed through in regex; marked by <-- HERE in m/\${ <-- HERE SEQDESC}/ at /tmpfs/.cpan-build/2015111815/MRS-Client-1.0.1-Nn6X1F/blib/lib/MRS/Client/Blast.pm line 411.
Unescaped left brace in regex is deprecated, passed through in regex; marked by <-- HERE in m/\${ <-- HERE SEQDESC}/ at /tmpfs/.cpan-build/2015111815/MRS-Client-1.0.1-Nn6X1F/blib/lib/MRS/Client/Blast.pm line 413.
Unescaped left brace in regex is deprecated, passed through in regex; marked by <-- HERE in m/\${ <-- HERE SEQDESC}/ at /tmpfs/.cpan-build/2015111815/MRS-Client-1.0.1-Nn6X1F/blib/lib/MRS/Client/Blast.pm line 415.
Unescaped left brace in regex is deprecated, passed through in regex; marked by <-- HERE in m/\${ <-- HERE DB}/ at /tmpfs/.cpan-build/2015111815/MRS-Client-1.0.1-Nn6X1F/blib/lib/MRS/Client/Blast.pm line 417.
Unescaped left brace in regex is deprecated, passed through in regex; marked by <-- HERE in m/\${ <-- HERE SEQLEN}/ at /tmpfs/.cpan-build/2015111815/MRS-Client-1.0.1-Nn6X1F/blib/lib/MRS/Client/Blast.pm line 418.
Unescaped left brace in regex is deprecated, passed through in regex; marked by <-- HERE in m/\${ <-- HERE PARMATRIX}/ at /tmpfs/.cpan-build/2015111815/MRS-Client-1.0.1-Nn6X1F/blib/lib/MRS/Client/Blast.pm line 419.
Unescaped left brace in regex is deprecated, passed through in regex; marked by <-- HERE in m/\${ <-- HERE PAREXPECT}/ at /tmpfs/.cpan-build/2015111815/MRS-Client-1.0.1-Nn6X1F/blib/lib/MRS/Client/Blast.pm line 420.
Unescaped left brace in regex is deprecated, passed through in regex; marked by <-- HERE in m/\${ <-- HERE PARGAPOPEN}/ at /tmpfs/.cpan-build/2015111815/MRS-Client-1.0.1-Nn6X1F/blib/lib/MRS/Client/Blast.pm line 421.
Unescaped left brace in regex is deprecated, passed through in regex; marked by <-- HERE in m/\${ <-- HERE PARGAPEXTEND}/ at /tmpfs/.cpan-build/2015111815/MRS-Client-1.0.1-Nn6X1F/blib/lib/MRS/Client/Blast.pm line 422.
Unescaped left brace in regex is deprecated, passed through in regex; marked by <-- HERE in m/\${ <-- HERE PARFILTER}/ at /tmpfs/.cpan-build/2015111815/MRS-Client-1.0.1-Nn6X1F/blib/lib/MRS/Client/Blast.pm line 423.
Unescaped left brace in regex is deprecated, passed through in regex; marked by <-- HERE in m/\${ <-- HERE DBCOUNT}/ at /tmpfs/.cpan-build/2015111815/MRS-Client-1.0.1-Nn6X1F/blib/lib/MRS/Client/Blast.pm line 425.
Unescaped left brace in regex is deprecated, passed through in regex; marked by <-- HERE in m/\${ <-- HERE DBLENGTH}/ at /tmpfs/.cpan-build/2015111815/MRS-Client-1.0.1-Nn6X1F/blib/lib/MRS/Client/Blast.pm line 426.
Unescaped left brace in regex is deprecated, passed through in regex; marked by <-- HERE in m/\${ <-- HERE DBSPACE}/ at /tmpfs/.cpan-build/2015111815/MRS-Client-1.0.1-Nn6X1F/blib/lib/MRS/Client/Blast.pm line 427.
Unescaped left brace in regex is deprecated, passed through in regex; marked by <-- HERE in m/\${ <-- HERE KAPPA}/ at /tmpfs/.cpan-build/2015111815/MRS-Client-1.0.1-Nn6X1F/blib/lib/MRS/Client/Blast.pm line 428.
Unescaped left brace in regex is deprecated, passed through in regex; marked by <-- HERE in m/\${ <-- HERE LAMBDA}/ at /tmpfs/.cpan-build/2015111815/MRS-Client-1.0.1-Nn6X1F/blib/lib/MRS/Client/Blast.pm line 429.
Unescaped left brace in regex is deprecated, passed through in regex; marked by <-- HERE in m/\${ <-- HERE ENTROPY}/ at /tmpfs/.cpan-build/2015111815/MRS-Client-1.0.1-Nn6X1F/blib/lib/MRS/Client/Blast.pm line 430.
Unescaped left brace in regex is deprecated, passed through in regex; marked by <-- HERE in m/\${ <-- HERE HITNR}/ at /tmpfs/.cpan-build/2015111815/MRS-Client-1.0.1-Nn6X1F/blib/lib/MRS/Client/Blast.pm line 439.
Unescaped left brace in regex is deprecated, passed through in regex; marked by <-- HERE in m/\${ <-- HERE HITID}/ at /tmpfs/.cpan-build/2015111815/MRS-Client-1.0.1-Nn6X1F/blib/lib/MRS/Client/Blast.pm line 440.
Unescaped left brace in regex is deprecated, passed through in regex; marked by <-- HERE in m/\${ <-- HERE HITSEQID}/ at /tmpfs/.cpan-build/2015111815/MRS-Client-1.0.1-Nn6X1F/blib/lib/MRS/Client/Blast.pm line 442.
Unescaped left brace in regex is deprecated, passed through in regex; marked by <-- HERE in m/\${ <-- HERE HITSEQID}/ at /tmpfs/.cpan-build/2015111815/MRS-Client-1.0.1-Nn6X1F/blib/lib/MRS/Client/Blast.pm line 444.
Unescaped left brace in regex is deprecated, passed through in regex; marked by <-- HERE in m/\${ <-- HERE HITSUBLEN}/ at /tmpfs/.cpan-build/2015111815/MRS-Client-1.0.1-Nn6X1F/blib/lib/MRS/Client/Blast.pm line 447.
Unescaped left brace in regex is deprecated, passed through in regex; marked by <-- HERE in m/\${ <-- HERE HSPNR}/ at /tmpfs/.cpan-build/2015111815/MRS-Client-1.0.1-Nn6X1F/blib/lib/MRS/Client/Blast.pm line 456.
Unescaped left brace in regex is deprecated, passed through in regex; marked by <-- HERE in m/\${ <-- HERE HSPBITSCORE}/ at /tmpfs/.cpan-build/2015111815/MRS-Client-1.0.1-Nn6X1F/blib/lib/MRS/Client/Blast.pm line 457.
Unescaped left brace in regex is deprecated, passed through in regex; marked by <-- HERE in m/\${ <-- HERE HSPSCORE}/ at /tmpfs/.cpan-build/2015111815/MRS-Client-1.0.1-Nn6X1F/blib/lib/MRS/Client/Blast.pm line 458.
Unescaped left brace in regex is deprecated, passed through in regex; marked by <-- HERE in m/\${ <-- HERE HSPEXPECT}/ at /tmpfs/.cpan-build/2015111815/MRS-Client-1.0.1-Nn6X1F/blib/lib/MRS/Client/Blast.pm line 459.
Unescaped left brace in regex is deprecated, passed through in regex; marked by <-- HERE in m/\${ <-- HERE HSPIDENTITY}/ at /tmpfs/.cpan-build/2015111815/MRS-Client-1.0.1-Nn6X1F/blib/lib/MRS/Client/Blast.pm line 460.
Unescaped left brace in regex is deprecated, passed through in regex; marked by <-- HERE in m/\${ <-- HERE HSPPOSITIVE}/ at /tmpfs/.cpan-build/2015111815/MRS-Client-1.0.1-Nn6X1F/blib/lib/MRS/Client/Blast.pm line 461.
Unescaped left brace in regex is deprecated, passed through in regex; marked by <-- HERE in m/\${ <-- HERE HSPMIDLINE}/ at /tmpfs/.cpan-build/2015111815/MRS-Client-1.0.1-Nn6X1F/blib/lib/MRS/Client/Blast.pm line 462.
Unescaped left brace in regex is deprecated, passed through in regex; marked by <-- HERE in m/\${ <-- HERE HSPQFROM}/ at /tmpfs/.cpan-build/2015111815/MRS-Client-1.0.1-Nn6X1F/blib/lib/MRS/Client/Blast.pm line 484.
Unescaped left brace in regex is deprecated, passed through in regex; marked by <-- HERE in m/\${ <-- HERE HSPQTO}/ at /tmpfs/.cpan-build/2015111815/MRS-Client-1.0.1-Nn6X1F/blib/lib/MRS/Client/Blast.pm line 485.
Unescaped left brace in regex is deprecated, passed through in regex; marked by <-- HERE in m/\${ <-- HERE HSPHFROM}/ at /tmpfs/.cpan-build/2015111815/MRS-Client-1.0.1-Nn6X1F/blib/lib/MRS/Client/Blast.pm line 486.
Unescaped left brace in regex is deprecated, passed through in regex; marked by <-- HERE in m/\${ <-- HERE HSPHTO}/ at /tmpfs/.cpan-build/2015111815/MRS-Client-1.0.1-Nn6X1F/blib/lib/MRS/Client/Blast.pm line 487.
Unescaped left brace in regex is deprecated, passed through in regex; marked by <-- HERE in m/\${ <-- HERE HSPALIGNLEN}/ at /tmpfs/.cpan-build/2015111815/MRS-Client-1.0.1-Nn6X1F/blib/lib/MRS/Client/Blast.pm line 488.
Unescaped left brace in regex is deprecated, passed through in regex; marked by <-- HERE in m/\${ <-- HERE HSPQALIGN}/ at /tmpfs/.cpan-build/2015111815/MRS-Client-1.0.1-Nn6X1F/blib/lib/MRS/Client/Blast.pm line 489.
Unescaped left brace in regex is deprecated, passed through in regex; marked by <-- HERE in m/\${ <-- HERE HSPSUBALIGN}/ at /tmpfs/.cpan-build/2015111815/MRS-Client-1.0.1-Nn6X1F/blib/lib/MRS/Client/Blast.pm line 490.
Unescaped left brace in regex is deprecated, passed through in regex; marked by <-- HERE in m/\${ <-- HERE LOCATION}/ at /tmpfs/.cpan-build/2015111815/MRS-Client-1.0.1-Nn6X1F/blib/lib/MRS/Client.pm line 221.
Unescaped left brace in regex is deprecated, passed through in regex; marked by <-- HERE in m/\${ <-- HERE SERVICE}/ at /tmpfs/.cpan-build/2015111815/MRS-Client-1.0.1-Nn6X1F/blib/lib/MRS/Client.pm line 222.
# Manipulation of hyperlinks
t/04-links.t ............ ok
t/author-critic.t ....... skipped: these tests are for testing by the author
t/author-pod-spell.t .... skipped: these tests are for testing by the author
t/release-eol.t ......... skipped: these tests are for release candidate testing
t/release-no-tabs.t ..... skipped: these tests are for release candidate testing
t/release-pod-syntax.t .. skipped: these tests are for release candidate testing
All tests successful.
Files=11, Tests=113,  3 wallclock secs ( 0.06 usr  0.05 sys +  1.48 cusr  1.51 csys =  3.10 CPU)
Result: PASS

------------------------------
PREREQUISITES
------------------------------

Prerequisite modules loaded:

requires:

    Module                            Need Have    
    --------------------------------- ---- --------
    base                              0    2.22    
    Carp                              0    1.38    
    constant                          0    1.33    
    Data::Dumper                      0    2.158   
    File::Basename                    0    2.85    
    FindBin                           0    1.51    
    Getopt::Std                       0    1.11    
    Math::BigInt                      0    1.999710
    overload                          0    1.26    
    strict                            0    1.09    
    vars                              0    1.03    
    warnings                          0    1.34    
    XML::Compile::SOAP11              2.26 3.13    
    XML::Compile::Transport::SOAPHTTP 0    3.13    
    XML::Compile::WSDL11              0    3.04    

build_requires:

    Module                            Need Have    
    --------------------------------- ---- --------
    File::Find                        0    1.29    
    File::Spec                        0    3.59    
    File::Temp                        0    0.2304  
    Test::More                        0    1.001014

configure_requires:

    Module                            Need Have    
    --------------------------------- ---- --------
    ExtUtils::MakeMaker               6.30 7.10    


------------------------------
ENVIRONMENT AND OTHER CONTEXT
------------------------------

Environment variables:

    LANG = C
    PATH = /usr/local/bin:/usr/bin:/bin:/usr/local/sbin:/usr/sbin:/sbin:/home/eserte/bin/linux-gnu:/home/eserte/bin/sh:/home/eserte/bin:/usr/games:/home/eserte/devel:/home/eserte/src/srezic-misc/scripts
    PERL5LIB = /home/eserte/.cpan/build/2015111815/Config-Any-Merge-0.08-grvGIT/blib/arch:/home/eserte/.cpan/build/2015111815/Config-Any-Merge-0.08-grvGIT/blib/lib:/home/eserte/.cpan/build/2015111815/RRDTool-Rawish-0.032-FI0qQC/blib/arch:/home/eserte/.cpan/build/2015111815/RRDTool-Rawish-0.032-FI0qQC/blib/lib:/home/eserte/.cpan/build/2015111815/Test-Mock-ExternalCommand-0.03-YmEUhc/blib/arch:/home/eserte/.cpan/build/2015111815/Test-Mock-ExternalCommand-0.03-YmEUhc/blib/lib:/home/eserte/.cpan/build/2015111815/Variable-Expand-AnyLevel-0.02-aHSV0m/blib/arch:/home/eserte/.cpan/build/2015111815/Variable-Expand-AnyLevel-0.02-aHSV0m/blib/lib:/home/eserte/.cpan/build/2015111815/Integer-Partition-0.05-iswvJ3/blib/arch:/home/eserte/.cpan/build/2015111815/Integer-Partition-0.05-iswvJ3/blib/lib:/home/eserte/.cpan/build/2015111815/CloudPAN-1.131740-Or5Z23/blib/arch:/home/eserte/.cpan/build/2015111815/CloudPAN-1.131740-Or5Z23/blib/lib:/home/eserte/.cpan/build/2015111815/App-pmdeps-0.02-iHhqs9/blib/arch:/home/eserte/.cpan/build/2015111815/App-pmdeps-0.02-iHhqs9/blib/lib:/home/eserte/.cpan/build/2015111815/WWW-Weather-Yahoo-0.07-nSnaqM/blib/arch:/home/eserte/.cpan/build/2015111815/WWW-Weather-Yahoo-0.07-nSnaqM/blib/lib:/home/eserte/.cpan/build/2015111815/Twiggy-TLS-0.0019-HlkdAg/blib/arch:/home/eserte/.cpan/build/2015111815/Twiggy-TLS-0.0019-HlkdAg/blib/lib:/home/eserte/.cpan/build/2015111815/Time-Piece-DayOfWeek-0.02-tBEyH1/blib/arch:/home/eserte/.cpan/build/2015111815/Time-Piece-DayOfWeek-0.02-tBEyH1/blib/lib:/home/eserte/.cpan/build/2015111815/Statistics-Sequences-Joins-0.11-ZRSw4X/blib/arch:/home/eserte/.cpan/build/2015111815/Statistics-Sequences-Joins-0.11-ZRSw4X/blib/lib:/home/eserte/.cpan/build/2015111815/Statistics-Sequences-0.12-xfyFir/blib/arch:/home/eserte/.cpan/build/2015111815/Statistics-Sequences-0.12-xfyFir/blib/lib:/home/eserte/.cpan/build/2015111815/Statistics-Data-Dichotomize-0.03-jt9VGv/blib/arch:/home/eserte/.cpan/build/2015111815/Statistics-Data-Dichotomize-0.03-jt9VGv/blib/lib:/home/eserte/.cpan/build/2015111815/Statistics-Zed-0.10-CsvFa3/blib/arch:/home/eserte/.cpan/build/2015111815/Statistics-Zed-0.10-CsvFa3/blib/lib:/home/eserte/.cpan/build/2015111815/Statistics-Data-0.09-jUFr2e/blib/arch:/home/eserte/.cpan/build/2015111815/Statistics-Data-0.09-jUFr2e/blib/lib:/home/eserte/.cpan/build/2015111815/Math-Cephes-0.5304-Nlp6nt/blib/arch:/home/eserte/.cpan/build/2015111815/Math-Cephes-0.5304-Nlp6nt/blib/lib:/home/eserte/.cpan/build/2015111815/Mail-Postfixadmin-zYJh4r/blib/arch:/home/eserte/.cpan/build/2015111815/Mail-Postfixadmin-zYJh4r/blib/lib:/home/eserte/.cpan/build/2015111815/Log-Dispatch-Configurator-Perl-0.0132-thpXen/blib/arch:/home/eserte/.cpan/build/2015111815/Log-Dispatch-Configurator-Perl-0.0132-thpXen/blib/lib:/home/eserte/.cpan/build/2015111815/Filesys-DiskUsage-Fast-0.04-3RYYxb/blib/arch:/home/eserte/.cpan/build/2015111815/Filesys-DiskUsage-Fast-0.04-3RYYxb/blib/lib:/home/eserte/.cpan/build/2015111815/Catmandu-Store-Lucy-0.0101-jn7o4V/blib/arch:/home/eserte/.cpan/build/2015111815/Catmandu-Store-Lucy-0.0101-jn7o4V/blib/lib:/home/eserte/.cpan/build/2015111815/WWW-Deezer-0.02-23VgIU/blib/arch:/home/eserte/.cpan/build/2015111815/WWW-Deezer-0.02-23VgIU/blib/lib:/home/eserte/.cpan/build/2015111815/Math-FixedPoint-0.20130625.1928-dR_rN7/blib/arch:/home/eserte/.cpan/build/2015111815/Math-FixedPoint-0.20130625.1928-dR_rN7/blib/lib:/home/eserte/.cpan/build/2015111815/Astro-Funtools-Parse-0.08-Kq0TpW/blib/arch:/home/eserte/.cpan/build/2015111815/Astro-Funtools-Parse-0.08-Kq0TpW/blib/lib:/home/eserte/.cpan/build/2015111815/Data-LineBuffer-0.01-NL1O_p/blib/arch:/home/eserte/.cpan/build/2015111815/Data-LineBuffer-0.01-NL1O_p/blib/lib:/home/eserte/.cpan/build/2015111815/Apache-LoadAvgLimit-0.04-R8aorC/blib/arch:/home/eserte/.cpan/build/2015111815/Apache-LoadAvgLimit-0.04-R8aorC/blib/lib:/home/eserte/.cpan/build/2015111815/Web-Util-DBIC-Paging-0.001003-7x7xMR/blib/arch:/home/eserte/.cpan/build/2015111815/Web-Util-DBIC-Paging-0.001003-7x7xMR/blib/lib:/home/eserte/.cpan/build/2015111815/POEx-Tickit-0.02-RwZKw_/blib/arch:/home/eserte/.cpan/build/2015111815/POEx-Tickit-0.02-RwZKw_/blib/lib:/home/eserte/.cpan/build/2015111815/POE-Component-IRC-Plugin-WWW-Reddit-TIL-0.07-gaFkgo/blib/arch:/home/eserte/.cpan/build/2015111815/POE-Component-IRC-Plugin-WWW-Reddit-TIL-0.07-gaFkgo/blib/lib:/home/eserte/.cpan/build/2015111815/WWW-Shorten-Bitly-1.17-QP27sz/blib/arch:/home/eserte/.cpan/build/2015111815/WWW-Shorten-Bitly-1.17-QP27sz/blib/lib:/home/eserte/.cpan/build/2015111815/JSON-ON-v0.0.3-1PGeCT/blib/arch:/home/eserte/.cpan/build/2015111815/JSON-ON-v0.0.3-1PGeCT/blib/lib:/home/eserte/.cpan/build/2015111815/Class-Accessor-Classy-v0.9.1-J0Rvnx/blib/arch:/home/eserte/.cpan/build/2015111815/Class-Accessor-Classy-v0.9.1-J0Rvnx/blib/lib:/home/eserte/.cpan/build/2015111815/Convert-GeekCode-0.63-3JbT9k/blib/arch:/home/eserte/.cpan/build/2015111815/Convert-GeekCode-0.63-3JbT9k/blib/lib:/home/eserte/.cpan/build/2015111815/Software-License-NetHack-0.01-8AFQ0m/blib/arch:/home/eserte/.cpan/build/2015111815/Software-License-NetHack-0.01-8AFQ0m/blib/lib:/home/eserte/.cpan/build/2015111815/IPC-RunExternal-0.09-Z6LNv9/blib/arch:/home/eserte/.cpan/build/2015111815/IPC-RunExternal-0.09-Z6LNv9/blib/lib:/home/eserte/.cpan/build/2015111815/HTML-Copy-1.31-AY01NV/blib/arch:/home/eserte/.cpan/build/2015111815/HTML-Copy-1.31-AY01NV/blib/lib:/home/eserte/.cpan/build/2015111815/Dist-Zilla-MintingProfile-Project-OSM-0.2.0-rZnole/blib/arch:/home/eserte/.cpan/build/2015111815/Dist-Zilla-MintingProfile-Project-OSM-0.2.0-rZnole/blib/lib:/home/eserte/.cpan/build/2015111815/Dist-Zilla-MintingProfile-PLTK-0.2.0-aUeE0Q/blib/arch:/home/eserte/.cpan/build/2015111815/Dist-Zilla-MintingProfile-PLTK-0.2.0-aUeE0Q/blib/lib:/home/eserte/.cpan/build/2015111815/Catalyst-Model-PayPal-IPN-0.04-DEUz9H/blib/arch:/home/eserte/.cpan/build/2015111815/Catalyst-Model-PayPal-IPN-0.04-DEUz9H/blib/lib:/home/eserte/.cpan/build/2015111815/Business-PayPal-IPN-1.94-h2xetP/blib/arch:/home/eserte/.cpan/build/2015111815/Business-PayPal-IPN-1.94-h2xetP/blib/lib:/home/eserte/.cpan/build/2015111815/AnyEvent-FileLock-0.03-T145WN/blib/arch:/home/eserte/.cpan/build/2015111815/AnyEvent-FileLock-0.03-T145WN/blib/lib:/home/eserte/.cpan/build/2015111815/Method-WeakCallback-0.04-2FQ8B9/blib/arch:/home/eserte/.cpan/build/2015111815/Method-WeakCallback-0.04-2FQ8B9/blib/lib:/home/eserte/.cpan/build/2015111815/Tree-Persist-1.10-9u7p_k/blib/arch:/home/eserte/.cpan/build/2015111815/Tree-Persist-1.10-9u7p_k/blib/lib:/home/eserte/.cpan/build/2015111815/Tree-1.07-57YvRp/blib/arch:/home/eserte/.cpan/build/2015111815/Tree-1.07-57YvRp/blib/lib:/home/eserte/.cpan/build/2015111815/Plack-Middleware-ServerStatus-Tiny-0.002-dU8VLK/blib/arch:/home/eserte/.cpan/build/2015111815/Plack-Middleware-ServerStatus-Tiny-0.002-dU8VLK/blib/lib:/home/eserte/.cpan/build/2015111815/NetHack-Engravings-0.02-L7QgKZ/blib/arch:/home/eserte/.cpan/build/2015111815/NetHack-Engravings-0.02-L7QgKZ/blib/lib:/home/eserte/.cpan/build/2015111815/MediaWiki-EditFramework-0.02-Mr0Kru/blib/arch:/home/eserte/.cpan/build/2015111815/MediaWiki-EditFramework-0.02-Mr0Kru/blib/lib:/home/eserte/.cpan/build/2015111815/Geo-Coder-Mapquest-0.06-zWFnhO/blib/arch:/home/eserte/.cpan/build/2015111815/Geo-Coder-Mapquest-0.06-zWFnhO/blib/lib:/home/eserte/.cpan/build/2015111815/Etsy-StatsD-1.001-_zqSUe/blib/arch:/home/eserte/.cpan/build/2015111815/Etsy-StatsD-1.001-_zqSUe/blib/lib
    PERL5OPT = 
    PERL5_CPANPLUS_IS_RUNNING = 18102
    PERL5_CPAN_IS_RUNNING = 18102
    PERL5_CPAN_IS_RUNNING_IN_RECURSION = 27888,18102
    PERLDOC = -MPod::Perldoc::ToTextOverstrike
    PERL_BATCH = yes
    PERL_CANARY_STABILITY_NOPROMPT = 1
    PERL_CPAN_REPORTER_CONFIG = /var/tmp/cpansmoker-1001/2015111806/cpanreporter_002_config.ini
    PERL_EXTUTILS_AUTOINSTALL = --defaultdeps
    SHELL = /bin/zsh
    TERM = screen
    TMPDIR = /var/tmp/cpansmoker-1001/2015111806

Perl special variables (and OS-specific diagnostics, for MSWin32):

    $^X = /bbbike/perl-5.22.1-RC2/bin/perl
    $UID/$EUID = 1001 / 1001
    $GID = 1001 109 1001
    $EGID = 1001 109 1001

Perl module toolchain versions installed:

    Module              Have    
    ------------------- --------
    CPAN                2.11    
    CPAN::Meta          2.150005
    Cwd                 3.59    
    ExtUtils::CBuilder  0.280224
    ExtUtils::Command   7.10    
    ExtUtils::Install   2.04    
    ExtUtils::MakeMaker 7.10    
    ExtUtils::Manifest  1.70    
    ExtUtils::ParseXS   3.30    
    File::Spec          3.59    
    JSON                2.90    
    JSON::PP            2.27300 
    Module::Build       0.4214  
    Module::Signature   n/a     
    Parse::CPAN::Meta   1.4414  
    Test::Harness       3.35    
    Test::More          1.001014
    YAML                1.15    
    YAML::Syck          1.29    
    version             0.9912  


--

Summary of my perl5 (revision 5 version 22 subversion 1) configuration:
   
  Platform:
    osname=linux, osvers=3.2.0-4-amd64, archname=x86_64-linux
    uname='linux eserte 3.2.0-4-amd64 #1 smp debian 3.2.68-1+deb7u6 x86_64 gnulinux '
    config_args='-ds -e -Dprefix=/opt/perl-5.22.1-RC2 -Dcf_email=srezic@cpan.org'
    hint=recommended, useposix=true, d_sigaction=define
    useithreads=undef, usemultiplicity=undef
    use64bitint=define, use64bitall=define, uselongdouble=undef
    usemymalloc=n, bincompat5005=undef
  Compiler:
    cc='cc', ccflags ='-fwrapv -fno-strict-aliasing -pipe -fstack-protector -I/usr/local/include -D_LARGEFILE_SOURCE -D_FILE_OFFSET_BITS=64 -D_FORTIFY_SOURCE=2',
    optimize='-O2',
    cppflags='-fwrapv -fno-strict-aliasing -pipe -fstack-protector -I/usr/local/include'
    ccversion='', gccversion='4.7.2', gccosandvers=''
    intsize=4, longsize=8, ptrsize=8, doublesize=8, byteorder=12345678, doublekind=3
    d_longlong=define, longlongsize=8, d_longdbl=define, longdblsize=16, longdblkind=3
    ivtype='long', ivsize=8, nvtype='double', nvsize=8, Off_t='off_t', lseeksize=8
    alignbytes=8, prototype=define
  Linker and Libraries:
    ld='cc', ldflags =' -fstack-protector -L/usr/local/lib'
    libpth=/usr/local/lib /usr/lib/gcc/x86_64-linux-gnu/4.7/include-fixed /usr/include/x86_64-linux-gnu /usr/lib /lib/x86_64-linux-gnu /lib/../lib /usr/lib/x86_64-linux-gnu /usr/lib/../lib /lib
    libs=-lpthread -lnsl -ldb -ldl -lm -lcrypt -lutil -lc
    perllibs=-lpthread -lnsl -ldl -lm -lcrypt -lutil -lc
    libc=libc-2.13.so, so=so, useshrplib=false, libperl=libperl.a
    gnulibc_version='2.13'
  Dynamic Linking:
    dlsrc=dl_dlopen.xs, dlext=so, d_dlsymun=undef, ccdlflags='-Wl,-E'
    cccdlflags='-fPIC', lddlflags='-shared -O2 -L/usr/local/lib -fstack-protector'


Characteristics of this binary (from libperl): 
  Compile-time options: HAS_TIMES PERLIO_LAYERS PERL_DONT_CREATE_GVSV
                        PERL_HASH_FUNC_ONE_AT_A_TIME_HARD PERL_MALLOC_WRAP
                        PERL_NEW_COPY_ON_WRITE PERL_PRESERVE_IVUV
                        USE_64_BIT_ALL USE_64_BIT_INT USE_LARGE_FILES
                        USE_LOCALE USE_LOCALE_COLLATE USE_LOCALE_CTYPE
                        USE_LOCALE_NUMERIC USE_LOCALE_TIME USE_PERLIO
                        USE_PERL_ATOF
  Locally applied patches:
	RC2
  Built under linux
  Compiled at Nov 15 2015 17:36:07
  %ENV:
    PERL5LIB="/home/eserte/.cpan/build/2015111815/Config-Any-Merge-0.08-grvGIT/blib/arch:/home/eserte/.cpan/build/2015111815/Config-Any-Merge-0.08-grvGIT/blib/lib:/home/eserte/.cpan/build/2015111815/RRDTool-Rawish-0.032-FI0qQC/blib/arch:/home/eserte/.cpan/build/2015111815/RRDTool-Rawish-0.032-FI0qQC/blib/lib:/home/eserte/.cpan/build/2015111815/Test-Mock-ExternalCommand-0.03-YmEUhc/blib/arch:/home/eserte/.cpan/build/2015111815/Test-Mock-ExternalCommand-0.03-YmEUhc/blib/lib:/home/eserte/.cpan/build/2015111815/Variable-Expand-AnyLevel-0.02-aHSV0m/blib/arch:/home/eserte/.cpan/build/2015111815/Variable-Expand-AnyLevel-0.02-aHSV0m/blib/lib:/home/eserte/.cpan/build/2015111815/Integer-Partition-0.05-iswvJ3/blib/arch:/home/eserte/.cpan/build/2015111815/Integer-Partition-0.05-iswvJ3/blib/lib:/home/eserte/.cpan/build/2015111815/CloudPAN-1.131740-Or5Z23/blib/arch:/home/eserte/.cpan/build/2015111815/CloudPAN-1.131740-Or5Z23/blib/lib:/home/eserte/.cpan/build/2015111815/App-pmdeps-0.02-iHhqs9/blib/arch:/home/eserte/.cpan/build/2015111815/App-pmdeps-0.02-iHhqs9/blib/lib:/home/eserte/.cpan/build/2015111815/WWW-Weather-Yahoo-0.07-nSnaqM/blib/arch:/home/eserte/.cpan/build/2015111815/WWW-Weather-Yahoo-0.07-nSnaqM/blib/lib:/home/eserte/.cpan/build/2015111815/Twiggy-TLS-0.0019-HlkdAg/blib/arch:/home/eserte/.cpan/build/2015111815/Twiggy-TLS-0.0019-HlkdAg/blib/lib:/home/eserte/.cpan/build/2015111815/Time-Piece-DayOfWeek-0.02-tBEyH1/blib/arch:/home/eserte/.cpan/build/2015111815/Time-Piece-DayOfWeek-0.02-tBEyH1/blib/lib:/home/eserte/.cpan/build/2015111815/Statistics-Sequences-Joins-0.11-ZRSw4X/blib/arch:/home/eserte/.cpan/build/2015111815/Statistics-Sequences-Joins-0.11-ZRSw4X/blib/lib:/home/eserte/.cpan/build/2015111815/Statistics-Sequences-0.12-xfyFir/blib/arch:/home/eserte/.cpan/build/2015111815/Statistics-Sequences-0.12-xfyFir/blib/lib:/home/eserte/.cpan/build/2015111815/Statistics-Data-Dichotomize-0.03-jt9VGv/blib/arch:/home/eserte/.cpan/build/2015111815/Statistics-Data-Dichotomize-0.03-jt9VGv/blib/lib:/home/eserte/.cpan/build/2015111815/Statistics-Zed-0.10-CsvFa3/blib/arch:/home/eserte/.cpan/build/2015111815/Statistics-Zed-0.10-CsvFa3/blib/lib:/home/eserte/.cpan/build/2015111815/Statistics-Data-0.09-jUFr2e/blib/arch:/home/eserte/.cpan/build/2015111815/Statistics-Data-0.09-jUFr2e/blib/lib:/home/eserte/.cpan/build/2015111815/Math-Cephes-0.5304-Nlp6nt/blib/arch:/home/eserte/.cpan/build/2015111815/Math-Cephes-0.5304-Nlp6nt/blib/lib:/home/eserte/.cpan/build/2015111815/Mail-Postfixadmin-zYJh4r/blib/arch:/home/eserte/.cpan/build/2015111815/Mail-Postfixadmin-zYJh4r/blib/lib:/home/eserte/.cpan/build/2015111815/Log-Dispatch-Configurator-Perl-0.0132-thpXen/blib/arch:/home/eserte/.cpan/build/2015111815/Log-Dispatch-Configurator-Perl-0.0132-thpXen/blib/lib:/home/eserte/.cpan/build/2015111815/Filesys-DiskUsage-Fast-0.04-3RYYxb/blib/arch:/home/eserte/.cpan/build/2015111815/Filesys-DiskUsage-Fast-0.04-3RYYxb/blib/lib:/home/eserte/.cpan/build/2015111815/Catmandu-Store-Lucy-0.0101-jn7o4V/blib/arch:/home/eserte/.cpan/build/2015111815/Catmandu-Store-Lucy-0.0101-jn7o4V/blib/lib:/home/eserte/.cpan/build/2015111815/WWW-Deezer-0.02-23VgIU/blib/arch:/home/eserte/.cpan/build/2015111815/WWW-Deezer-0.02-23VgIU/blib/lib:/home/eserte/.cpan/build/2015111815/Math-FixedPoint-0.20130625.1928-dR_rN7/blib/arch:/home/eserte/.cpan/build/2015111815/Math-FixedPoint-0.20130625.1928-dR_rN7/blib/lib:/home/eserte/.cpan/build/2015111815/Astro-Funtools-Parse-0.08-Kq0TpW/blib/arch:/home/eserte/.cpan/build/2015111815/Astro-Funtools-Parse-0.08-Kq0TpW/blib/lib:/home/eserte/.cpan/build/2015111815/Data-LineBuffer-0.01-NL1O_p/blib/arch:/home/eserte/.cpan/build/2015111815/Data-LineBuffer-0.01-NL1O_p/blib/lib:/home/eserte/.cpan/build/2015111815/Apache-LoadAvgLimit-0.04-R8aorC/blib/arch:/home/eserte/.cpan/build/2015111815/Apache-LoadAvgLimit-0.04-R8aorC/blib/lib:/home/eserte/.cpan/build/2015111815/Web-Util-DBIC-Paging-0.001003-7x7xMR/blib/arch:/home/eserte/.cpan/build/2015111815/Web-Util-DBIC-Paging-0.001003-7x7xMR/blib/lib:/home/eserte/.cpan/build/2015111815/POEx-Tickit-0.02-RwZKw_/blib/arch:/home/eserte/.cpan/build/2015111815/POEx-Tickit-0.02-RwZKw_/blib/lib:/home/eserte/.cpan/build/2015111815/POE-Component-IRC-Plugin-WWW-Reddit-TIL-0.07-gaFkgo/blib/arch:/home/eserte/.cpan/build/2015111815/POE-Component-IRC-Plugin-WWW-Reddit-TIL-0.07-gaFkgo/blib/lib:/home/eserte/.cpan/build/2015111815/WWW-Shorten-Bitly-1.17-QP27sz/blib/arch:/home/eserte/.cpan/build/2015111815/WWW-Shorten-Bitly-1.17-QP27sz/blib/lib:/home/eserte/.cpan/build/2015111815/JSON-ON-v0.0.3-1PGeCT/blib/arch:/home/eserte/.cpan/build/2015111815/JSON-ON-v0.0.3-1PGeCT/blib/lib:/home/eserte/.cpan/build/2015111815/Class-Accessor-Classy-v0.9.1-J0Rvnx/blib/arch:/home/eserte/.cpan/build/2015111815/Class-Accessor-Classy-v0.9.1-J0Rvnx/blib/lib:/home/eserte/.cpan/build/2015111815/Convert-GeekCode-0.63-3JbT9k/blib/arch:/home/eserte/.cpan/build/2015111815/Convert-GeekCode-0.63-3JbT9k/blib/lib:/home/eserte/.cpan/build/2015111815/Software-License-NetHack-0.01-8AFQ0m/blib/arch:/home/eserte/.cpan/build/2015111815/Software-License-NetHack-0.01-8AFQ0m/blib/lib:/home/eserte/.cpan/build/2015111815/IPC-RunExternal-0.09-Z6LNv9/blib/arch:/home/eserte/.cpan/build/2015111815/IPC-RunExternal-0.09-Z6LNv9/blib/lib:/home/eserte/.cpan/build/2015111815/HTML-Copy-1.31-AY01NV/blib/arch:/home/eserte/.cpan/build/2015111815/HTML-Copy-1.31-AY01NV/blib/lib:/home/eserte/.cpan/build/2015111815/Dist-Zilla-MintingProfile-Project-OSM-0.2.0-rZnole/blib/arch:/home/eserte/.cpan/build/2015111815/Dist-Zilla-MintingProfile-Project-OSM-0.2.0-rZnole/blib/lib:/home/eserte/.cpan/build/2015111815/Dist-Zilla-MintingProfile-PLTK-0.2.0-aUeE0Q/blib/arch:/home/eserte/.cpan/build/2015111815/Dist-Zilla-MintingProfile-PLTK-0.2.0-aUeE0Q/blib/lib:/home/eserte/.cpan/build/2015111815/Catalyst-Model-PayPal-IPN-0.04-DEUz9H/blib/arch:/home/eserte/.cpan/build/2015111815/Catalyst-Model-PayPal-IPN-0.04-DEUz9H/blib/lib:/home/eserte/.cpan/build/2015111815/Business-PayPal-IPN-1.94-h2xetP/blib/arch:/home/eserte/.cpan/build/2015111815/Business-PayPal-IPN-1.94-h2xetP/blib/lib:/home/eserte/.cpan/build/2015111815/AnyEvent-FileLock-0.03-T145WN/blib/arch:/home/eserte/.cpan/build/2015111815/AnyEvent-FileLock-0.03-T145WN/blib/lib:/home/eserte/.cpan/build/2015111815/Method-WeakCallback-0.04-2FQ8B9/blib/arch:/home/eserte/.cpan/build/2015111815/Method-WeakCallback-0.04-2FQ8B9/blib/lib:/home/eserte/.cpan/build/2015111815/Tree-Persist-1.10-9u7p_k/blib/arch:/home/eserte/.cpan/build/2015111815/Tree-Persist-1.10-9u7p_k/blib/lib:/home/eserte/.cpan/build/2015111815/Tree-1.07-57YvRp/blib/arch:/home/eserte/.cpan/build/2015111815/Tree-1.07-57YvRp/blib/lib:/home/eserte/.cpan/build/2015111815/Plack-Middleware-ServerStatus-Tiny-0.002-dU8VLK/blib/arch:/home/eserte/.cpan/build/2015111815/Plack-Middleware-ServerStatus-Tiny-0.002-dU8VLK/blib/lib:/home/eserte/.cpan/build/2015111815/NetHack-Engravings-0.02-L7QgKZ/blib/arch:/home/eserte/.cpan/build/2015111815/NetHack-Engravings-0.02-L7QgKZ/blib/lib:/home/eserte/.cpan/build/2015111815/MediaWiki-EditFramework-0.02-Mr0Kru/blib/arch:/home/eserte/.cpan/build/2015111815/MediaWiki-EditFramework-0.02-Mr0Kru/blib/lib:/home/eserte/.cpan/build/2015111815/Geo-Coder-Mapquest-0.06-zWFnhO/blib/arch:/home/eserte/.cpan/build/2015111815/Geo-Coder-Mapquest-0.06-zWFnhO/blib/lib:/home/eserte/.cpan/build/2015111815/Etsy-StatsD-1.001-_zqSUe/blib/arch:/home/eserte/.cpan/build/2015111815/Etsy-StatsD-1.001-_zqSUe/blib/lib"
    PERL5OPT=""
    PERL5_CPANPLUS_IS_RUNNING="18102"
    PERL5_CPAN_IS_RUNNING="18102"
    PERL5_CPAN_IS_RUNNING_IN_RECURSION="27888,18102"
    PERLDOC="-MPod::Perldoc::ToTextOverstrike"
    PERL_BATCH="yes"
    PERL_CANARY_STABILITY_NOPROMPT="1"
    PERL_CPAN_REPORTER_CONFIG="/var/tmp/cpansmoker-1001/2015111806/cpanreporter_002_config.ini"
    PERL_EXTUTILS_AUTOINSTALL="--defaultdeps"
  @INC:
    /home/eserte/.cpan/build/2015111815/Config-Any-Merge-0.08-grvGIT/blib/arch
    /home/eserte/.cpan/build/2015111815/Config-Any-Merge-0.08-grvGIT/blib/lib
    /home/eserte/.cpan/build/2015111815/RRDTool-Rawish-0.032-FI0qQC/blib/arch
    /home/eserte/.cpan/build/2015111815/RRDTool-Rawish-0.032-FI0qQC/blib/lib
    /home/eserte/.cpan/build/2015111815/Test-Mock-ExternalCommand-0.03-YmEUhc/blib/arch
    /home/eserte/.cpan/build/2015111815/Test-Mock-ExternalCommand-0.03-YmEUhc/blib/lib
    /home/eserte/.cpan/build/2015111815/Variable-Expand-AnyLevel-0.02-aHSV0m/blib/arch
    /home/eserte/.cpan/build/2015111815/Variable-Expand-AnyLevel-0.02-aHSV0m/blib/lib
    /home/eserte/.cpan/build/2015111815/Integer-Partition-0.05-iswvJ3/blib/arch
    /home/eserte/.cpan/build/2015111815/Integer-Partition-0.05-iswvJ3/blib/lib
    /home/eserte/.cpan/build/2015111815/CloudPAN-1.131740-Or5Z23/blib/arch
    /home/eserte/.cpan/build/2015111815/CloudPAN-1.131740-Or5Z23/blib/lib
    /home/eserte/.cpan/build/2015111815/App-pmdeps-0.02-iHhqs9/blib/arch
    /home/eserte/.cpan/build/2015111815/App-pmdeps-0.02-iHhqs9/blib/lib
    /home/eserte/.cpan/build/2015111815/WWW-Weather-Yahoo-0.07-nSnaqM/blib/arch
    /home/eserte/.cpan/build/2015111815/WWW-Weather-Yahoo-0.07-nSnaqM/blib/lib
    /home/eserte/.cpan/build/2015111815/Twiggy-TLS-0.0019-HlkdAg/blib/arch
    /home/eserte/.cpan/build/2015111815/Twiggy-TLS-0.0019-HlkdAg/blib/lib
    /home/eserte/.cpan/build/2015111815/Time-Piece-DayOfWeek-0.02-tBEyH1/blib/arch
    /home/eserte/.cpan/build/2015111815/Time-Piece-DayOfWeek-0.02-tBEyH1/blib/lib
    /home/eserte/.cpan/build/2015111815/Statistics-Sequences-Joins-0.11-ZRSw4X/blib/arch
    /home/eserte/.cpan/build/2015111815/Statistics-Sequences-Joins-0.11-ZRSw4X/blib/lib
    /home/eserte/.cpan/build/2015111815/Statistics-Sequences-0.12-xfyFir/blib/arch
    /home/eserte/.cpan/build/2015111815/Statistics-Sequences-0.12-xfyFir/blib/lib
    /home/eserte/.cpan/build/2015111815/Statistics-Data-Dichotomize-0.03-jt9VGv/blib/arch
    /home/eserte/.cpan/build/2015111815/Statistics-Data-Dichotomize-0.03-jt9VGv/blib/lib
    /home/eserte/.cpan/build/2015111815/Statistics-Zed-0.10-CsvFa3/blib/arch
    /home/eserte/.cpan/build/2015111815/Statistics-Zed-0.10-CsvFa3/blib/lib
    /home/eserte/.cpan/build/2015111815/Statistics-Data-0.09-jUFr2e/blib/arch
    /home/eserte/.cpan/build/2015111815/Statistics-Data-0.09-jUFr2e/blib/lib
    /home/eserte/.cpan/build/2015111815/Math-Cephes-0.5304-Nlp6nt/blib/arch
    /home/eserte/.cpan/build/2015111815/Math-Cephes-0.5304-Nlp6nt/blib/lib
    /home/eserte/.cpan/build/2015111815/Mail-Postfixadmin-zYJh4r/blib/arch
    /home/eserte/.cpan/build/2015111815/Mail-Postfixadmin-zYJh4r/blib/lib
    /home/eserte/.cpan/build/2015111815/Log-Dispatch-Configurator-Perl-0.0132-thpXen/blib/arch
    /home/eserte/.cpan/build/2015111815/Log-Dispatch-Configurator-Perl-0.0132-thpXen/blib/lib
    /home/eserte/.cpan/build/2015111815/Filesys-DiskUsage-Fast-0.04-3RYYxb/blib/arch
    /home/eserte/.cpan/build/2015111815/Filesys-DiskUsage-Fast-0.04-3RYYxb/blib/lib
    /home/eserte/.cpan/build/2015111815/Catmandu-Store-Lucy-0.0101-jn7o4V/blib/arch
    /home/eserte/.cpan/build/2015111815/Catmandu-Store-Lucy-0.0101-jn7o4V/blib/lib
    /home/eserte/.cpan/build/2015111815/WWW-Deezer-0.02-23VgIU/blib/arch
    /home/eserte/.cpan/build/2015111815/WWW-Deezer-0.02-23VgIU/blib/lib
    /home/eserte/.cpan/build/2015111815/Math-FixedPoint-0.20130625.1928-dR_rN7/blib/arch
    /home/eserte/.cpan/build/2015111815/Math-FixedPoint-0.20130625.1928-dR_rN7/blib/lib
    /home/eserte/.cpan/build/2015111815/Astro-Funtools-Parse-0.08-Kq0TpW/blib/arch
    /home/eserte/.cpan/build/2015111815/Astro-Funtools-Parse-0.08-Kq0TpW/blib/lib
    /home/eserte/.cpan/build/2015111815/Data-LineBuffer-0.01-NL1O_p/blib/arch
    /home/eserte/.cpan/build/2015111815/Data-LineBuffer-0.01-NL1O_p/blib/lib
    /home/eserte/.cpan/build/2015111815/Apache-LoadAvgLimit-0.04-R8aorC/blib/arch
    /home/eserte/.cpan/build/2015111815/Apache-LoadAvgLimit-0.04-R8aorC/blib/lib
    /home/eserte/.cpan/build/2015111815/Web-Util-DBIC-Paging-0.001003-7x7xMR/blib/arch
    /home/eserte/.cpan/build/2015111815/Web-Util-DBIC-Paging-0.001003-7x7xMR/blib/lib
    /home/eserte/.cpan/build/2015111815/POEx-Tickit-0.02-RwZKw_/blib/arch
    /home/eserte/.cpan/build/2015111815/POEx-Tickit-0.02-RwZKw_/blib/lib
    /home/eserte/.cpan/build/2015111815/POE-Component-IRC-Plugin-WWW-Reddit-TIL-0.07-gaFkgo/blib/arch
    /home/eserte/.cpan/build/2015111815/POE-Component-IRC-Plugin-WWW-Reddit-TIL-0.07-gaFkgo/blib/lib
    /home/eserte/.cpan/build/2015111815/WWW-Shorten-Bitly-1.17-QP27sz/blib/arch
    /home/eserte/.cpan/build/2015111815/WWW-Shorten-Bitly-1.17-QP27sz/blib/lib
    /home/eserte/.cpan/build/2015111815/JSON-ON-v0.0.3-1PGeCT/blib/arch
    /home/eserte/.cpan/build/2015111815/JSON-ON-v0.0.3-1PGeCT/blib/lib
    /home/eserte/.cpan/build/2015111815/Class-Accessor-Classy-v0.9.1-J0Rvnx/blib/arch
    /home/eserte/.cpan/build/2015111815/Class-Accessor-Classy-v0.9.1-J0Rvnx/blib/lib
    /home/eserte/.cpan/build/2015111815/Convert-GeekCode-0.63-3JbT9k/blib/arch
    /home/eserte/.cpan/build/2015111815/Convert-GeekCode-0.63-3JbT9k/blib/lib
    /home/eserte/.cpan/build/2015111815/Software-License-NetHack-0.01-8AFQ0m/blib/arch
    /home/eserte/.cpan/build/2015111815/Software-License-NetHack-0.01-8AFQ0m/blib/lib
    /home/eserte/.cpan/build/2015111815/IPC-RunExternal-0.09-Z6LNv9/blib/arch
    /home/eserte/.cpan/build/2015111815/IPC-RunExternal-0.09-Z6LNv9/blib/lib
    /home/eserte/.cpan/build/2015111815/HTML-Copy-1.31-AY01NV/blib/arch
    /home/eserte/.cpan/build/2015111815/HTML-Copy-1.31-AY01NV/blib/lib
    /home/eserte/.cpan/build/2015111815/Dist-Zilla-MintingProfile-Project-OSM-0.2.0-rZnole/blib/arch
    /home/eserte/.cpan/build/2015111815/Dist-Zilla-MintingProfile-Project-OSM-0.2.0-rZnole/blib/lib
    /home/eserte/.cpan/build/2015111815/Dist-Zilla-MintingProfile-PLTK-0.2.0-aUeE0Q/blib/arch
    /home/eserte/.cpan/build/2015111815/Dist-Zilla-MintingProfile-PLTK-0.2.0-aUeE0Q/blib/lib
    /home/eserte/.cpan/build/2015111815/Catalyst-Model-PayPal-IPN-0.04-DEUz9H/blib/arch
    /home/eserte/.cpan/build/2015111815/Catalyst-Model-PayPal-IPN-0.04-DEUz9H/blib/lib
    /home/eserte/.cpan/build/2015111815/Business-PayPal-IPN-1.94-h2xetP/blib/arch
    /home/eserte/.cpan/build/2015111815/Business-PayPal-IPN-1.94-h2xetP/blib/lib
    /home/eserte/.cpan/build/2015111815/AnyEvent-FileLock-0.03-T145WN/blib/arch
    /home/eserte/.cpan/build/2015111815/AnyEvent-FileLock-0.03-T145WN/blib/lib
    /home/eserte/.cpan/build/2015111815/Method-WeakCallback-0.04-2FQ8B9/blib/arch
    /home/eserte/.cpan/build/2015111815/Method-WeakCallback-0.04-2FQ8B9/blib/lib
    /home/eserte/.cpan/build/2015111815/Tree-Persist-1.10-9u7p_k/blib/arch
    /home/eserte/.cpan/build/2015111815/Tree-Persist-1.10-9u7p_k/blib/lib
    /home/eserte/.cpan/build/2015111815/Tree-1.07-57YvRp/blib/arch
    /home/eserte/.cpan/build/2015111815/Tree-1.07-57YvRp/blib/lib
    /home/eserte/.cpan/build/2015111815/Plack-Middleware-ServerStatus-Tiny-0.002-dU8VLK/blib/arch
    /home/eserte/.cpan/build/2015111815/Plack-Middleware-ServerStatus-Tiny-0.002-dU8VLK/blib/lib
    /home/eserte/.cpan/build/2015111815/NetHack-Engravings-0.02-L7QgKZ/blib/arch
    /home/eserte/.cpan/build/2015111815/NetHack-Engravings-0.02-L7QgKZ/blib/lib
    /home/eserte/.cpan/build/2015111815/MediaWiki-EditFramework-0.02-Mr0Kru/blib/arch
    /home/eserte/.cpan/build/2015111815/MediaWiki-EditFramework-0.02-Mr0Kru/blib/lib
    /home/eserte/.cpan/build/2015111815/Geo-Coder-Mapquest-0.06-zWFnhO/blib/arch
    /home/eserte/.cpan/build/2015111815/Geo-Coder-Mapquest-0.06-zWFnhO/blib/lib
    /home/eserte/.cpan/build/2015111815/Etsy-StatsD-1.001-_zqSUe/blib/arch
    /home/eserte/.cpan/build/2015111815/Etsy-StatsD-1.001-_zqSUe/blib/lib
    /opt/perl-5.22.1-RC2/lib/site_perl/5.22.1/x86_64-linux
    /opt/perl-5.22.1-RC2/lib/site_perl/5.22.1
    /opt/perl-5.22.1-RC2/lib/5.22.1/x86_64-linux
    /opt/perl-5.22.1-RC2/lib/5.22.1
    .