Test-Script v1.26 Perl 5 v5.32.0 armv7l-linux-thread-multi
- Status
- Pass
- From
- Nigel Horne
- Dist
-
Test-Script v1.26
- Platform
- Perl 5 v5.32.0 armv7l-linux-thread-multi
- Date
- 2020-11-19 20:40:21
- ID
- 7156b21c-2aa7-11eb-b9db-b6c7a8faccfa
This distribution has been tested as part of the CPAN Testers
project, supporting the Perl programming language. See
http://wiki.cpantesters.org/ for more information or email
questions to cpan-testers-discuss@perl.org
--
Dear Graham Ollis,
This is a computer-generated report for Test-Script-1.26
on perl 5.32.0, created by CPAN-Reporter-1.2018.
Thank you for uploading your work to CPAN. Congratulations!
All tests were successful.
Sections of this report:
* Tester comments
* Program output
* Prerequisites
* Environment and other context
------------------------------
TESTER COMMENTS
------------------------------
Additional comments from tester:
none provided
------------------------------
PROGRAM OUTPUT
------------------------------
Output from '/usr/bin/make test':
PERL_DL_NONLAZY=1 "/mnt/nas/home/pi2/njh/perl5/perlbrew/perls/perl-5.32.0-thread/bin/perl" "-MExtUtils::Command::MM" "-MTest::Harness" "-e" "undef *Test::Harness::Switches; test_harness(0, 'blib/lib', 'blib/arch')" t/*.t
#
#
#
# HARNESS_ACTIVE=1
# HARNESS_OPTIONS=
# HARNESS_VERSION=3.42
# LANG=en_US
# PERL5LIB=/var/tmp/build/Test-Script-1.26-0/blib/lib:/var/tmp/build/Test-Script-1.26-0/blib/arch:
# PERL5OPT=
# PERL5_CPANPLUS_IS_RUNNING=10352
# PERL5_CPAN_IS_RUNNING=10352
# PERLBREW_HOME=/home/njh/.perlbrew
# PERLBREW_MANPATH=/home/njh/perl5/perlbrew/perls/perl-5.32.0-thread/man
# PERLBREW_PATH=/home/njh/perl5/perlbrew/bin:/home/njh/perl5/perlbrew/perls/perl-5.32.0-thread/bin
# PERLBREW_PERL=perl-5.32.0-thread
# PERLBREW_ROOT=/home/njh/perl5/perlbrew
# PERLBREW_SHELLRC_VERSION=0.87
# PERLBREW_VERSION=0.87
# PERL_DL_NONLAZY=1
# PERL_MM_USE_DEFAULT=1
# PERL_USE_UNSAFE_INC=1
# SHELL=/bin/bash
#
#
#
# PERL5LIB path
# /var/tmp/build/Test-Script-1.26-0/blib/lib
# /var/tmp/build/Test-Script-1.26-0/blib/arch
#
#
#
# perl 5.032000
# Capture::Tiny 0.48
# ExtUtils::MakeMaker 7.52
# File::Spec 3.78
# IO::Handle 1.42
# Probe::Perl 0.03
# Test2::API 1.302183
# Test2::V0 0.000138
# Text::ParseWords 3.30
#
#
#
t/01_use.t ........................ ok
t/00_diag.t ....................... ok
t/bug_gh9.t ....................... ok
t/test_script__exports.t .......... ok
t/test_script__import.t ........... ok
t/test_script__program_stderr.t ... ok
t/test_script__program_stdout.t ... ok
t/test_script__program_runs.t ..... ok
t/test_script__script_stderr.t .... ok
t/test_script__script_stdout.t .... ok
t/test_script__script_compiles.t .. ok
t/test_script__script_runs.t ...... ok
All tests successful.
Files=12, Tests=88, 8 wallclock secs ( 0.46 usr 0.14 sys + 20.82 cusr 4.05 csys = 25.47 CPU)
Result: PASS
------------------------------
PREREQUISITES
------------------------------
Prerequisite modules loaded:
requires:
Module Need Have
------------------- -------- --------
Capture::Tiny 0 0.48
File::Spec 0.80 3.78
IO::Handle 0 1.42
perl 5.008001 5.032000
Probe::Perl 0.01 0.03
Test2::API 1.302015 1.302183
Text::ParseWords 0 3.30
build_requires:
Module Need Have
------------------- -------- --------
ExtUtils::MakeMaker 0 7.52
Test2::V0 0.000060 0.000138
configure_requires:
Module Need Have
------------------- -------- --------
ExtUtils::MakeMaker 0 7.52
perl 5.008001 5.032000
------------------------------
ENVIRONMENT AND OTHER CONTEXT
------------------------------
Environment variables:
HARNESS_OPTIONS = j4:c
LANG = en_US
LD_LIBRARY_PATH = /usr/local/lib::
NONINTERACTIVE_TESTING = 1
PATH = /home/njh/perl5/perlbrew/bin:/home/njh/perl5/perlbrew/perls/perl-5.32.0-thread/bin:/usr/local/sbin:/usr/local/bin:/usr/sbin:/usr/bin:/sbin:/bin:/usr/local/games:/usr/games:/home/njh/bin:/home/njh/.cargo/bin
PERL5LIB =
PERL5OPT =
PERL5_CPANPLUS_IS_RUNNING = 10352
PERL5_CPAN_IS_RUNNING = 10352
PERLBREW_HOME = /home/njh/.perlbrew
PERLBREW_MANPATH = /home/njh/perl5/perlbrew/perls/perl-5.32.0-thread/man
PERLBREW_PATH = /home/njh/perl5/perlbrew/bin:/home/njh/perl5/perlbrew/perls/perl-5.32.0-thread/bin
PERLBREW_PERL = perl-5.32.0-thread
PERLBREW_ROOT = /home/njh/perl5/perlbrew
PERLBREW_SHELLRC_VERSION = 0.87
PERLBREW_VERSION = 0.87
PERL_MM_USE_DEFAULT = 1
PERL_USE_UNSAFE_INC = 1
SHELL = /bin/bash
TEMP = /tmp/user/1000
TERM = xterm-256color
TMPDIR = /tmp/user/1000
Perl special variables (and OS-specific diagnostics, for MSWin32):
$^X = /mnt/nas/home/pi2/njh/perl5/perlbrew/perls/perl-5.32.0-thread/bin/perl
$UID/$EUID = 1000 / 1000
$GID = 1000 4 20 24 25 27 29 30 44 46 60 100 105 109 997 998 999 1000
$EGID = 1000 4 20 24 25 27 29 30 44 46 60 100 105 109 997 998 999 1000
Perl module toolchain versions installed:
Module Have
------------------- --------
CPAN 2.28
CPAN::Meta 2.150010
Cwd 3.78
ExtUtils::CBuilder 0.280234
ExtUtils::Command 7.52
ExtUtils::Install 2.18
ExtUtils::MakeMaker 7.52
ExtUtils::Manifest 1.72
ExtUtils::ParseXS 3.40
File::Spec 3.78
JSON 4.02
JSON::PP 4.04
Module::Build 0.4231
Module::Signature n/a
Parse::CPAN::Meta 2.150010
Test::Harness 3.42
Test::More 1.302183
YAML 1.30
YAML::Syck n/a
version 0.9928
--
Summary of my perl5 (revision 5 version 32 subversion 0) configuration:
Platform:
osname=linux
osvers=4.19.66-v7+
archname=armv7l-linux-thread-multi
uname='linux pi2 4.19.66-v7+ #1253 smp thu aug 15 11:49:46 bst 2019 armv7l gnulinux '
config_args='-de -Dprefix=/home/njh/perl5/perlbrew/perls/perl-5.32.0-thread -Dusethreads -Aeval:scriptdir=/home/njh/perl5/perlbrew/perls/perl-5.32.0-thread/bin'
hint=recommended
useposix=true
d_sigaction=define
useithreads=define
usemultiplicity=define
use64bitint=undef
use64bitall=undef
uselongdouble=undef
usemymalloc=n
default_inc_excludes_dot=define
bincompat5005=undef
Compiler:
cc='cc'
ccflags ='-D_REENTRANT -D_GNU_SOURCE -fwrapv -fno-strict-aliasing -pipe -fstack-protector-strong -I/usr/local/include -D_LARGEFILE_SOURCE -D_FILE_OFFSET_BITS=64 -D_FORTIFY_SOURCE=2'
optimize='-O2'
cppflags='-D_REENTRANT -D_GNU_SOURCE -fwrapv -fno-strict-aliasing -pipe -fstack-protector-strong -I/usr/local/include'
ccversion=''
gccversion='8.3.0'
gccosandvers=''
intsize=4
longsize=4
ptrsize=4
doublesize=8
byteorder=1234
doublekind=3
d_longlong=define
longlongsize=8
d_longdbl=define
longdblsize=8
longdblkind=0
ivtype='long'
ivsize=4
nvtype='double'
nvsize=8
Off_t='off_t'
lseeksize=8
alignbytes=8
prototype=define
Linker and Libraries:
ld='cc'
ldflags =' -fstack-protector-strong -L/usr/local/lib'
libpth=/usr/local/lib /usr/lib/gcc/arm-linux-gnueabihf/8/include-fixed /usr/include/arm-linux-gnueabihf /usr/lib /lib/arm-linux-gnueabihf /lib /usr/lib/arm-linux-gnueabihf
libs=-lpthread -lnsl -lgdbm -ldb -ldl -lm -lcrypt -lutil -lc
perllibs=-lpthread -lnsl -ldl -lm -lcrypt -lutil -lc
libc=libc-2.28.so
so=so
useshrplib=false
libperl=libperl.a
gnulibc_version='2.28'
Dynamic Linking:
dlsrc=dl_dlopen.xs
dlext=so
d_dlsymun=undef
ccdlflags='-Wl,-E'
cccdlflags='-fPIC'
lddlflags='-shared -O2 -L/usr/local/lib -fstack-protector-strong'
Characteristics of this binary (from libperl):
Compile-time options:
HAS_TIMES
MULTIPLICITY
PERLIO_LAYERS
PERL_COPY_ON_WRITE
PERL_DONT_CREATE_GVSV
PERL_IMPLICIT_CONTEXT
PERL_MALLOC_WRAP
PERL_OP_PARENT
PERL_PRESERVE_IVUV
USE_ITHREADS
USE_LARGE_FILES
USE_LOCALE
USE_LOCALE_COLLATE
USE_LOCALE_CTYPE
USE_LOCALE_NUMERIC
USE_LOCALE_TIME
USE_PERLIO
USE_PERL_ATOF
USE_REENTRANT_API
USE_THREAD_SAFE_LOCALE
Built under linux
Compiled at Jun 30 2020 11:12:15
%ENV:
PERL5LIB=""
PERL5OPT=""
PERL5_CPANPLUS_IS_RUNNING="10352"
PERL5_CPAN_IS_RUNNING="10352"
PERLBREW_HOME="/home/njh/.perlbrew"
PERLBREW_MANPATH="/home/njh/perl5/perlbrew/perls/perl-5.32.0-thread/man"
PERLBREW_PATH="/home/njh/perl5/perlbrew/bin:/home/njh/perl5/perlbrew/perls/perl-5.32.0-thread/bin"
PERLBREW_PERL="perl-5.32.0-thread"
PERLBREW_ROOT="/home/njh/perl5/perlbrew"
PERLBREW_SHELLRC_VERSION="0.87"
PERLBREW_VERSION="0.87"
PERL_MM_USE_DEFAULT="1"
PERL_USE_UNSAFE_INC="1"
@INC:
/home/njh/perl5/perlbrew/perls/perl-5.32.0-thread/lib/site_perl/5.32.0/armv7l-linux-thread-multi
/home/njh/perl5/perlbrew/perls/perl-5.32.0-thread/lib/site_perl/5.32.0
/home/njh/perl5/perlbrew/perls/perl-5.32.0-thread/lib/5.32.0/armv7l-linux-thread-multi
/home/njh/perl5/perlbrew/perls/perl-5.32.0-thread/lib/5.32.0
.