App-Git-Workflow-Command-Cat v0.3 Perl 5 v5.22.2 x86_64-linux-thread-multi

Status
Pass
From
Nigel Horne
Dist
App-Git-Workflow-Command-Cat v0.3
Platform
Perl 5 v5.22.2 x86_64-linux-thread-multi
Date
2018-09-09 11:49:44
ID
71769eaa-b426-11e8-8c4c-9fff2ef46f3b
This distribution has been tested as part of the CPAN Testers
project, supporting the Perl programming language.  See
http://wiki.cpantesters.org/ for more information or email
questions to cpan-testers-discuss@perl.org


--
Dear Ivan Wills,

This is a computer-generated report for App-Git-Workflow-Command-Cat-0.3
on perl 5.22.2, created by CPAN-Reporter-1.2018.

Thank you for uploading your work to CPAN.  Congratulations!
All tests were successful.

Sections of this report:

    * Tester comments
    * Program output
    * Prerequisites
    * Environment and other context

------------------------------
TESTER COMMENTS
------------------------------

Additional comments from tester:

this report is from an automated smoke testing program
and was not reviewed by a human for accuracy

------------------------------
PROGRAM OUTPUT
------------------------------

Output from './Build test':

t/kwalitee.t ...... skipped: Author test.  Set TEST_AUTHOR environment variable to a true value to run.
t/boilerplate.t ... ok
t/critic.t ........ skipped: Author test.  Set TEST_AUTHOR environment variable to a true value to run.
t/manifest.t ...... skipped: Author test.  Set TEST_AUTHOR environment variable to a true value to run.
t/pod-coverage.t .. skipped: Author test.  Set TEST_AUTHOR environment variable to a true value to run.
# Testing App::Git::Workflow::Command::Cat 0.3, Perl 5.022002, /home/njh/perl5/perlbrew/perls/perl-5.22.2/bin/perl
t/00-load.t ....... ok
t/spelling.t ...... skipped: Author test.  Set TEST_AUTHOR environment variable to a true value to run.
t/pod.t ........... ok
All tests successful.
Files=8, Tests=9,  0 wallclock secs ( 0.03 usr  0.00 sys +  0.52 cusr  0.10 csys =  0.65 CPU)
Result: PASS

------------------------------
PREREQUISITES
------------------------------

Prerequisite modules loaded:

requires:

    Module                      Need    Have    
    --------------------------- ------- --------
    App::Git::Workflow          0.96011 v1.1.0  
    App::Git::Workflow::Command 0.96011 v1.1.0  
    perl                        5.008   5.022002

build_requires:

    Module                      Need    Have    
    --------------------------- ------- --------
    Test::More                  0.88    1.302136
    Test::Warnings              0.026   0.026   

configure_requires:

    Module                      Need    Have    
    --------------------------- ------- --------
    Module::Build               0.38    0.4218  


------------------------------
ENVIRONMENT AND OTHER CONTEXT
------------------------------

Environment variables:

    AUTOMATED_TESTING = 1
    HARNESS_OPTIONS = j4
    LANG = en_GB.UTF-8
    LANGUAGE = en_GB:en
    PATH = /home/njh/perl5/perlbrew/bin:/home/njh/perl5/perlbrew/perls/perl-5.22.2/bin:/usr/bin:/bin:/home/njh/src/njh/smoker/bin
    PERL5LIB = /home/njh/.cpan/build/App-Git-Workflow-v1.1.0-26/blib/arch:/home/njh/.cpan/build/App-Git-Workflow-v1.1.0-26/blib/lib:/home/njh/.cpan/build/XML-Tiny-2.07-7/blib/arch:/home/njh/.cpan/build/XML-Tiny-2.07-7/blib/lib:/home/njh/.cpan/build/Git-0.42-7/blib/arch:/home/njh/.cpan/build/Git-0.42-7/blib/lib:/home/njh/.cpan/build/CHI-Memoize-0.07-26/blib/arch:/home/njh/.cpan/build/CHI-Memoize-0.07-26/blib/lib:/home/njh/.cpan/build/Test-Class-Most-0.08-7/blib/arch:/home/njh/.cpan/build/Test-Class-Most-0.08-7/blib/lib
    PERL5OPT = 
    PERL5_CPANPLUS_IS_RUNNING = 11338
    PERL5_CPAN_IS_RUNNING = 11338
    PERLBREW_HOME = /home/njh/.perlbrew
    PERLBREW_MANPATH = /home/njh/perl5/perlbrew/perls/perl-5.22.2/man
    PERLBREW_PATH = /home/njh/perl5/perlbrew/bin:/home/njh/perl5/perlbrew/perls/perl-5.22.2/bin
    PERLBREW_PERL = perl-5.22.2
    PERLBREW_ROOT = /home/njh/perl5/perlbrew
    PERLBREW_SHELLRC_VERSION = 0.82
    PERLBREW_VERSION = 0.82
    SHELL = /bin/sh
    TEMP = /tmp/user/1000
    TMPDIR = /tmp/user/1000/testwrapper.11324

Perl special variables (and OS-specific diagnostics, for MSWin32):

    $^X = /home/njh/perl5/perlbrew/perls/perl-5.22.2/bin/perl
    $UID/$EUID = 1000 / 1000
    $GID = 1000 4 24 25 29 30 44 46 108 112 1000
    $EGID = 1000 4 24 25 29 30 44 46 108 112 1000

Perl module toolchain versions installed:

    Module              Have    
    ------------------- --------
    CPAN                2.16    
    CPAN::Meta          2.150010
    Cwd                 3.74    
    ExtUtils::CBuilder  0.280230
    ExtUtils::Command   7.34    
    ExtUtils::Install   2.14    
    ExtUtils::MakeMaker 7.34    
    ExtUtils::Manifest  1.71    
    ExtUtils::ParseXS   3.35    
    File::Spec          3.74    
    JSON                2.97001 
    JSON::PP            2.27400 
    Module::Build       0.4218  
    Module::Signature   n/a     
    Parse::CPAN::Meta   2.150010
    Test::Harness       3.36    
    Test::More          1.302136
    YAML                1.26    
    YAML::Syck          1.30    
    version             0.9916  


--

Summary of my perl5 (revision 5 version 22 subversion 2) configuration:
   
  Platform:
    osname=linux, osvers=4.3.0-1-amd64, archname=x86_64-linux-thread-multi
    uname='linux nigelhorne.force9.co.uk 4.3.0-1-amd64 #1 smp debian 4.3.5-1 (2016-02-06) x86_64 gnulinux '
    config_args='-de -Dprefix=/home/njh/perl5/perlbrew/perls/perl-5.22.2 -Duseithreads -Dusemultiplicity -Dusedevel -Accflags= -Aeval:scriptdir=/home/njh/perl5/perlbrew/perls/perl-5.22.2/bin'
    hint=recommended, useposix=true, d_sigaction=define
    useithreads=define, usemultiplicity=define
    use64bitint=define, use64bitall=define, uselongdouble=undef
    usemymalloc=n, bincompat5005=undef
  Compiler:
    cc='cc', ccflags ='-D_REENTRANT -D_GNU_SOURCE -fwrapv -fno-strict-aliasing -pipe -fstack-protector-strong -I/usr/local/include -D_LARGEFILE_SOURCE -D_FILE_OFFSET_BITS=64 -D_FORTIFY_SOURCE=2',
    optimize='-O2',
    cppflags='-D_REENTRANT -D_GNU_SOURCE -fwrapv -fno-strict-aliasing -pipe -fstack-protector-strong -I/usr/local/include'
    ccversion='', gccversion='5.3.1 20160409', gccosandvers=''
    intsize=4, longsize=8, ptrsize=8, doublesize=8, byteorder=12345678, doublekind=3
    d_longlong=define, longlongsize=8, d_longdbl=define, longdblsize=16, longdblkind=3
    ivtype='long', ivsize=8, nvtype='double', nvsize=8, Off_t='off_t', lseeksize=8
    alignbytes=8, prototype=define
  Linker and Libraries:
    ld='cc', ldflags =' -fstack-protector-strong -L/usr/local/lib'
    libpth=/usr/local/lib /usr/lib/gcc/x86_64-linux-gnu/5/include-fixed /usr/include/x86_64-linux-gnu /usr/lib /lib/x86_64-linux-gnu /lib/../lib /usr/lib/x86_64-linux-gnu /usr/lib/../lib /lib
    libs=-lpthread -lnsl -lgdbm -ldb -ldl -lm -lcrypt -lutil -lc -lgdbm_compat
    perllibs=-lpthread -lnsl -ldl -lm -lcrypt -lutil -lc
    libc=libc-2.22.so, so=so, useshrplib=false, libperl=libperl.a
    gnulibc_version='2.22'
  Dynamic Linking:
    dlsrc=dl_dlopen.xs, dlext=so, d_dlsymun=undef, ccdlflags='-Wl,-E'
    cccdlflags='-fPIC', lddlflags='-shared -O2 -L/usr/local/lib -fstack-protector-strong'


Characteristics of this binary (from libperl): 
  Compile-time options: HAS_TIMES MULTIPLICITY PERLIO_LAYERS
                        PERL_DONT_CREATE_GVSV
                        PERL_HASH_FUNC_ONE_AT_A_TIME_HARD
                        PERL_IMPLICIT_CONTEXT PERL_MALLOC_WRAP
                        PERL_NEW_COPY_ON_WRITE PERL_PRESERVE_IVUV
                        PERL_USE_DEVEL USE_64_BIT_ALL USE_64_BIT_INT
                        USE_ITHREADS USE_LARGE_FILES USE_LOCALE
                        USE_LOCALE_COLLATE USE_LOCALE_CTYPE
                        USE_LOCALE_NUMERIC USE_LOCALE_TIME USE_PERLIO
                        USE_PERL_ATOF USE_REENTRANT_API
  Built under linux
  Compiled at May  2 2016 00:32:13
  %ENV:
    PERL5LIB="/home/njh/.cpan/build/App-Git-Workflow-v1.1.0-26/blib/arch:/home/njh/.cpan/build/App-Git-Workflow-v1.1.0-26/blib/lib:/home/njh/.cpan/build/XML-Tiny-2.07-7/blib/arch:/home/njh/.cpan/build/XML-Tiny-2.07-7/blib/lib:/home/njh/.cpan/build/Git-0.42-7/blib/arch:/home/njh/.cpan/build/Git-0.42-7/blib/lib:/home/njh/.cpan/build/CHI-Memoize-0.07-26/blib/arch:/home/njh/.cpan/build/CHI-Memoize-0.07-26/blib/lib:/home/njh/.cpan/build/Test-Class-Most-0.08-7/blib/arch:/home/njh/.cpan/build/Test-Class-Most-0.08-7/blib/lib"
    PERL5OPT=""
    PERL5_CPANPLUS_IS_RUNNING="11338"
    PERL5_CPAN_IS_RUNNING="11338"
    PERLBREW_HOME="/home/njh/.perlbrew"
    PERLBREW_MANPATH="/home/njh/perl5/perlbrew/perls/perl-5.22.2/man"
    PERLBREW_PATH="/home/njh/perl5/perlbrew/bin:/home/njh/perl5/perlbrew/perls/perl-5.22.2/bin"
    PERLBREW_PERL="perl-5.22.2"
    PERLBREW_ROOT="/home/njh/perl5/perlbrew"
    PERLBREW_SHELLRC_VERSION="0.82"
    PERLBREW_VERSION="0.82"
  @INC:
    /home/njh/.cpan/build/App-Git-Workflow-v1.1.0-26/blib/arch
    /home/njh/.cpan/build/App-Git-Workflow-v1.1.0-26/blib/lib
    /home/njh/.cpan/build/XML-Tiny-2.07-7/blib/arch
    /home/njh/.cpan/build/XML-Tiny-2.07-7/blib/lib
    /home/njh/.cpan/build/Git-0.42-7/blib/arch
    /home/njh/.cpan/build/Git-0.42-7/blib/lib
    /home/njh/.cpan/build/CHI-Memoize-0.07-26/blib/arch
    /home/njh/.cpan/build/CHI-Memoize-0.07-26/blib/lib
    /home/njh/.cpan/build/Test-Class-Most-0.08-7/blib/arch
    /home/njh/.cpan/build/Test-Class-Most-0.08-7/blib/lib
    /home/njh/perl5/perlbrew/perls/perl-5.22.2/lib/site_perl/5.22.2/x86_64-linux-thread-multi
    /home/njh/perl5/perlbrew/perls/perl-5.22.2/lib/site_perl/5.22.2
    /home/njh/perl5/perlbrew/perls/perl-5.22.2/lib/5.22.2/x86_64-linux-thread-multi
    /home/njh/perl5/perlbrew/perls/perl-5.22.2/lib/5.22.2
    .