Report for Net-SAML2-0.17

Back
From: metabase:user:9820532a-708b-1014-9a05-b18a96298da1
Subject: PASS Net-SAML2-0.17 v5.10.1 GNU/Linux
Date: 2012-02-16T00:44:55Z

This distribution has been tested as part of the CPAN Testers
project, supporting the Perl programming language.  See
http://wiki.cpantesters.org/ for more information or email
questions to cpan-testers-discuss@perl.org


--
Dear Chris Andrews,

This is a computer-generated report for Net-SAML2-0.17
on perl 5.10.1, created by CPAN-Reporter-1.2004.

Thank you for uploading your work to CPAN.  Congratulations!
All tests were successful.

Sections of this report:

    * Tester comments
    * Program output
    * Prerequisites
    * Environment and other context

------------------------------
TESTER COMMENTS
------------------------------

Additional comments from tester:

this report is from an automated smoke testing program
and was not reviewed by a human for accuracy

------------------------------
PROGRAM OUTPUT
------------------------------

Output from '/usr/bin/make test':

make[1]: Entering directory `/home/test/.cpan/build/Net-SAML2-0.17-ENYdQ8/testapp'
make[1]: Leaving directory `/home/test/.cpan/build/Net-SAML2-0.17-ENYdQ8/testapp'
PERL_DL_NONLAZY=1 /home/test/perl5/perlbrew/perls/perl-5.10.1-th/bin/perl "-MExtUtils::Command::MM" "-e" "test_harness(0, 'inc', 'blib/lib', 'blib/arch')" t/*.t
t/00-basic.t ............. ok
t/01-create-idp.t ........ ok
t/02-create-sp.t ......... ok
t/03-assertions.t ........ ok
t/04-response.t .......... ok
t/05-soap-binding.t ...... ok
t/06-redirect-binding.t .. ok
t/07-logout-request.t .... ok
t/08-logout-response.t ... ok
t/09-authn-request.t ..... ok
t/10-artifact-resolve.t .. ok
t/11-more-metadata.t ..... ok
All tests successful.
Files=12, Tests=80, 12 wallclock secs ( 0.07 usr  0.03 sys + 11.66 cusr  0.94 csys = 12.70 CPU)
Result: PASS
make[1]: Entering directory `/home/test/.cpan/build/Net-SAML2-0.17-ENYdQ8/testapp'
PERL_DL_NONLAZY=1 /home/test/perl5/perlbrew/perls/perl-5.10.1-th/bin/perl "-MExtUtils::Command::MM" "-e" "test_harness(0, '../blib/lib', '../blib/arch')" t/*.t
t/001_base.t ......... ok
t/002_index_route.t .. ok
All tests successful.
Files=2, Tests=4,  3 wallclock secs ( 0.02 usr  0.02 sys +  2.05 cusr  0.21 csys =  2.30 CPU)
Result: PASS
make[1]: Leaving directory `/home/test/.cpan/build/Net-SAML2-0.17-ENYdQ8/testapp'

------------------------------
PREREQUISITES
------------------------------

Prerequisite modules loaded:

requires:

    Module                     Need     Have    
    -------------------------- -------- --------
    Class::Accessor            0        0.34    
    Crypt::OpenSSL::Bignum     0        0.04    
    Crypt::OpenSSL::DSA        0        0.13    
    Crypt::OpenSSL::Random     0        0.04    
    Crypt::OpenSSL::RSA        0        0.28    
    Crypt::OpenSSL::VerifyX509 0        0.10    
    Crypt::OpenSSL::X509       0        1.800.2 
    DateTime::Format::XSD      0        0.2     
    Digest::SHA1               0        2.13    
    File::Slurp                0        9999.19 
    IO::Compress::RawDeflate   0        2.048   
    IO::Uncompress::RawInflate 0        2.048   
    LWP::UserAgent             0        6.03    
    MIME::Base64               0        3.13    
    Moose                      0        2.0402  
    MooseX::Types              0        0.31    
    MooseX::Types::Common      0        0.001004
    MooseX::Types::DateTime    0        0.07    
    MooseX::Types::URI         0        0.03    
    perl                       5.008001 5.010001
    URI                        0        1.59    
    XML::CanonicalizeXML       0        0.05    
    XML::Generator             0        1.04    
    XML::XPath                 0        1.13    

build_requires:

    Module                     Need     Have    
    -------------------------- -------- --------
    Dancer                     1.2000   1.3092  
    ExtUtils::MakeMaker        6.62     6.62    
    Test::More                 0.88     0.98    
    WWW::Mechanize             1.66     1.72    
    YAML                       0        0.80    

configure_requires:

    Module                     Need     Have    
    -------------------------- -------- --------
    ExtUtils::MakeMaker        6.56     6.62    


------------------------------
ENVIRONMENT AND OTHER CONTEXT
------------------------------

Environment variables:

    AUTOMATED_TESTING = 1
    LANG = C
    LC_ALL = C
    MANPATH_WITHOUT_PERLBREW = 
    PATH = /home/test/perl5/perlbrew/bin:/home/test/perl5/perlbrew/perls/perl-5.10.1-th/bin:/home/test/bin:~/bin:/usr/bin:/bin
    PATH_WITHOUT_PERLBREW = /home/test/bin:~/bin:/usr/bin:/bin
    PERL5LIB = 
    PERL5OPT = 
    PERL5_CPANPLUS_IS_RUNNING = 6981
    PERL5_CPAN_IS_RUNNING = 6981
    PERL5_CPAN_IS_RUNNING_IN_RECURSION = 24963,6981
    PERLBREW_BASHRC_VERSION = 0.41
    PERLBREW_HOME = /home/test/.perlbrew
    PERLBREW_MANPATH = /home/test/perl5/perlbrew/perls/perl-5.10.1-th/man
    PERLBREW_PATH = /home/test/perl5/perlbrew/bin:/home/test/perl5/perlbrew/perls/perl-5.10.1-th/bin
    PERLBREW_PERL = perl-5.10.1-th
    PERLBREW_ROOT = /home/test/perl5/perlbrew
    PERLBREW_VERSION = 0.41
    PERL_CPANM_OPT = --prompt --mirror file:///mirrors/cpan/
    PERL_CR_SMOKER_CURRENT = Net-SAML2-0.17
    PERL_EXTUTILS_AUTOINSTALL = --defaultdeps
    PERL_MM_USE_DEFAULT = 1
    SHELL = /bin/bash
    TERM = linux

Perl special variables (and OS-specific diagnostics, for MSWin32):

    $^X = /home/test/perl5/perlbrew/perls/perl-5.10.1-th/bin/perl
    $UID/$EUID = 1001 / 1001
    $GID = 1001 1001
    $EGID = 1001 1001

Perl module toolchain versions installed:

    Module              Have    
    ------------------- --------
    CPAN                1.9800  
    CPAN::Meta          2.112150
    Cwd                 3.33    
    ExtUtils::CBuilder  0.280202
    ExtUtils::Command   1.17    
    ExtUtils::Install   1.54    
    ExtUtils::MakeMaker 6.62    
    ExtUtils::Manifest  1.60    
    ExtUtils::ParseXS   3.15    
    File::Spec          3.33    
    JSON                2.53    
    JSON::PP            2.27104 
    Module::Build       0.3800  
    Module::Signature   n/a     
    Parse::CPAN::Meta   1.4402  
    Test::Harness       3.23    
    Test::More          0.98    
    YAML                0.80    
    YAML::Syck          1.20    
    version             0.96    


--

Summary of my perl5 (revision 5 version 10 subversion 1) configuration:
   
  Platform:
    osname=linux, osvers=2.6.35-28-generic, archname=x86_64-linux-thread-multi
    uname='linux zippy 2.6.35-28-generic #50-ubuntu smp fri mar 18 18:42:20 utc 2011 x86_64 gnulinux '
    config_args='-de -Dprefix=/home/test/perl5/perlbrew/perls/perl-5.10.1-th -Dusethreads'
    hint=recommended, useposix=true, d_sigaction=define
    useithreads=define, usemultiplicity=define
    useperlio=define, d_sfio=undef, uselargefiles=define, usesocks=undef
    use64bitint=define, use64bitall=define, uselongdouble=undef
    usemymalloc=n, bincompat5005=undef
  Compiler:
    cc='cc', ccflags ='-D_REENTRANT -D_GNU_SOURCE -fno-strict-aliasing -pipe -fstack-protector -I/usr/local/include -D_LARGEFILE_SOURCE -D_FILE_OFFSET_BITS=64',
    optimize='-O2',
    cppflags='-D_REENTRANT -D_GNU_SOURCE -fno-strict-aliasing -pipe -fstack-protector -I/usr/local/include'
    ccversion='', gccversion='4.4.5', gccosandvers=''
    intsize=4, longsize=8, ptrsize=8, doublesize=8, byteorder=12345678
    d_longlong=define, longlongsize=8, d_longdbl=define, longdblsize=16
    ivtype='long', ivsize=8, nvtype='double', nvsize=8, Off_t='off_t', lseeksize=8
    alignbytes=8, prototype=define
  Linker and Libraries:
    ld='cc', ldflags =' -fstack-protector -L/usr/local/lib'
    libpth=/usr/local/lib /lib/../lib /usr/lib/../lib /lib /usr/lib /usr/lib/x86_64-linux-gnu /lib64 /usr/lib64
    libs=-lnsl -ldl -lm -lcrypt -lutil -lpthread -lc
    perllibs=-lnsl -ldl -lm -lcrypt -lutil -lpthread -lc
    libc=/lib/libc-2.12.1.so, so=so, useshrplib=false, libperl=libperl.a
    gnulibc_version='2.12.1'
  Dynamic Linking:
    dlsrc=dl_dlopen.xs, dlext=so, d_dlsymun=undef, ccdlflags='-Wl,-E'
    cccdlflags='-fPIC', lddlflags='-shared -O2 -L/usr/local/lib -fstack-protector'


Characteristics of this binary (from libperl): 
  Compile-time options: MULTIPLICITY PERL_DONT_CREATE_GVSV
                        PERL_IMPLICIT_CONTEXT PERL_MALLOC_WRAP USE_64_BIT_ALL
                        USE_64_BIT_INT USE_ITHREADS USE_LARGE_FILES
                        USE_PERLIO USE_REENTRANT_API
  Built under linux
  Compiled at Feb 15 2012 11:40:57
  %ENV:
    PERL5LIB=""
    PERL5OPT=""
    PERL5_CPANPLUS_IS_RUNNING="6981"
    PERL5_CPAN_IS_RUNNING="6981"
    PERL5_CPAN_IS_RUNNING_IN_RECURSION="24963,6981"
    PERLBREW_BASHRC_VERSION="0.41"
    PERLBREW_HOME="/home/test/.perlbrew"
    PERLBREW_MANPATH="/home/test/perl5/perlbrew/perls/perl-5.10.1-th/man"
    PERLBREW_PATH="/home/test/perl5/perlbrew/bin:/home/test/perl5/perlbrew/perls/perl-5.10.1-th/bin"
    PERLBREW_PERL="perl-5.10.1-th"
    PERLBREW_ROOT="/home/test/perl5/perlbrew"
    PERLBREW_VERSION="0.41"
    PERL_CPANM_OPT="--prompt --mirror file:///mirrors/cpan/"
    PERL_CR_SMOKER_CURRENT="Net-SAML2-0.17"
    PERL_EXTUTILS_AUTOINSTALL="--defaultdeps"
    PERL_MM_USE_DEFAULT="1"
  @INC:
    /home/test/perl5/perlbrew/perls/perl-5.10.1-th/lib/5.10.1/x86_64-linux-thread-multi
    /home/test/perl5/perlbrew/perls/perl-5.10.1-th/lib/5.10.1
    /home/test/perl5/perlbrew/perls/perl-5.10.1-th/lib/site_perl/5.10.1/x86_64-linux-thread-multi
    /home/test/perl5/perlbrew/perls/perl-5.10.1-th/lib/site_perl/5.10.1
    .