Back
From: metabase:user:320bfe00-2aae-11df-837a-5e0a49663a4f
Subject: PASS Web-Components-Role-TT-0.8.1 v5.10.0 GNU/Linux
Date: 2017-04-01T08:23:11Z
This distribution has been tested as part of the CPAN Testers
project, supporting the Perl programming language. See
http://wiki.cpantesters.org/ for more information or email
questions to cpan-testers-discuss@perl.org
--
Dear Peter Flanigan,
This is a computer-generated report for Web-Components-Role-TT-0.8.1
on perl 5.10.0, created by CPAN-Reporter-1.2018.
Thank you for uploading your work to CPAN. Congratulations!
All tests were successful.
Sections of this report:
* Tester comments
* Program output
* Prerequisites
* Environment and other context
------------------------------
TESTER COMMENTS
------------------------------
Additional comments from tester:
this report is from an automated smoke testing program
and was not reviewed by a human for accuracy
------------------------------
PROGRAM OUTPUT
------------------------------
Output from './Build test':
OS: linux, Host: k93msid
=== Environment variables ===
$AUTHOR_TESTING undef
$AUTOMATED_TESTING 1
$EXTENDED_TESTING undef
$NONINTERACTIVE_TESTING undef
$PERL_CPAN_REPORTER_CONFIG undef
$PERL_CR_SMOKER_CURRENT undef
$PERL5_CPAN_IS_RUNNING 31062
$PERL5_CPANPLUS_IS_VERSION undef
$TEST_CRITIC undef
$TEST_SPELLING undef
Versions for all modules listed in MYMETA.json (including optional ones):
=== Configure Requires ===
Module Want Have
------------- ------ -------
Module::Build 0.4004 0.42_21
version 0.88 0.9917
=== Build Requires ===
Module Want Have
------------- ------ -------
Module::Build 0.4004 0.42_21
version 0.88 0.9917
=== Test Requires ===
Module Want Have
---------------- ------ --------
File::Spec any 3.62
Module::Build 0.4004 0.42_21
Module::Metadata any 1.000033
Sys::Hostname any 1.11
Test::Requires 0.06 0.10
version 0.88 0.9917
=== Test Recommends ===
Module Want Have
---------- -------- --------
CPAN::Meta 2.120900 2.150010
=== Runtime Requires ===
Module Want Have
-------------------- -------- --------
File::DataClass v0.66.0 missing
Moo 2.000001 2.003001
Template 2.26 2.26
Unexpected v0.40.0 missing
namespace::autoclean 0.26 0.28
*** WARNING WARNING WARNING WARNING WARNING WARNING ***
The following REQUIRED prerequisites were not satisfied:
File::DataClass is not installed (version 'v0.66.0' required)
Unexpected is not installed (version 'v0.40.0' required)
t/00report-metadata.t .. ok
t/02pod.t .............. skipped: POD test only for developers
t/03podcoverage.t ...... skipped: POD coverage test only for developers
t/05kwalitee.t ......... skipped: Kwalitee test only for developers
t/06yaml.t ............. skipped: YAML test only for developers
t/07podspelling.t ...... skipped: POD spelling test only for developers
t/10test_script.t ...... skipped: Perl v5.10.1 required--this is only v5.10.0, stopped at (eval 33) line 2.
All tests successful.
Files=7, Tests=1, 2 wallclock secs ( 0.00 usr 0.08 sys + 0.42 cusr 0.12 csys = 0.62 CPU)
Result: PASS
------------------------------
PREREQUISITES
------------------------------
Prerequisite modules loaded:
build_requires:
Module Need Have
-------------- ------ -------
Module::Build 0.4004 0.42_21
Test::Requires 0.06 0.10
version 0.88 0.9917
configure_requires:
Module Need Have
-------------- ------ -------
Module::Build 0.4004 0.42_21
version 0.88 0.9917
------------------------------
ENVIRONMENT AND OTHER CONTEXT
------------------------------
Environment variables:
AUTOMATED_TESTING = 1
LANG = en_US.UTF-8
PATH = /home/sand/bin:/usr/local/bin:/usr/bin:/bin:/usr/games:/usr/local/perl/bin:/usr/X11/bin:/sbin:/usr/sbin
PERL5LIB =
PERL5OPT =
PERL5_CPANPLUS_IS_RUNNING = 31062
PERL5_CPAN_IS_RUNNING = 31062
PERL_CANARY_STABILITY_NOPROMPT = 1
PERL_MM_USE_DEFAULT = 1
PERL_USE_UNSAFE_INC = 1
SHELL = /usr/bin/zsh
TERM = screen
Perl special variables (and OS-specific diagnostics, for MSWin32):
$^X = /home/sand/src/perl/repoperls/installed-perls/host/k93msid/perl-5.10.0/89ad/bin/perl
$UID/$EUID = 1005 / 1005
$GID = 1005 1005
$EGID = 1005 1005
Perl module toolchain versions installed:
Module Have
------------------- --------
CPAN 2.17
CPAN::Meta 2.150010
Cwd 3.62
ExtUtils::CBuilder 0.280224
ExtUtils::Command 7.24
ExtUtils::Install 1.54
ExtUtils::MakeMaker 7.24
ExtUtils::Manifest 1.70
ExtUtils::ParseXS 3.30
File::Spec 3.62
JSON 2.90
JSON::PP 2.27400
Module::Build 0.42_21
Module::Signature 0.81
Parse::CPAN::Meta 2.150010
Test::Harness 3.38
Test::More 1.302078
YAML 1.23
YAML::Syck 1.29
version 0.9917
--
Summary of my perl5 (revision 5 version 10 subversion 0) configuration:
Platform:
osname=linux, osvers=4.9.0-2-amd64, archname=x86_64-linux
uname='linux k93msid 4.9.0-2-amd64 #1 smp debian 4.9.13-1 (2017-02-27) x86_64 gnulinux '
config_args='-Dprefix=/home/sand/src/perl/repoperls/installed-perls/host/k93msid/perl-5.10.0/89ad -Dmyhostname=k93msid -Dinstallusrbinperl=n -Uversiononly -Dusedevel -des -Ui_db -Dlibswanted=cl pthread socket inet nsl gdbm dbm malloc dl ld sun m crypt sec util c cposix posix ucb BSD gdbm_compat -Uuseithreads -Uuselongdouble -DDEBUGGING=-g'
hint=recommended, useposix=true, d_sigaction=define
useithreads=undef, usemultiplicity=undef
useperlio=define, d_sfio=undef, uselargefiles=define, usesocks=undef
use64bitint=define, use64bitall=define, uselongdouble=undef
usemymalloc=n, bincompat5005=undef
Compiler:
cc='cc', ccflags ='-fno-strict-aliasing -pipe -I/usr/local/include -D_LARGEFILE_SOURCE -D_FILE_OFFSET_BITS=64',
optimize='-O2 -g',
cppflags='-fno-strict-aliasing -pipe -I/usr/local/include'
ccversion='', gccversion='6.3.0 20170316', gccosandvers=''
intsize=4, longsize=8, ptrsize=8, doublesize=8, byteorder=12345678
d_longlong=define, longlongsize=8, d_longdbl=define, longdblsize=16
ivtype='long', ivsize=8, nvtype='double', nvsize=8, Off_t='off_t', lseeksize=8
alignbytes=8, prototype=define
Linker and Libraries:
ld='cc', ldflags =' -L/usr/local/lib'
libpth=/usr/local/lib /lib/x86_64-linux-gnu /lib/../lib /usr/lib/x86_64-linux-gnu /usr/lib/../lib /lib /usr/lib
libs=-lpthread -lnsl -ldl -lm -lcrypt -lutil -lc
perllibs=-lpthread -lnsl -ldl -lm -lcrypt -lutil -lc
libc=libc-2.24.so, so=so, useshrplib=false, libperl=libperl.a
gnulibc_version='2.24'
Dynamic Linking:
dlsrc=dl_dlopen.xs, dlext=so, d_dlsymun=undef, ccdlflags='-Wl,-E'
cccdlflags='-fPIC', lddlflags='-shared -O2 -g -L/usr/local/lib'
Characteristics of this binary (from libperl):
Compile-time options: PERL_DONT_CREATE_GVSV PERL_MALLOC_WRAP USE_64_BIT_ALL
USE_64_BIT_INT USE_LARGE_FILES USE_PERLIO
Built under linux
Compiled at Mar 19 2017 22:05:12
%ENV:
PERL5LIB=""
PERL5OPT=""
PERL5_CPANPLUS_IS_RUNNING="31062"
PERL5_CPAN_IS_RUNNING="31062"
PERL_CANARY_STABILITY_NOPROMPT="1"
PERL_MM_USE_DEFAULT="1"
PERL_USE_UNSAFE_INC="1"
@INC:
/home/sand/src/perl/repoperls/installed-perls/host/k93msid/perl-5.10.0/89ad/lib/5.10.0/x86_64-linux
/home/sand/src/perl/repoperls/installed-perls/host/k93msid/perl-5.10.0/89ad/lib/5.10.0
/home/sand/src/perl/repoperls/installed-perls/host/k93msid/perl-5.10.0/89ad/lib/site_perl/5.10.0/x86_64-linux
/home/sand/src/perl/repoperls/installed-perls/host/k93msid/perl-5.10.0/89ad/lib/site_perl/5.10.0
.