Perl-Critic v1.139_01 Perl 5 v5.12.2 MSWin32-x86-multi-thread

Status
Pass
From
Alexandr Ciornii (CHORNY)
Dist
Perl-Critic v1.139_01
Platform
Perl 5 v5.12.2 MSWin32-x86-multi-thread
Date
2020-10-22 23:25:25
ID
71e4194d-6c1e-1014-ae9f-e4facc80c83c
This distribution has been tested as part of the CPAN Testers
project, supporting the Perl programming language.  See
http://wiki.cpantesters.org/ for more information or email
questions to cpan-testers-discuss@perl.org


--
Dear Andy Lester,

This is a computer-generated report for Perl-Critic-1.139_01
on perl 5.12.2, created by CPAN-Reporter-1.2018.

Thank you for uploading your work to CPAN.  Congratulations!
All tests were successful.

Sections of this report:

    * Tester comments
    * Program output
    * Prerequisites
    * Environment and other context

------------------------------
TESTER COMMENTS
------------------------------

Additional comments from tester:

this report is from an automated smoke testing program
and was not reviewed by a human for accuracy

------------------------------
PROGRAM OUTPUT
------------------------------

Output from 'C:\strawberry\perl\bin\perl.exe ./Build test':

# Testing Perl::Critic 1.139_01 with PPI 1.270 under Perl 5.012002, C:\strawberry\perl\bin\perl.exe
t\00_modules.t ................................ ok
t\00_versions.t ............................... ok
t\01_config.t ................................. ok
t\01_config_bad_perlcriticrc.t ................ ok
t\01_policy_config.t .......................... ok
t\02_policy.t ................................. ok
t\03_annotations.t ............................ ok
t\03_pragmas.t ................................ ok
t\04_options_processor.t ...................... ok
t\05_utils.t .................................. ok
t\05_utils_perl.t ............................. ok
t\05_utils_pod.t .............................. ok
t\05_utils_ppi.t .............................. ok
t\06_violation.t .............................. ok
t\07_command.t ................................ ok
t\07_perlcritic.t ............................. ok
t\08_document.t ............................... ok
t\09_theme.t .................................. ok
t\10_user_profile.t ........................... ok
t\11_policy_factory.t ......................... ok
t\12_policy_listing.t ......................... ok
t\12_theme_listing.t .......................... ok
t\13_bundled_policies.t ....................... ok
t\14_policy_parameter_behavior_boolean.t ...... ok
t\14_policy_parameter_behavior_enumeration.t .. ok
t\14_policy_parameter_behavior_integer.t ...... ok
t\14_policy_parameter_behavior_list_string.t .. ok
t\14_policy_parameter_behavior_string.t ....... ok
t\14_policy_parameters.t ...................... ok
t\15_statistics.t ............................. ok
t\16_roundtrip_defaults.t ..................... ok
t\20_policies.t ............................... ok
t\20_policy_pod_spelling.t .................... ok
t\20_policy_prohibit_evil_modules.t ........... ok
t\20_policy_prohibit_hard_tabs.t .............. ok
t\20_policy_prohibit_trailing_whitespace.t .... ok
t\20_policy_require_consistent_newlines.t ..... ok
t\20_policy_require_tidy_code.t ............... ok
Unhandled type: REGEXP at C:/strawberry/perl/site/lib/Devel/Cycle.pm line 107.
t\92_memory_leaks.t ........................... ok
t\gh-734.t .................................... ok
All tests successful.
Files=40, Tests=8078, 182 wallclock secs ( 1.50 usr +  0.20 sys =  1.70 CPU)
Result: PASS

------------------------------
PREREQUISITES
------------------------------

Prerequisite modules loaded:

requires:

    Module                     Need     Have    
    -------------------------- -------- --------
    B::Keywords                1.05     1.13    
    base                       0        2.18    
    Carp                       0        1.3301  
    charnames                  0        1.07    
    Config::Tiny               2        2.20    
    English                    0        1.04    
    Exception::Class           1.23     1.38    
    Exporter                   5.63     5.70    
    Fatal                      0        2.25    
    File::Basename             0        2.78    
    File::Find                 0        1.15    
    File::Path                 0        2.08_01 
    File::Spec                 0        3.47    
    File::Spec::Unix           0        3.47    
    File::Temp                 0        0.2304  
    File::Which                0        1.09    
    Getopt::Long               0        2.42    
    IO::String                 0        1.08    
    IPC::Open2                 1        1.03    
    List::MoreUtils            0.19     0.33    
    List::Util                 0        1.39    
    Module::Build              0.4204   0.4206  
    Module::Pluggable          3.1      5.1     
    overload                   0        1.10    
    perl                       5.006001 5.012002
    Perl::Tidy                 0        20140711
    Pod::Parser                0        1.37    
    Pod::PlainText             0        2.04    
    Pod::Select                0        1.36    
    Pod::Spell                 1        1.15    
    Pod::Usage                 0        1.64    
    PPI                        1.265    1.270   
    PPI::Document              1.265    1.270   
    PPI::Document::File        1.265    1.270   
    PPI::Node                  1.265    1.270   
    PPI::Token::Quote::Single  1.265    1.270   
    PPI::Token::Whitespace     1.265    1.270   
    PPIx::QuoteLike            0        0.013   
    PPIx::Regexp               0.027    0.075   
    PPIx::Regexp::Util         0.068    0.075   
    PPIx::Utilities::Node      1.001    1.001000
    PPIx::Utilities::Statement 1.001    1.001000
    Readonly                   2        2.00    
    Scalar::Util               0        1.39    
    strict                     0        1.04    
    String::Format             1.18     1.18    
    Task::Weaken               0        1.03    
    Term::ANSIColor            2.02     4.03    
    Test::Builder              0.92     1.001003
    Text::ParseWords           3        3.27    
    version                    0.77     0.9908  
    warnings                   0        1.09    

build_requires:

    Module                     Need     Have    
    -------------------------- -------- --------
    lib                        0        0.62    
    Test::Deep                 0        0.112   
    Test::More                 0        1.001003

configure_requires:

    Module                     Need     Have    
    -------------------------- -------- --------
    Module::Build              0.4204   0.4206  


------------------------------
ENVIRONMENT AND OTHER CONTEXT
------------------------------

Environment variables:

    AUTOMATED_TESTING = 1
    COMSPEC = C:\WINDOWS\system32\cmd.exe
    NUMBER_OF_PROCESSORS = 1
    PATH = c:\Windows\system32;c:\Windows\System32\Wbem;C:\Git\cmd;C:\strawberry\c\bin;C:\strawberry\perl\site\bin;C:\strawberry\perl\bin
    PERL5LIB = C:\strawberry\cpan\build\String-Format-1.18-0/blib/arch;C:\strawberry\cpan\build\String-Format-1.18-0/blib/lib;C:\strawberry\cpan\build\PPIx-Regexp-0.075-0/blib/arch;C:\strawberry\cpan\build\PPIx-Regexp-0.075-0/blib/lib;C:\strawberry\cpan\build\PPIx-QuoteLike-0.013-0/blib/arch;C:\strawberry\cpan\build\PPIx-QuoteLike-0.013-0/blib/lib;C:\strawberry\cpan\build\PPI-1.270-0/blib/arch;C:\strawberry\cpan\build\PPI-1.270-0/blib/lib
    PERL5OPT = 
    PERL5_CPANPLUS_IS_RUNNING = 1536
    PERL5_CPAN_IS_RUNNING = 1536
    PERL5_CPAN_IS_RUNNING_IN_RECURSION = 516,1536
    PERL_CR_SMOKER_CURRENT = Perl-Critic-1.139_01
    PERL_CR_SMOKER_RUNONCE = 1
    PERL_EXTUTILS_AUTOINSTALL = --defaultdeps
    PERL_MM_USE_DEFAULT = 1
    PROCESSOR_IDENTIFIER = x86 Family 18 Model 1 Stepping 0, AuthenticAMD
    TEMP = C:\DOCUME~1\c\LOCALS~1\Temp
    TERM = dumb

Perl special variables (and OS-specific diagnostics, for MSWin32):

    $^X = C:\strawberry\perl\bin\perl.exe
    $UID/$EUID = 0 / 0
    $GID = 0
    $EGID = 0
    Win32::GetOSName = WinXP/.Net
    Win32::GetOSVersion = Service Pack 3, 5, 1, 2600, 2, 3, 0, 256, 1
    Win32::FsType = NTFS
    Win32::IsAdminUser = 1

Perl module toolchain versions installed:

    Module              Have    
    ------------------- --------
    CPAN                2.16    
    CPAN::Meta          2.141520
    Cwd                 3.47    
    ExtUtils::CBuilder  0.280216
    ExtUtils::Command   1.16    
    ExtUtils::Install   1.55    
    ExtUtils::MakeMaker 6.98    
    ExtUtils::Manifest  1.60    
    ExtUtils::ParseXS   3.24    
    File::Spec          3.47    
    JSON                2.90    
    JSON::PP            2.27203 
    Module::Build       0.4206  
    Module::Signature   0.66    
    Parse::CPAN::Meta   1.4414  
    Test::Harness       3.32    
    Test::More          1.001003
    YAML                0.98    
    YAML::Syck          1.27    
    version             0.9908  


--

Summary of my perl5 (revision 5 version 12 subversion 2) configuration:
   
  Platform:
    osname=MSWin32, osvers=5.1, archname=MSWin32-x86-multi-thread
    uname='Win32 strawberryperl 5.12.2.0 #1 Fri Nov  5 05:17:27 2010 i386'
    config_args='undef'
    hint=recommended, useposix=true, d_sigaction=undef
    useithreads=define, usemultiplicity=define
    useperlio=define, d_sfio=undef, uselargefiles=define, usesocks=undef
    use64bitint=undef, use64bitall=undef, uselongdouble=undef
    usemymalloc=n, bincompat5005=undef
  Compiler:
    cc='gcc', ccflags =' -s -O2 -DWIN32 -DHAVE_DES_FCRYPT  -DUSE_SITECUSTOMIZE -DPERL_IMPLICIT_CONTEXT -DPERL_IMPLICIT_SYS -fno-strict-aliasing -mms-bitfields -DPERL_MSVCRT_READFIX',
    optimize='-s -O2',
    cppflags='-DWIN32'
    ccversion='', gccversion='4.4.3', gccosandvers=''
    intsize=4, longsize=4, ptrsize=4, doublesize=8, byteorder=1234
    d_longlong=undef, longlongsize=8, d_longdbl=define, longdblsize=12
    ivtype='long', ivsize=4, nvtype='double', nvsize=8, Off_t='long long', lseeksize=8
    alignbytes=8, prototype=define
  Linker and Libraries:
    ld='g++', ldflags ='-s -L"C:\strawberry\perl\lib\CORE" -L"C:\strawberry\c\lib"'
    libpth=C:\strawberry\c\lib C:\strawberry\c\i686-w64-mingw32\lib
    libs=-lmoldname -lkernel32 -luser32 -lgdi32 -lwinspool -lcomdlg32 -ladvapi32 -lshell32 -lole32 -loleaut32 -lnetapi32 -luuid -lws2_32 -lmpr -lwinmm -lversion -lodbc32 -lodbccp32 -lcomctl32
    perllibs=-lmoldname -lkernel32 -luser32 -lgdi32 -lwinspool -lcomdlg32 -ladvapi32 -lshell32 -lole32 -loleaut32 -lnetapi32 -luuid -lws2_32 -lmpr -lwinmm -lversion -lodbc32 -lodbccp32 -lcomctl32
    libc=, so=dll, useshrplib=true, libperl=libperl512.a
    gnulibc_version=''
  Dynamic Linking:
    dlsrc=dl_win32.xs, dlext=dll, d_dlsymun=undef, ccdlflags=' '
    cccdlflags=' ', lddlflags='-mdll -s -L"C:\strawberry\perl\lib\CORE" -L"C:\strawberry\c\lib"'


Characteristics of this binary (from libperl): 
  Compile-time options: MULTIPLICITY PERL_DONT_CREATE_GVSV
                        PERL_IMPLICIT_CONTEXT PERL_IMPLICIT_SYS
                        PERL_MALLOC_WRAP PL_OP_SLAB_ALLOC USE_ITHREADS
                        USE_LARGE_FILES USE_PERLIO USE_PERL_ATOF
                        USE_SITECUSTOMIZE
  Built under MSWin32
  Compiled at Nov  5 2010 08:39:08
  %ENV:
    PERL5LIB="C:\strawberry\cpan\build\String-Format-1.18-0/blib/arch;C:\strawberry\cpan\build\String-Format-1.18-0/blib/lib;C:\strawberry\cpan\build\PPIx-Regexp-0.075-0/blib/arch;C:\strawberry\cpan\build\PPIx-Regexp-0.075-0/blib/lib;C:\strawberry\cpan\build\PPIx-QuoteLike-0.013-0/blib/arch;C:\strawberry\cpan\build\PPIx-QuoteLike-0.013-0/blib/lib;C:\strawberry\cpan\build\PPI-1.270-0/blib/arch;C:\strawberry\cpan\build\PPI-1.270-0/blib/lib"
    PERL5_CPANPLUS_IS_RUNNING="1536"
    PERL5_CPAN_IS_RUNNING="1536"
    PERL5_CPAN_IS_RUNNING_IN_RECURSION="516,1536"
    PERL_CR_SMOKER_CURRENT="Perl-Critic-1.139_01"
    PERL_CR_SMOKER_RUNONCE="1"
    PERL_EXTUTILS_AUTOINSTALL="--defaultdeps"
    PERL_MM_USE_DEFAULT="1"
  @INC:
    C:\strawberry\cpan\build\String-Format-1.18-0/blib/arch
    C:\strawberry\cpan\build\String-Format-1.18-0/blib/lib
    C:\strawberry\cpan\build\PPIx-Regexp-0.075-0/blib/arch
    C:\strawberry\cpan\build\PPIx-Regexp-0.075-0/blib/lib
    C:\strawberry\cpan\build\PPIx-QuoteLike-0.013-0/blib/arch
    C:\strawberry\cpan\build\PPIx-QuoteLike-0.013-0/blib/lib
    C:\strawberry\cpan\build\PPI-1.270-0/blib/arch
    C:\strawberry\cpan\build\PPI-1.270-0/blib/lib
    C:/strawberry/perl/site/lib
    C:/strawberry/perl/vendor/lib
    C:/strawberry/perl/lib
    .