Test-Script v1.29 Perl 5 v5.41.10 x86_64-linux

Status
Pass
From
John SJ Anderson
Dist
Test-Script v1.29
Platform
Perl 5 v5.41.10 x86_64-linux
Date
2025-03-21 20:02:41
ID
720f23e2-068f-11f0-abc9-854595b0f40b
This distribution has been tested as part of the CPAN Testers
project, supporting the Perl programming language.  See
http://wiki.cpantesters.org/ for more information or email
questions to cpan-testers-discuss@perl.org


--
Dear PLICEASE,

This is a computer-generated report for Test-Script-1.29
on perl 5.41.10, created by App::cpanminus::reporter 0.22 (1.7048).

Thank you for uploading your work to CPAN.  Congratulations!
All tests were successful.

Sections of this report:

    * Tester comments
    * Program output
    * Prerequisites
    * Environment and other context

------------------------------
TESTER COMMENTS
------------------------------

Additional comments from tester:

none provided

------------------------------
PROGRAM OUTPUT
------------------------------

Output from '':

Building and testing Test-Script-1.29
cp lib/Test/Script.pm blib/lib/Test/Script.pm
Manifying 1 pod document
PERL_DL_NONLAZY=1 "/opt/plenv/versions/5.41.10/bin/perl5.41.10" "-MExtUtils::Command::MM" "-MTest::Harness" "-e" "undef *Test::Harness::Switches; test_harness(0, 'blib/lib', 'blib/arch')" t/*.t
# 
# 
# 
# HARNESS_ACTIVE=1
# HARNESS_VERSION=3.50
# LANG=en_US.UTF-8
# LC_ALL=en_US.UTF-8
# LC_TERMINAL=iTerm2
# LC_TERMINAL_VERSION=3.5.10
# PERL5LIB=/home/genehack/.cpanm/work/1742587023.1688679/Test-Script-1.29/blib/lib:/home/genehack/.cpanm/work/1742587023.1688679/Test-Script-1.29/blib/arch
# PERL_CPANM_OPT=--skip-installed --prompt
# PERL_DL_NONLAZY=1
# PERL_MM_USE_DEFAULT=1
# PERL_USE_UNSAFE_INC=1
# SHELL=/bin/zsh
# 
# 
# 
# PERL5LIB path
# /home/genehack/.cpanm/work/1742587023.1688679/Test-Script-1.29/blib/lib
# /home/genehack/.cpanm/work/1742587023.1688679/Test-Script-1.29/blib/arch
# 
# 
# 
# perl                5.041010 linux x86_64-linux
# Capture::Tiny       0.50
# ExtUtils::MakeMaker 7.72
# File::Spec          3.93
# IO::Handle          1.55
# Probe::Perl         0.03
# Test2::API          1.302209
# Test2::V0           1.302209
# Text::ParseWords    3.31
# 
# 
# 
t/00_diag.t ....................... ok
t/01_use.t ........................ ok
t/bug_gh9.t ....................... ok
t/test_script__exports.t .......... ok
t/test_script__fails.t ............ ok
t/test_script__import.t ........... ok
t/test_script__program_runs.t ..... ok
t/test_script__program_stderr.t ... ok
t/test_script__program_stdout.t ... ok
t/test_script__script_compiles.t .. ok
t/test_script__script_runs.t ...... ok
t/test_script__script_stderr.t .... ok
t/test_script__script_stdout.t .... ok
All tests successful.
Files=13, Tests=91,  1 wallclock secs ( 0.05 usr  0.01 sys +  1.36 cusr  0.40 csys =  1.82 CPU)
Result: PASS

------------------------------
PREREQUISITES
------------------------------

Prerequisite modules loaded:

runtime:

    Module              Need     Have    
    ------------------- -------- --------
    Capture::Tiny       0        0.50    
    File::Spec          0.80     3.93    
    IO::Handle          0        1.55    
    perl                5.008001 5.041010
    Probe::Perl         0.01     0.03    
    Test2::API          1.302015 1.302209
    Text::ParseWords    0        3.31    

build:

    Module              Need     Have    
    ------------------- -------- --------
    ExtUtils::MakeMaker 0        7.72    

configure:

    Module              Need     Have    
    ------------------- -------- --------
    ExtUtils::MakeMaker 0        7.72    


------------------------------
ENVIRONMENT AND OTHER CONTEXT
------------------------------

Environment variables:

    LANG = en_US.UTF-8
    LC_ALL = en_US.UTF-8
    LC_TERMINAL = iTerm2
    LC_TERMINAL_VERSION = 3.5.10
    PATH = /opt/plenv/versions/5.41.10/bin:/opt/plenv/libexec:/opt/plenv/plugins/perl-build/bin:/home/genehack/bin:/opt/miniconda3/condabin:/opt/plenv/shims:/opt/plenv/bin:/opt/go/bin:/opt/git/bin:/opt/emacs/bin:/opt/local/bin:/usr/local/bin:/usr/bin:/bin:/usr/games:/opt/rust/cargo/bin
    PERL_CPANM_OPT = --skip-installed --prompt
    SHELL = /bin/zsh
    TERM = screen-256color

Perl special variables (and OS-specific diagnostics, for MSWin32):

    EGID = 1001 113 122 1001
    EUID = 1001
    EXECUTABLE_NAME = /opt/plenv/versions/5.41.10/bin/perl5.41.10
    GID = 1001 113 122 1001
    UID = 1001

Perl module toolchain versions installed:

    Module              Have    
    ------------------- --------
    CPAN                2.38    
    CPAN::Meta          2.150010
    Cwd                 3.92    
    ExtUtils::CBuilder  0.280240
    ExtUtils::Command   7.72    
    ExtUtils::Install   2.22    
    ExtUtils::MakeMaker 7.72    
    ExtUtils::Manifest  1.75    
    ExtUtils::ParseXS   3.57    
    File::Spec          3.93    
    JSON                4.10    
    JSON::PP            4.16    
    Module::Build       0.4234  
    Module::Signature   n/a     
    Parse::CPAN::Meta   2.150010
    Test::Harness       3.50    
    Test::More          1.302209
    YAML                1.31    
    YAML::Syck          n/a     
    version             0.9933  


--

Summary of my perl5 (revision 5 version 41 subversion 10) configuration:
   
  Platform:
    osname=linux
    osvers=5.10.0-20-amd64
    archname=x86_64-linux
    uname='linux doof 5.10.0-20-amd64 #1 smp debian 5.10.158-2 (2022-12-13) x86_64 gnulinux '
    config_args='-Dprefix=/opt/plenv/versions/5.41.10 -de -Dversiononly -Dusedevel -A'eval:scriptdir=/opt/plenv/versions/5.41.10/bin''
    hint=recommended
    useposix=true
    d_sigaction=define
    useithreads=undef
    usemultiplicity=undef
    use64bitint=define
    use64bitall=define
    uselongdouble=undef
    usemymalloc=n
    default_inc_excludes_dot=define
  Compiler:
    cc='cc'
    ccflags ='-fwrapv -fno-strict-aliasing -pipe -fstack-protector-strong -I/usr/local/include -D_LARGEFILE_SOURCE -D_FILE_OFFSET_BITS=64 -D_FORTIFY_SOURCE=2'
    optimize='-O2'
    cppflags='-fwrapv -fno-strict-aliasing -pipe -fstack-protector-strong -I/usr/local/include'
    ccversion=''
    gccversion='12.2.0'
    gccosandvers=''
    intsize=4
    longsize=8
    ptrsize=8
    doublesize=8
    byteorder=12345678
    doublekind=3
    d_longlong=define
    longlongsize=8
    d_longdbl=define
    longdblsize=16
    longdblkind=3
    ivtype='long'
    ivsize=8
    nvtype='double'
    nvsize=8
    Off_t='off_t'
    lseeksize=8
    alignbytes=8
    prototype=define
  Linker and Libraries:
    ld='cc'
    ldflags =' -fstack-protector-strong -L/usr/local/lib'
    libpth=/usr/local/lib /usr/lib/x86_64-linux-gnu /usr/lib /usr/lib64
    libs=-lpthread -lgdbm -ldl -lm -lcrypt -lutil -lc
    perllibs=-lpthread -ldl -lm -lcrypt -lutil -lc
    libc=/lib/x86_64-linux-gnu/libc.so.6
    so=so
    useshrplib=false
    libperl=libperl.a
    gnulibc_version='2.36'
  Dynamic Linking:
    dlsrc=dl_dlopen.xs
    dlext=so
    d_dlsymun=undef
    ccdlflags='-Wl,-E'
    cccdlflags='-fPIC'
    lddlflags='-shared -O2 -L/usr/local/lib -fstack-protector-strong'


Characteristics of this binary (from libperl): 
  Compile-time options:
    HAS_LONG_DOUBLE
    HAS_STRTOLD
    HAS_TIMES
    PERLIO_LAYERS
    PERL_COPY_ON_WRITE
    PERL_DONT_CREATE_GVSV
    PERL_HASH_FUNC_SIPHASH13
    PERL_HASH_USE_SBOX32
    PERL_MALLOC_WRAP
    PERL_OP_PARENT
    PERL_PRESERVE_IVUV
    PERL_USE_DEVEL
    PERL_USE_SAFE_PUTENV
    USE_64_BIT_ALL
    USE_64_BIT_INT
    USE_LARGE_FILES
    USE_LOCALE
    USE_LOCALE_COLLATE
    USE_LOCALE_CTYPE
    USE_LOCALE_NUMERIC
    USE_LOCALE_TIME
    USE_PERLIO
    USE_PERL_ATOF
  Built under linux
  Compiled at Mar 21 2025 11:33:00
  %ENV:
    PERL_CPANM_OPT="--skip-installed --prompt"
  @INC:
    /opt/plenv/versions/5.41.10/lib/perl5/site_perl/5.41.10/x86_64-linux
    /opt/plenv/versions/5.41.10/lib/perl5/site_perl/5.41.10
    /opt/plenv/versions/5.41.10/lib/perl5/5.41.10/x86_64-linux
    /opt/plenv/versions/5.41.10/lib/perl5/5.41.10