Report for Dependencies-Searcher-0.066_005

Back
From: metabase:user:314402c4-2aae-11df-837a-5e0a49663a4f
Subject: PASS Dependencies-Searcher-0.066_005 v5.22.1 GNU/Linux
Date: 2016-05-18T12:38:38Z

This distribution has been tested as part of the CPAN Testers
project, supporting the Perl programming language.  See
http://wiki.cpantesters.org/ for more information or email
questions to cpan-testers-discuss@perl.org


--
Dear Sebastien Feugere,

This is a computer-generated report for Dependencies-Searcher-0.066_005
on perl 5.22.1, created by CPAN-Reporter-1.2017.

Thank you for uploading your work to CPAN.  Congratulations!
All tests were successful.

Sections of this report:

    * Tester comments
    * Program output
    * Prerequisites
    * Environment and other context

------------------------------
TESTER COMMENTS
------------------------------

Additional comments from tester:

none provided

------------------------------
PROGRAM OUTPUT
------------------------------

Output from '/usr/bin/make test':

PERL_DL_NONLAZY=1 "/bbbike/perl-5.22.1/bin/perl5.22.1" "-MExtUtils::Command::MM" "-MTest::Harness" "-e" "undef *Test::Harness::Switches; test_harness(0, 'blib/lib', 'blib/arch')" t/*.t
# Testing Dependencies::Searcher 0.066_005, Perl 5.022001, /bbbike/perl-5.22.1/bin/perl5.22.1
t/00-load.t ............... ok
t/01_corelist.t ........... ok
t/02_get_files.t .......... ok
[
    [0]  "use 5.010;",
    [1]  "use Data::Printer;",
    [2]  "use feature qw(say);",
    [3]  "use Module::CoreList;",
    [4]  "use Module::Version 'get_version';",
    [5]  "use autodie;",
    [6]  "use Moose;",
    [7]  "use IO::File;  ",
    [8]  "use File::HomeDir;",
    [9]  "use Version::Compare;",
    [10] "use Path::Class;",
    [11] "use ExtUtils::Installed;",
    [12] "use File::Next;",
    [13] "use PPI;",
    [14] "use Term::ANSIColor;",
    [15] "use \s",
    [16] "use 5.010;",
    [17] "use strict;",
    [18] "use warnings FATAL => 'all';",
    [19] "use ExtUtils::MakeMaker;"
]
t/03-get_modules.t ........ ok
t/04-avoid-superfluous.t .. ok
t/05-regex-cleaner.t ...... ok
[
    [0]  "use 5.010;",
    [1]  "use Data::Printer;",
    [2]  "use feature qw(say);",
    [3]  "use Module::CoreList;",
    [4]  "use Module::Version 'get_version';",
    [5]  "use autodie;",
    [6]  "use Moose;",
    [7]  "use IO::File;  ",
    [8]  "use File::HomeDir;",
    [9]  "use Version::Compare;",
    [10] "use Path::Class;",
    [11] "use ExtUtils::Installed;",
    [12] "use File::Next;",
    [13] "use PPI;",
    [14] "use Term::ANSIColor;",
    [15] "use \s",
    [16] "use 5.010;",
    [17] "use strict;",
    [18] "use warnings FATAL => 'all';",
    [19] "use ExtUtils::MakeMaker;"
]
[]
t/06-regex-pattern.t ...... ok
t/10-cpanfile.t ........... ok
t/manifest.t .............. skipped: Author tests not required for installation
t/pod-coverage.t .......... ok
t/pod.t ................... ok
All tests successful.
Files=11, Tests=372,  3 wallclock secs ( 0.03 usr  0.06 sys +  2.69 cusr  0.45 csys =  3.23 CPU)
Result: PASS

------------------------------
PREREQUISITES
------------------------------

Prerequisite modules loaded:

requires:

    Module              Need       Have      
    ------------------- ---------- ----------
    Data::Printer       0.35       0.38      
    File::HomeDir       1          1.00      
    File::Next          1.12       1.12      
    Module::CoreList    5.20160429 5.20160507
    Module::Version     0.12       0.12      
    Moose               2.0602     2.1801    
    Path::Class         0.32       0.36      
    perl                5.010      5.022001  
    PPI                 1.22       1.220     
    Version::Compare    0.14       0.14      

build_requires:

    Module              Need       Have      
    ------------------- ---------- ----------
    IO::File            0          1.16      
    Module::Version     0.12       0.12      
    Test::More          0          1.302015  
    Test::Pod           1.48       1.51      
    Test::Pod::Coverage 1.08       1.10      

configure_requires:

    Module              Need       Have      
    ------------------- ---------- ----------
    ExtUtils::MakeMaker 6.74       7.16      


------------------------------
ENVIRONMENT AND OTHER CONTEXT
------------------------------

Environment variables:

    LANG = C
    LC_ALL = de_DE.UTF-8
    PATH = /usr/local/bin:/usr/bin:/bin:/usr/local/sbin:/usr/sbin:/sbin:/home/cpansand/bin/linux-gnu:/home/cpansand/bin/sh:/home/cpansand/bin:/usr/games:/home/cpansand/devel:/home/eserte/src/srezic-misc/scripts
    PERL5LIB = /home/cpansand/.cpan/build/2016051812/Module-Version-0.12-459MIb/blib/arch:/home/cpansand/.cpan/build/2016051812/Module-Version-0.12-459MIb/blib/lib:/home/cpansand/.cpan/build/2016051812/Version-Compare-0.14-TcOcZm/blib/arch:/home/cpansand/.cpan/build/2016051812/Version-Compare-0.14-TcOcZm/blib/lib:/home/cpansand/.cpan/build/2016051812/Mojolicious-Plugin-Bitcoin-0.05-klupCl/blib/arch:/home/cpansand/.cpan/build/2016051812/Mojolicious-Plugin-Bitcoin-0.05-klupCl/blib/lib
    PERL5OPT = 
    PERL5_CPANPLUS_IS_RUNNING = 2445
    PERL5_CPAN_IS_RUNNING = 2445
    PERL5_CPAN_IS_RUNNING_IN_RECURSION = 2359,2445
    PERLDOC = -MPod::Perldoc::ToTextOverstrike
    PERL_BATCH = yes
    PERL_CANARY_STABILITY_NOPROMPT = 1
    PERL_CPAN_REPORTER_CONFIG = /run/user/1023/cpansmoker/2016051812/cpanreporter_000_config.ini
    PERL_EXTUTILS_AUTOINSTALL = --defaultdeps
    PERL_PARALLEL_SMOKER = yes
    SHELL = /bin/zsh
    TERM = screen
    TMPDIR = /run/user/1023/cpansmoker/2016051812

Perl special variables (and OS-specific diagnostics, for MSWin32):

    $^X = /bbbike/perl-5.22.1/bin/perl5.22.1
    $UID/$EUID = 1023 / 1023
    $GID = 1023 1023
    $EGID = 1023 1023

Perl module toolchain versions installed:

    Module              Have    
    ------------------- --------
    CPAN                2.11    
    CPAN::Meta          2.150001
    Cwd                 3.62    
    ExtUtils::CBuilder  0.280221
    ExtUtils::Command   7.16    
    ExtUtils::Install   2.04    
    ExtUtils::MakeMaker 7.16    
    ExtUtils::Manifest  1.70    
    ExtUtils::ParseXS   3.28    
    File::Spec          3.62    
    JSON                2.90    
    JSON::PP            2.27300 
    Module::Build       0.4218  
    Module::Signature   0.79    
    Parse::CPAN::Meta   1.4414  
    Test::Harness       3.35    
    Test::More          1.302015
    YAML                1.15    
    YAML::Syck          1.29    
    version             0.9909  


--

Summary of my perl5 (revision 5 version 22 subversion 1) configuration:
   
  Platform:
    osname=linux, osvers=3.16.0-4-amd64, archname=x86_64-linux
    uname='linux eserte 3.16.0-4-amd64 #1 smp debian 3.16.7-ckt25-2 (2016-04-08) x86_64 gnulinux '
    config_args='-ds -e -Dprefix=/opt/perl-5.22.1 -Dcf_email=srezic@cpan.org'
    hint=recommended, useposix=true, d_sigaction=define
    useithreads=undef, usemultiplicity=undef
    use64bitint=define, use64bitall=define, uselongdouble=undef
    usemymalloc=n, bincompat5005=undef
  Compiler:
    cc='cc', ccflags ='-fwrapv -fno-strict-aliasing -pipe -fstack-protector-strong -I/usr/local/include -D_LARGEFILE_SOURCE -D_FILE_OFFSET_BITS=64 -D_FORTIFY_SOURCE=2',
    optimize='-O2',
    cppflags='-fwrapv -fno-strict-aliasing -pipe -fstack-protector-strong -I/usr/local/include'
    ccversion='', gccversion='4.9.2', gccosandvers=''
    intsize=4, longsize=8, ptrsize=8, doublesize=8, byteorder=12345678, doublekind=3
    d_longlong=define, longlongsize=8, d_longdbl=define, longdblsize=16, longdblkind=3
    ivtype='long', ivsize=8, nvtype='double', nvsize=8, Off_t='off_t', lseeksize=8
    alignbytes=8, prototype=define
  Linker and Libraries:
    ld='cc', ldflags =' -fstack-protector-strong -L/usr/local/lib'
    libpth=/usr/local/lib /usr/lib/gcc/x86_64-linux-gnu/4.9/include-fixed /usr/include/x86_64-linux-gnu /usr/lib /lib/x86_64-linux-gnu /lib/../lib /usr/lib/x86_64-linux-gnu /usr/lib/../lib /lib
    libs=-lpthread -lnsl -lgdbm -ldb -ldl -lm -lcrypt -lutil -lc -lgdbm_compat
    perllibs=-lpthread -lnsl -ldl -lm -lcrypt -lutil -lc
    libc=libc-2.19.so, so=so, useshrplib=false, libperl=libperl.a
    gnulibc_version='2.19'
  Dynamic Linking:
    dlsrc=dl_dlopen.xs, dlext=so, d_dlsymun=undef, ccdlflags='-Wl,-E'
    cccdlflags='-fPIC', lddlflags='-shared -O2 -L/usr/local/lib -fstack-protector-strong'


Characteristics of this binary (from libperl): 
  Compile-time options: HAS_TIMES PERLIO_LAYERS PERL_DONT_CREATE_GVSV
                        PERL_HASH_FUNC_ONE_AT_A_TIME_HARD PERL_MALLOC_WRAP
                        PERL_NEW_COPY_ON_WRITE PERL_PRESERVE_IVUV
                        USE_64_BIT_ALL USE_64_BIT_INT USE_LARGE_FILES
                        USE_LOCALE USE_LOCALE_COLLATE USE_LOCALE_CTYPE
                        USE_LOCALE_NUMERIC USE_LOCALE_TIME USE_PERLIO
                        USE_PERL_ATOF
  Locally applied patches:
	Devel::PatchPerl 1.42
  Built under linux
  Compiled at May  7 2016 12:41:21
  %ENV:
    PERL5LIB="/home/cpansand/.cpan/build/2016051812/Module-Version-0.12-459MIb/blib/arch:/home/cpansand/.cpan/build/2016051812/Module-Version-0.12-459MIb/blib/lib:/home/cpansand/.cpan/build/2016051812/Version-Compare-0.14-TcOcZm/blib/arch:/home/cpansand/.cpan/build/2016051812/Version-Compare-0.14-TcOcZm/blib/lib:/home/cpansand/.cpan/build/2016051812/Mojolicious-Plugin-Bitcoin-0.05-klupCl/blib/arch:/home/cpansand/.cpan/build/2016051812/Mojolicious-Plugin-Bitcoin-0.05-klupCl/blib/lib"
    PERL5OPT=""
    PERL5_CPANPLUS_IS_RUNNING="2445"
    PERL5_CPAN_IS_RUNNING="2445"
    PERL5_CPAN_IS_RUNNING_IN_RECURSION="2359,2445"
    PERLDOC="-MPod::Perldoc::ToTextOverstrike"
    PERL_BATCH="yes"
    PERL_CANARY_STABILITY_NOPROMPT="1"
    PERL_CPAN_REPORTER_CONFIG="/run/user/1023/cpansmoker/2016051812/cpanreporter_000_config.ini"
    PERL_EXTUTILS_AUTOINSTALL="--defaultdeps"
    PERL_PARALLEL_SMOKER="yes"
  @INC:
    /home/cpansand/.cpan/build/2016051812/Module-Version-0.12-459MIb/blib/arch
    /home/cpansand/.cpan/build/2016051812/Module-Version-0.12-459MIb/blib/lib
    /home/cpansand/.cpan/build/2016051812/Version-Compare-0.14-TcOcZm/blib/arch
    /home/cpansand/.cpan/build/2016051812/Version-Compare-0.14-TcOcZm/blib/lib
    /home/cpansand/.cpan/build/2016051812/Mojolicious-Plugin-Bitcoin-0.05-klupCl/blib/arch
    /home/cpansand/.cpan/build/2016051812/Mojolicious-Plugin-Bitcoin-0.05-klupCl/blib/lib
    /opt/perl-5.22.1/lib/site_perl/5.22.1/x86_64-linux
    /opt/perl-5.22.1/lib/site_perl/5.22.1
    /opt/perl-5.22.1/lib/5.22.1/x86_64-linux
    /opt/perl-5.22.1/lib/5.22.1
    .