Net-Curl-Promiser v0.18 Perl 5 v5.37.11 amd64-freebsd

Status
Pass
From
Carlos Guevara
Dist
Net-Curl-Promiser v0.18
Platform
Perl 5 v5.37.11 amd64-freebsd
Date
2023-03-23 14:03:11
ID
723bb45c-c983-11ed-bf5c-517c21909a46
This distribution has been tested as part of the CPAN Testers
project, supporting the Perl programming language.  See
http://wiki.cpantesters.org/ for more information or email
questions to cpan-testers-discuss@perl.org


--
Dear Felipe Gasper,

This is a computer-generated report for Net-Curl-Promiser-0.18
on perl 5.37.11, created by CPAN-Reporter-1.2018.

Thank you for uploading your work to CPAN.  Congratulations!
All tests were successful.

Sections of this report:

    * Tester comments
    * Program output
    * Prerequisites
    * Environment and other context

------------------------------
TESTER COMMENTS
------------------------------

Additional comments from tester:

none provided

------------------------------
PROGRAM OUTPUT
------------------------------

Output from '/usr/bin/make test':

PERL_DL_NONLAZY=1 "/usr/home/cpan/bin/perl-blead/bin/perl5.37.11" "-MExtUtils::Command::MM" "-MTest::Harness" "-e" "undef *Test::Harness::Switches; test_harness(0, 'blib/lib', 'blib/arch')" t/*.t
# Created listening socket on port 21286
*   Trying 127.0.0.1:21286...
* Connected to 127.0.0.1 (127.0.0.1) port 21286 (#0)
> GET / HTTP/1.1
Host: 127.0.0.1:21286
Accept: */*

# Curl told us to poll; continuing …
* Closing connection 0
# Created listening socket on port 46838
*   Trying 127.0.0.1:46838...
* Connected to 127.0.0.1 (127.0.0.1) port 46838 (#0)
> GET / HTTP/1.1
Host: 127.0.0.1:46838
Accept: */*

# Curl told us to poll; continuing …
* Closing connection 0
# Created listening socket on port 42794
*   Trying 127.0.0.1:42794...
* Connected to 127.0.0.1 (127.0.0.1) port 42794 (#0)
> GET / HTTP/1.1
Host: 127.0.0.1:42794
Accept: */*

# Curl told us to poll; continuing …
* Closing connection 0
t/cancel_fail.t ....................................... ok
t/Net-Curl-Promiser-AnyEvent.t ........................ ok
t/Net-Curl-Promiser-AnyEvent_reuse.t .................. ok
# Using IO::Async::Loop 0.802
# SERVER PORT: 42715
# SERVER PID: 3967
# Using loop class IO::Async::Loop::Select 0.802
# libcurl libcurl/7.86.0 OpenSSL/1.1.1s zlib/1.2.12 libpsl/0.21.1 (+libidn2/2.3.3) libssh2/1.10.0 nghttp2/1.48.0 (480768)
# FINISHING SERVER: PID 3967 (from PID 3966)
# Server (3967) received request to shut down
# REAPED SERVER: PID 3967 (from PID 3966)
t/Net-Curl-Promiser-IOAsync.t ......................... ok
# SERVER PORT: 11574
# SERVER PID: 3969
# FINISHING SERVER: PID 3969 (from PID 3968)
# Server (3969) received request to shut down
# REAPED SERVER: PID 3969 (from PID 3968)
t/Net-Curl-Promiser-IOAsync_net_curl_easy_overload.t .. ok
# Mojolicious version: 9.31
# Using loop class Mojo::Reactor::Poll
# SERVER PORT: 28245
# SERVER PID: 3971
# libcurl libcurl/7.86.0 OpenSSL/1.1.1s zlib/1.2.12 libpsl/0.21.1 (+libidn2/2.3.3) libssh2/1.10.0 nghttp2/1.48.0 (480768)
# FINISHING SERVER: PID 3971 (from PID 3970)
# Server (3971) received request to shut down
# REAPED SERVER: PID 3971 (from PID 3970)
t/Net-Curl-Promiser-Mojo.t ............................ ok
# SERVER PORT: 61648
# SERVER PID: 3973
# libcurl libcurl/7.86.0 OpenSSL/1.1.1s zlib/1.2.12 libpsl/0.21.1 (+libidn2/2.3.3) libssh2/1.10.0 nghttp2/1.48.0 (480768)
# FINISHING SERVER: PID 3973 (from PID 3972)
# Server (3973) received request to shut down
# REAPED SERVER: PID 3973 (from PID 3972)
t/Net-Curl-Promiser-Select.t .......................... ok
t/Net-Curl-Promiser-Select_setopt_fail.t .............. ok
All tests successful.
Files=8, Tests=64,  3 wallclock secs ( 0.07 usr  0.02 sys +  1.82 cusr  0.83 csys =  2.73 CPU)
Result: PASS

------------------------------
PREREQUISITES
------------------------------

Prerequisite modules loaded:

requires:

    Module              Need  Have    
    ------------------- ----- --------
    Net::Curl           0.44  0.52    
    Promise::ES6        0.07  0.27    

build_requires:

    Module              Need  Have    
    ------------------- ----- --------
    autodie             0     2.36    
    ExtUtils::MakeMaker 0     7.68    
    FindBin             0     1.53    
    Test::Class::Tiny   0     0.03    
    Test::Deep          1.120 1.204   
    Test::FailWarnings  0     0.008   
    Test::Fatal         0     0.017   
    Test::More          0     1.302194

configure_requires:

    Module              Need  Have    
    ------------------- ----- --------
    ExtUtils::MakeMaker 0     7.68    


------------------------------
ENVIRONMENT AND OTHER CONTEXT
------------------------------

Environment variables:

    LANG = C.UTF-8
    LC_ALL = C
    NONINTERACTIVE_TESTING = 1
    PATH = /home/cpan/bin/perl-blead/bin:/home/cpan/bin:/sbin:/bin:/usr/sbin:/usr/bin:/usr/local/sbin:/usr/local/bin:/home/cpan/bin
    PERL5LIB = 
    PERL5OPT = 
    PERL5_CPANPLUS_IS_RUNNING = 3423
    PERL5_CPAN_IS_RUNNING = 3423
    PERL_MM_USE_DEFAULT = 1
    PERL_USE_UNSAFE_INC = 1
    SHELL = /usr/local/bin/bash
    TERM = xterm
    TMPDIR = /home/cpan/tmp

Perl special variables (and OS-specific diagnostics, for MSWin32):

    $^X = /usr/home/cpan/bin/perl-blead/bin/perl5.37.11
    $UID/$EUID = 1002 / 1002
    $GID = 1002 1002
    $EGID = 1002 1002

Perl module toolchain versions installed:

    Module              Have    
    ------------------- --------
    CPAN                2.34    
    CPAN::Meta          2.150010
    Cwd                 3.89    
    ExtUtils::CBuilder  0.280238
    ExtUtils::Command   7.68    
    ExtUtils::Install   2.22    
    ExtUtils::MakeMaker 7.68    
    ExtUtils::Manifest  1.73    
    ExtUtils::ParseXS   3.49    
    File::Spec          3.88    
    JSON                4.10    
    JSON::PP            4.16    
    Module::Build       0.4232  
    Module::Signature   n/a     
    Parse::CPAN::Meta   2.150010
    Test::Harness       3.44    
    Test::More          1.302194
    YAML                1.30    
    YAML::Syck          1.34    
    version             0.9929  


--

Summary of my perl5 (revision 5 version 37 subversion 11) configuration:
  Commit id: 0d292c706462f0a0e7cd64ef002bd8d21513295d
  Platform:
    osname=freebsd
    osvers=14.0-current
    archname=amd64-freebsd
    uname='freebsd cjg-freebsd14 14.0-current freebsd 14.0-current #0 main-n259842-c89209c674f2: sat dec 24 03:59:18 utc 2022 root@releng1.nyi.freebsd.org:usrobjusrsrcamd64.amd64sysgeneric amd64 '
    config_args='-des -Dprefix=~/bin/perl-blead -Dscriptdir=~/bin/perl-blead/bin -Dusedevel -Duse64bitall'
    hint=recommended
    useposix=true
    d_sigaction=define
    useithreads=undef
    usemultiplicity=undef
    use64bitint=define
    use64bitall=define
    uselongdouble=undef
    usemymalloc=n
    default_inc_excludes_dot=define
  Compiler:
    cc='cc'
    ccflags ='-DHAS_FPSETMASK -DHAS_FLOATINGPOINT_H -fno-strict-aliasing -pipe -fstack-protector-strong -I/usr/local/include'
    optimize='-O2'
    cppflags='-DHAS_FPSETMASK -DHAS_FLOATINGPOINT_H -fno-strict-aliasing -pipe -fstack-protector-strong -I/usr/local/include'
    ccversion=''
    gccversion='FreeBSD Clang 14.0.5 (https://github.com/llvm/llvm-project.git llvmorg-14.0.5-0-gc12386ae247c)'
    gccosandvers=''
    intsize=4
    longsize=8
    ptrsize=8
    doublesize=8
    byteorder=12345678
    doublekind=3
    d_longlong=define
    longlongsize=8
    d_longdbl=define
    longdblsize=16
    longdblkind=3
    ivtype='long'
    ivsize=8
    nvtype='double'
    nvsize=8
    Off_t='off_t'
    lseeksize=8
    alignbytes=8
    prototype=define
  Linker and Libraries:
    ld='cc'
    ldflags ='-Wl,-E  -fstack-protector-strong -L/usr/local/lib'
    libpth=/usr/lib /usr/local/lib /usr/lib/clang/14.0.5/lib
    libs=-lpthread -ldl -lm -lcrypt -lutil -lc
    perllibs=-lpthread -ldl -lm -lcrypt -lutil -lc
    libc=
    so=so
    useshrplib=false
    libperl=libperl.a
    gnulibc_version=''
  Dynamic Linking:
    dlsrc=dl_dlopen.xs
    dlext=so
    d_dlsymun=undef
    ccdlflags=' '
    cccdlflags='-DPIC -fPIC'
    lddlflags='-shared  -L/usr/local/lib -fstack-protector-strong'


Characteristics of this binary (from libperl): 
  Compile-time options:
    HAS_TIMES
    PERLIO_LAYERS
    PERL_COPY_ON_WRITE
    PERL_DONT_CREATE_GVSV
    PERL_HASH_FUNC_SIPHASH13
    PERL_HASH_USE_SBOX32
    PERL_MALLOC_WRAP
    PERL_OP_PARENT
    PERL_PRESERVE_IVUV
    PERL_USE_DEVEL
    PERL_USE_SAFE_PUTENV
    USE_64_BIT_ALL
    USE_64_BIT_INT
    USE_LARGE_FILES
    USE_LOCALE
    USE_LOCALE_COLLATE
    USE_LOCALE_CTYPE
    USE_LOCALE_NUMERIC
    USE_LOCALE_TIME
    USE_PERLIO
    USE_PERL_ATOF
  Built under freebsd
  Compiled at Mar 22 2023 09:14:16
  %ENV:
    PERL5LIB=""
    PERL5OPT=""
    PERL5_CPANPLUS_IS_RUNNING="3423"
    PERL5_CPAN_IS_RUNNING="3423"
    PERL_MM_USE_DEFAULT="1"
    PERL_USE_UNSAFE_INC="1"
  @INC:
    /home/cpan/bin/perl-blead/lib/site_perl/5.37.11/amd64-freebsd
    /home/cpan/bin/perl-blead/lib/site_perl/5.37.11
    /home/cpan/bin/perl-blead/lib/5.37.11/amd64-freebsd
    /home/cpan/bin/perl-blead/lib/5.37.11
    .