Report for Module-Install-TestTarget-0.19

Back
From: metabase:user:30f4dfbe-2aae-11df-837a-5e0a49663a4f
Subject: PASS Module-Install-TestTarget-0.19 v5.10.0 NetBSD
Date: 2011-12-30T03:57:52Z

This distribution has been tested as part of the CPAN Testers
project, supporting the Perl programming language.  See
http://wiki.cpantesters.org/ for more information or email
questions to cpan-testers-discuss@perl.org


--
Dear Yuji Shimada,

This is a computer-generated report for Module-Install-TestTarget-0.19
on perl 5.10.0, created by CPAN-Reporter-1.2003.

Thank you for uploading your work to CPAN.  Congratulations!
All tests were successful.

Sections of this report:

    * Tester comments
    * Program output
    * Prerequisites
    * Environment and other context

------------------------------
TESTER COMMENTS
------------------------------

Additional comments from tester:

this report is from an automated smoke testing program
and was not reviewed by a human for accuracy

------------------------------
PROGRAM OUTPUT
------------------------------

Output from '/usr/bin/make test':

PERL_DL_NONLAZY=1 /home/njh/perl5/perlbrew/perls/perl-5.10.0/bin/perl "-MExtUtils::Command::MM" "-e" "test_harness(0, 'blib/lib', 'blib/arch')" t/*.t t/*/*.t
# You have make command: make
t/00_compile.t .......................... ok
t/default_make_test/with_extra_tests.t .. skipped: Test requires module 'Module::Install::ExtraTests' but it's not found
t/test_target/alias.t ................... ok
t/test_target/env.t ..................... ok
t/test_target/includes.t ................ ok
t/test_target/insert_on_finalize.t ...... ok
t/test_target/insert_on_prepare.t ....... ok
t/test_target/load_modules.t ............ ok
t/test_target/run_on_finalize.t ......... ok
t/test_target/run_on_prepare.t .......... ok
t/test_target/tests.t ................... ok
All tests successful.
Files=11, Tests=27, 15 wallclock secs ( 0.08 usr  0.01 sys +  9.99 cusr  2.82 csys = 12.90 CPU)
Result: PASS

------------------------------
PREREQUISITES
------------------------------

Prerequisite modules loaded:

requires:

    Module              Need Have
    ------------------- ---- ----
    Module::Install     1.00 1.04
    Test::More          0.96 0.98
    Test::Requires      0    0.06

build_requires:

    Module              Need Have
    ------------------- ---- ----
    ExtUtils::MakeMaker 0    6.62

configure_requires:

    Module              Need Have
    ------------------- ---- ----
    ExtUtils::MakeMaker 0    6.62


------------------------------
ENVIRONMENT AND OTHER CONTEXT
------------------------------

Environment variables:

    AUTOMATED_TESTING = 1
    PATH = /usr/bin:/bin:/usr/pkg/bin:/usr/local/bin
    PERL5LIB = /home/njh/.cpan/build/Module-Install-1.04-4NSbQy/blib/arch:/home/njh/.cpan/build/Module-Install-1.04-4NSbQy/blib/lib:/home/njh/.cpan/build/Module-ScanDeps-1.07-UHHpxF/blib/arch:/home/njh/.cpan/build/Module-ScanDeps-1.07-UHHpxF/blib/lib:/home/njh/.cpan/build/PAR-Dist-0.48-fF2GHO/blib/arch:/home/njh/.cpan/build/PAR-Dist-0.48-fF2GHO/blib/lib:/home/njh/.cpan/build/XML-Simple-2.18-vRBzJ_/blib/arch:/home/njh/.cpan/build/XML-Simple-2.18-vRBzJ_/blib/lib:/home/njh/.cpan/build/DateTime-Format-Atom-v1.0.2-NWRB0G/blib/arch:/home/njh/.cpan/build/DateTime-Format-Atom-v1.0.2-NWRB0G/blib/lib:/home/njh/.cpan/build/DateTime-Format-RFC3339-v1.0.5-XycPG_/blib/arch:/home/njh/.cpan/build/DateTime-Format-RFC3339-v1.0.5-XycPG_/blib/lib
    PERL5OPT = 
    PERL5_CPANPLUS_IS_RUNNING = 12150
    PERL5_CPAN_IS_RUNNING = 12150
    PERL5_MINISMOKEBOX = 0.54
    PERL_EXTUTILS_AUTOINSTALL = --defaultdeps
    PERL_MM_USE_DEFAULT = 1
    SHELL = /bin/sh

Perl special variables (and OS-specific diagnostics, for MSWin32):

    $^X = /home/njh/perl5/perlbrew/perls/perl-5.10.0/bin/perl
    $UID/$EUID = 500 / 500
    $GID = 100 0 100
    $EGID = 100 0 100

Perl module toolchain versions installed:

    Module              Have    
    ------------------- --------
    CPAN                1.9800  
    CPAN::Meta          2.112621
    Cwd                 3.33    
    ExtUtils::CBuilder  0.280202
    ExtUtils::Command   1.17    
    ExtUtils::Install   1.54    
    ExtUtils::MakeMaker 6.62    
    ExtUtils::Manifest  1.60    
    ExtUtils::ParseXS   3.09    
    File::Spec          3.33    
    JSON                2.53    
    JSON::PP            2.27200 
    Module::Build       0.3800  
    Module::Signature   n/a     
    Parse::CPAN::Meta   1.4401  
    Test::Harness       3.23    
    Test::More          0.98    
    YAML                0.77    
    YAML::Syck          1.19    
    version             0.95    


--

Summary of my perl5 (revision 5 version 10 subversion 0) configuration:
  Platform:
    osname=netbsd, osvers=4.0, archname=i386-netbsd
    uname='netbsd philips.bandsman.co.uk 4.0 netbsd 4.0 (generic) #0: sun dec 16 00:20:10 pst 2007 builds@wb34:homebuildsabnetbsd-4-0-releasei386200712160005z-objhomebuildsabnetbsd-4-0-releasesrcsysarchi386compilegeneric i386 '
    config_args='-de -Dprefix=/home/njh/perl5/perlbrew/perls/perl-5.10.0'
    hint=recommended, useposix=true, d_sigaction=define
    useithreads=undef, usemultiplicity=undef
    useperlio=define, d_sfio=undef, uselargefiles=define, usesocks=undef
    use64bitint=undef, use64bitall=undef, uselongdouble=undef
    usemymalloc=n, bincompat5005=undef
  Compiler:
    cc='cc', ccflags ='-fno-strict-aliasing -pipe -I/usr/pkg/include -I/usr/local/include',
    optimize='-O',
    cppflags='-fno-strict-aliasing -pipe -I/usr/pkg/include -I/usr/local/include'
    ccversion='', gccversion='4.1.2 20061021 prerelease (NetBSD nb3 20061125)', gccosandvers=''
    intsize=4, longsize=4, ptrsize=4, doublesize=8, byteorder=1234
    d_longlong=define, longlongsize=8, d_longdbl=define, longdblsize=12
    ivtype='long', ivsize=4, nvtype='double', nvsize=8, Off_t='off_t', lseeksize=8
    alignbytes=4, prototype=define
  Linker and Libraries:
    ld='cc', ldflags =' -Wl,-rpath,/usr/pkg/lib -Wl,-rpath,/usr/local/lib -L/usr/pkg/lib -L/usr/local/lib'
    libpth=/usr/pkg/lib /usr/local/lib /lib /usr/lib
    libs=-lgdbm -lm -lcrypt -lutil -lc -lposix
    perllibs=-lm -lcrypt -lutil -lc -lposix
    libc=/lib/libc.so, so=so, useshrplib=false, libperl=libperl.a
    gnulibc_version=''
  Dynamic Linking:
    dlsrc=dl_dlopen.xs, dlext=so, d_dlsymun=undef, ccdlflags='-Wl,-E '
    cccdlflags='-DPIC -fPIC ', lddlflags='--whole-archive -shared  -L/usr/pkg/lib -L/usr/local/lib'


Characteristics of this binary (from libperl): 
  Compile-time options: PERL_DONT_CREATE_GVSV PERL_MALLOC_WRAP
                        USE_LARGE_FILES USE_PERLIO
  Built under netbsd
  Compiled at Jul 15 2011 23:01:57
  %ENV:
    PERL5LIB="/home/njh/.cpan/build/Module-Install-1.04-4NSbQy/blib/arch:/home/njh/.cpan/build/Module-Install-1.04-4NSbQy/blib/lib:/home/njh/.cpan/build/Module-ScanDeps-1.07-UHHpxF/blib/arch:/home/njh/.cpan/build/Module-ScanDeps-1.07-UHHpxF/blib/lib:/home/njh/.cpan/build/PAR-Dist-0.48-fF2GHO/blib/arch:/home/njh/.cpan/build/PAR-Dist-0.48-fF2GHO/blib/lib:/home/njh/.cpan/build/XML-Simple-2.18-vRBzJ_/blib/arch:/home/njh/.cpan/build/XML-Simple-2.18-vRBzJ_/blib/lib:/home/njh/.cpan/build/DateTime-Format-Atom-v1.0.2-NWRB0G/blib/arch:/home/njh/.cpan/build/DateTime-Format-Atom-v1.0.2-NWRB0G/blib/lib:/home/njh/.cpan/build/DateTime-Format-RFC3339-v1.0.5-XycPG_/blib/arch:/home/njh/.cpan/build/DateTime-Format-RFC3339-v1.0.5-XycPG_/blib/lib"
    PERL5OPT=""
    PERL5_CPANPLUS_IS_RUNNING="12150"
    PERL5_CPAN_IS_RUNNING="12150"
    PERL5_MINISMOKEBOX="0.54"
    PERL_EXTUTILS_AUTOINSTALL="--defaultdeps"
    PERL_MM_USE_DEFAULT="1"
  @INC:
    /home/njh/.cpan/build/Module-Install-1.04-4NSbQy/blib/arch
    /home/njh/.cpan/build/Module-Install-1.04-4NSbQy/blib/lib
    /home/njh/.cpan/build/Module-ScanDeps-1.07-UHHpxF/blib/arch
    /home/njh/.cpan/build/Module-ScanDeps-1.07-UHHpxF/blib/lib
    /home/njh/.cpan/build/PAR-Dist-0.48-fF2GHO/blib/arch
    /home/njh/.cpan/build/PAR-Dist-0.48-fF2GHO/blib/lib
    /home/njh/.cpan/build/XML-Simple-2.18-vRBzJ_/blib/arch
    /home/njh/.cpan/build/XML-Simple-2.18-vRBzJ_/blib/lib
    /home/njh/.cpan/build/DateTime-Format-Atom-v1.0.2-NWRB0G/blib/arch
    /home/njh/.cpan/build/DateTime-Format-Atom-v1.0.2-NWRB0G/blib/lib
    /home/njh/.cpan/build/DateTime-Format-RFC3339-v1.0.5-XycPG_/blib/arch
    /home/njh/.cpan/build/DateTime-Format-RFC3339-v1.0.5-XycPG_/blib/lib
    /home/njh/perl5/perlbrew/perls/perl-5.10.0/lib/5.10.0/i386-netbsd
    /home/njh/perl5/perlbrew/perls/perl-5.10.0/lib/5.10.0
    /home/njh/perl5/perlbrew/perls/perl-5.10.0/lib/site_perl/5.10.0/i386-netbsd
    /home/njh/perl5/perlbrew/perls/perl-5.10.0/lib/site_perl/5.10.0
    .