Report for Module-Pluggable-4.7

Back
From: metabase:user:1eed3a18-483e-11e2-a87b-a3931c712682
Subject: PASS Module-Pluggable-4.7 v5.16.2 Mac OS X
Date: 2013-02-26T10:22:38Z

This distribution has been tested as part of the CPAN Testers
project, supporting the Perl programming language.  See
http://wiki.cpantesters.org/ for more information or email
questions to cpan-testers-discuss@perl.org


--
Module-Pluggable-4.7 ... PASS

Perl           : v5.16.2
System         : darwin
Local Versions :
    Module::Signature                : 0.70
    MooseX::Emulate::Class::Accessor::Fast : 0.00903
    CPAN::DistnameInfo               : 0.12
    Test::NoWarnings                 : 1.04
    if                               : 0.0602
    Pod::Strip                       : 1.02
    Software::License                : 0.103005
    Test::CPAN::Meta::YAML::Version  : 0.21
    Text::CSV_XS                     : 0.95
    Archive::Tar                     : 1.90
    Module::Build                    : 0.4003
    List::MoreUtils                  : 0.33
    Test::Deep                       : 0.110
    ExtUtils::Manifest               : 1.61
    warnings                         : 1.13
    Pod::Simple::Checker             : 3.25
    Test::Exception                  : 0.31
    ExtUtils::MakeMaker              : 6.64
    vars                             : 1.02
    Parse::RecDescent                : 1.967009
    strict                           : 1.07
    Test::More                       : 0.98
    File::Temp                       : 0.22
    Tie::RefHash                     : 1.39
    File::Spec                       : 3.40
    File::chdir                      : 0.1008
    YAML::Any                        : 0.84
    Digest                           : 1.17
    Test::WWW::Mechanize::PSGI       : 0.35
    MRO::Compat                      : 0.12
    LWP::Simple                      : 6.00
    Moose                            : 2.0604
    File::Slurp                      : 9999.19
    Module::Pluggable                : 4.6
    Array::Diff                      : 0.07
    File::Find::Rule                 : 0.33
    version                          : 0.9901
    Class::Accessor                  : 0.34
    Archive::Any                     : 0.0932
    Object::Signature                : 1.07
    Readonly                         : 1.03
    Module::ExtractUse               : 0.28
    Carp                             : 1.26
    Set::Scalar                      : 1.25
    namespace::clean                 : 0.24
    Test::Warn                       : 0.24
    File::Basename                   : 2.84
    Catalyst::Runtime                : 5.90020
    IO::Capture                      : 0.05
    Cwd                              : 3.40

Test Output    :

t/01use.t .................. ok
t/02alsoworks.t ............ ok
t/02works.t ................ ok
t/02works_taint.t .......... ok
t/03diffname.t ............. ok
t/04acmedir.t .............. ok
t/04acmedir_single.t ....... ok
t/04acmepath.t ............. ok
t/04acmepath_single.t ...... ok
t/05postpath.t ............. ok
t/06multipath.t ............ ok
t/07instantiate.t .......... ok
t/08nothing.t .............. ok
t/09require.t .............. ok
t/10innerpack.t ............ ok
t/10innerpack_inner.t ...... ok
t/10innerpack_noinner.t .... ok
t/10innerpack_onefile.t .... ok
t/10innerpack_override.t ... ok
t/10innerpack_super.t ...... ok
t/11usetwice.t ............. ok
t/12only.t ................. ok
t/12onlyarray.t ............ ok
t/12onlyregex.t ............ ok
t/12onlyrequire.t .......... ok
t/13except.t ............... ok
t/13exceptarray.t .......... ok
t/13exceptregex.t .......... ok
t/14package.t .............. ok
t/15topicsafe.t ............ ok
t/16different_extension.t .. ok
t/17devel_inner_package.t .. ok
t/18skipped_package.t ...... ok
t/19can_ok_clobber.t ....... ok
t/20dodgy_files.t .......... ok
t/21editor_junk.t .......... ok
t/22trigger.t .............. ok
t/23depth.t ................ ok
t/24local_inc_object.t ..... ok
t/24local_inc_package.t .... ok
All tests successful.
Files=40, Tests=173,  3 wallclock secs ( 0.17 usr  0.09 sys +  2.36 cusr  0.39 csys =  3.01 CPU)
Result: PASS


--

Summary of my perl5 (revision 5 version 16 subversion 2) configuration:
   
  Platform:
    osname=darwin, osvers=12.2.0, archname=darwin-2level
    uname='darwin stanislaws-macbook-pro.local 12.2.0 darwin kernel version 12.2.0: sat aug 25 00:48:52 pdt 2012; root:xnu-2050.18.24~1release_x86_64 x86_64 '
    config_args='-de -Dprefix=/Users/stas/perl5/perlbrew/perls/perl-5.16.2 -Aeval:scriptdir=/Users/stas/perl5/perlbrew/perls/perl-5.16.2/bin'
    hint=recommended, useposix=true, d_sigaction=define
    useithreads=undef, usemultiplicity=undef
    useperlio=define, d_sfio=undef, uselargefiles=define, usesocks=undef
    use64bitint=define, use64bitall=define, uselongdouble=undef
    usemymalloc=n, bincompat5005=undef
  Compiler:
    cc='cc', ccflags ='-fno-common -DPERL_DARWIN -fno-strict-aliasing -pipe -fstack-protector -I/opt/local/include',
    optimize='-O3',
    cppflags='-fno-common -DPERL_DARWIN -fno-strict-aliasing -pipe -fstack-protector -I/opt/local/include'
    ccversion='', gccversion='4.2.1 Compatible Apple Clang 4.0 ((tags/Apple/clang-421.0.60))', gccosandvers=''
    intsize=4, longsize=8, ptrsize=8, doublesize=8, byteorder=12345678
    d_longlong=define, longlongsize=8, d_longdbl=define, longdblsize=16
    ivtype='long', ivsize=8, nvtype='double', nvsize=8, Off_t='off_t', lseeksize=8
    alignbytes=8, prototype=define
  Linker and Libraries:
    ld='env MACOSX_DEPLOYMENT_TARGET=10.3 cc', ldflags =' -fstack-protector -L/opt/local/lib'
    libpth=/opt/local/lib /usr/lib
    libs=-lgdbm -ldbm -ldl -lm -lutil -lc
    perllibs=-ldl -lm -lutil -lc
    libc=, so=dylib, useshrplib=false, libperl=libperl.a
    gnulibc_version=''
  Dynamic Linking:
    dlsrc=dl_dlopen.xs, dlext=bundle, d_dlsymun=undef, ccdlflags=' '
    cccdlflags=' ', lddlflags=' -bundle -undefined dynamic_lookup -L/opt/local/lib -fstack-protector'


Characteristics of this binary (from libperl): 
  Compile-time options: HAS_TIMES PERLIO_LAYERS PERL_DONT_CREATE_GVSV
                        PERL_MALLOC_WRAP PERL_PRESERVE_IVUV USE_64_BIT_ALL
                        USE_64_BIT_INT USE_LARGE_FILES USE_LOCALE
                        USE_LOCALE_COLLATE USE_LOCALE_CTYPE
                        USE_LOCALE_NUMERIC USE_PERLIO USE_PERL_ATOF
  Built under darwin
  Compiled at Dec 29 2012 22:14:20
  %ENV:
    PERLBREW_BASHRC_VERSION="0.59"
    PERLBREW_HOME="/Users/stas/.perlbrew"
    PERLBREW_MANPATH="/Users/stas/perl5/perlbrew/perls/perl-5.16.2/man"
    PERLBREW_PATH="/Users/stas/perl5/perlbrew/bin:/Users/stas/perl5/perlbrew/perls/perl-5.16.2/bin"
    PERLBREW_PERL="perl-5.16.2"
    PERLBREW_ROOT="/Users/stas/perl5/perlbrew"
    PERLBREW_VERSION="0.59"
    PERL_MM_USE_DEFAULT="1"
  @INC:
    /Users/stas/perl5/perlbrew/perls/perl-5.16.2/lib/site_perl/5.16.2/darwin-2level
    /Users/stas/perl5/perlbrew/perls/perl-5.16.2/lib/site_perl/5.16.2
    /Users/stas/perl5/perlbrew/perls/perl-5.16.2/lib/5.16.2/darwin-2level
    /Users/stas/perl5/perlbrew/perls/perl-5.16.2/lib/5.16.2
    .