overload-open v1.9.6 Perl 5 v5.30.0 x86_64-linux-thread-multi
- Status
- Pass
- From
- David Cantrell (DCANTRELL)
- Dist
-
overload-open v1.9.6
- Platform
- Perl 5 v5.30.0 x86_64-linux-thread-multi
- Date
- 2020-01-24 00:21:20
- ID
- 7242ca9e-3e3f-11ea-b97e-0c11052d0de1
This distribution has been tested as part of the CPAN Testers
project, supporting the Perl programming language. See
http://wiki.cpantesters.org/ for more information or email
questions to cpan-testers-discuss@perl.org
--
Dear Samantha McVey,
This is a computer-generated report for overload-open-1.9.6
on perl 5.30.0, created by CPAN-Reporter-1.2018.
Thank you for uploading your work to CPAN. Congratulations!
All tests were successful.
Sections of this report:
* Tester comments
* Program output
* Prerequisites
* Environment and other context
------------------------------
TESTER COMMENTS
------------------------------
Additional comments from tester:
this report is from an automated smoke testing program
and was not reviewed by a human for accuracy
------------------------------
PROGRAM OUTPUT
------------------------------
Output from '/usr/bin/make test':
"/home/david/cpantesting/perl-5.30.0/bin/perl" -MExtUtils::Command::MM -e 'cp_nonempty' -- open.bs blib/arch/auto/overload/open/open.bs 644
PERL_DL_NONLAZY=1 "/home/david/cpantesting/perl-5.30.0/bin/perl" "-MExtUtils::Command::MM" "-MTest::Harness" "-e" "undef *Test::Harness::Switches; test_harness(1, 'blib/lib', 'blib/arch')" t/*.t
t/00-use.t ...................
ok 1 - use overload::open;
1..1
ok
t/01-callback.t ..............
ok 1 - Print does not die
ok 2 - open does not die
ok 3 - gets defined value from fh read
ok 4 - file has correct content
1..4
ok
t/02-record-opened.t .........
ok 1 - did not register we opened the file called '/tmp/uCGhh8WR9v'
ok 2 - Print does not die
ok 3 - open does not die
ok 4 - file has correct content
ok 5 - recorded that we opened the test file from three argument open
ok 6 - correct number of keys after opened the test file twice
ok 7 - correct number of keys after opened filename2.txt once
ok 8 - stored filename2.txt from two argument open
1..8
ok
t/03-disable-xs-functions.t ..
ok 1 - open dies when you try and hook
1..1
ok
(in cleanup) Died at t/04-record-opened.t line 77.
(in cleanup) Died at t/04-record-opened.t line 76.
t/04-record-opened.t .........
ok 1 - file opened with open() is in open hash
ok 2 - file opened with sysopen() is in sysopen hash
ok 3 - Correct number of keys in sysopen hash
ok 4 - Correct number of keys in open hash
ok 5 - Does not die when calling sysopen inside string eval
ok 6 - Does not die when calling open inside string eval
ok 7 - file opened with open() is in open hash
ok 8 - file opened with sysopen() is in sysopen hash
ok 9 - Correct number of keys in sysopen hash
ok 10 - Correct number of keys in open hash
ok 11 - Does not die when calling sysopen inside string eval
ok 12 - Does not die when calling open inside string eval
1..12
ok
All tests successful.
Files=5, Tests=26, 3 wallclock secs ( 0.04 usr 0.00 sys + 0.42 cusr 0.05 csys = 0.51 CPU)
Result: PASS
------------------------------
PREREQUISITES
------------------------------
Prerequisite modules loaded:
configure_requires:
Module Need Have
------------------- ---- --------
ExtUtils::MakeMaker 7.34 7.34
Module::Metadata 0 1.000036
------------------------------
ENVIRONMENT AND OTHER CONTEXT
------------------------------
Environment variables:
AUTOMATED_TESTING = 1
LANG = en_US.UTF-8
NONINTERACTIVE_TESTING = 1
PATH = /usr/local/bin:/usr/bin:/bin:/usr/local/games:/usr/games
PERL = 5.30.0
PERL5LIB =
PERL5OPT =
PERL5_CPANPLUS_IS_RUNNING = 3409
PERL5_CPAN_IS_RUNNING = 3409
PERLVER = 5.30.0
PERL_INLINE_DIRECTORY = /home/david/.Inline-5.30.0
PERL_MM_USE_DEFAULT = 1
PERL_USE_UNSAFE_INC = 0
SHELL = /bin/bash
TERM = screen
Perl special variables (and OS-specific diagnostics, for MSWin32):
$^X = /home/david/cpantesting/perl-5.30.0/bin/perl
$UID/$EUID = 1000 / 1000
$GID = 1000 27 1000
$EGID = 1000 27 1000
Perl module toolchain versions installed:
Module Have
------------------- --------
CPAN 2.22
CPAN::Meta 2.150010
Cwd 3.78
ExtUtils::CBuilder 0.280231
ExtUtils::Command 7.34
ExtUtils::Install 2.14
ExtUtils::MakeMaker 7.34
ExtUtils::Manifest 1.72
ExtUtils::ParseXS 3.40
File::Spec 3.78
JSON 4.02
JSON::PP 4.02
Module::Build 0.4229
Module::Signature n/a
Parse::CPAN::Meta 2.150010
Test::Harness 3.42
Test::More 1.302171
YAML 1.29
YAML::Syck n/a
version 0.9924
--
Summary of my perl5 (revision 5 version 30 subversion 0) configuration:
Platform:
osname=linux
osvers=4.9.0-8-amd64
archname=x86_64-linux-thread-multi
uname='linux pigsty.barnyard.co.uk 4.9.0-8-amd64 #1 smp debian 4.9.144-3 (2019-02-02) x86_64 gnulinux '
config_args='-de -Duse64bitall -Dusethreads -Dprefix=/home/david/cpantesting/perl-5.30.0'
hint=recommended
useposix=true
d_sigaction=define
useithreads=define
usemultiplicity=define
use64bitint=define
use64bitall=define
uselongdouble=undef
usemymalloc=n
default_inc_excludes_dot=define
bincompat5005=undef
Compiler:
cc='cc'
ccflags ='-D_REENTRANT -D_GNU_SOURCE -fwrapv -fno-strict-aliasing -pipe -fstack-protector-strong -I/usr/local/include -D_LARGEFILE_SOURCE -D_FILE_OFFSET_BITS=64 -D_FORTIFY_SOURCE=2'
optimize='-O2'
cppflags='-D_REENTRANT -D_GNU_SOURCE -fwrapv -fno-strict-aliasing -pipe -fstack-protector-strong -I/usr/local/include'
ccversion=''
gccversion='6.3.0 20170516'
gccosandvers=''
intsize=4
longsize=8
ptrsize=8
doublesize=8
byteorder=12345678
doublekind=3
d_longlong=define
longlongsize=8
d_longdbl=define
longdblsize=16
longdblkind=3
ivtype='long'
ivsize=8
nvtype='double'
nvsize=8
Off_t='off_t'
lseeksize=8
alignbytes=8
prototype=define
Linker and Libraries:
ld='cc'
ldflags =' -fstack-protector-strong -L/usr/local/lib'
libpth=/usr/local/lib /usr/lib/gcc/x86_64-linux-gnu/6/include-fixed /usr/include/x86_64-linux-gnu /usr/lib /lib/x86_64-linux-gnu /lib/../lib /usr/lib/x86_64-linux-gnu /usr/lib/../lib /lib
libs=-lpthread -lnsl -ldb -ldl -lm -lcrypt -lutil -lc
perllibs=-lpthread -lnsl -ldl -lm -lcrypt -lutil -lc
libc=libc-2.24.so
so=so
useshrplib=false
libperl=libperl.a
gnulibc_version='2.24'
Dynamic Linking:
dlsrc=dl_dlopen.xs
dlext=so
d_dlsymun=undef
ccdlflags='-Wl,-E'
cccdlflags='-fPIC'
lddlflags='-shared -O2 -L/usr/local/lib -fstack-protector-strong'
Characteristics of this binary (from libperl):
Compile-time options:
HAS_TIMES
MULTIPLICITY
PERLIO_LAYERS
PERL_COPY_ON_WRITE
PERL_DONT_CREATE_GVSV
PERL_IMPLICIT_CONTEXT
PERL_MALLOC_WRAP
PERL_OP_PARENT
PERL_PRESERVE_IVUV
USE_64_BIT_ALL
USE_64_BIT_INT
USE_ITHREADS
USE_LARGE_FILES
USE_LOCALE
USE_LOCALE_COLLATE
USE_LOCALE_CTYPE
USE_LOCALE_NUMERIC
USE_LOCALE_TIME
USE_PERLIO
USE_PERL_ATOF
USE_REENTRANT_API
USE_THREAD_SAFE_LOCALE
Built under linux
Compiled at May 23 2019 14:44:10
%ENV:
PERL="5.30.0"
PERL5LIB=""
PERL5OPT=""
PERL5_CPANPLUS_IS_RUNNING="3409"
PERL5_CPAN_IS_RUNNING="3409"
PERLVER="5.30.0"
PERL_INLINE_DIRECTORY="/home/david/.Inline-5.30.0"
PERL_MM_USE_DEFAULT="1"
PERL_USE_UNSAFE_INC="0"
@INC:
/home/david/cpantesting/perl-5.30.0/lib/site_perl/5.30.0/x86_64-linux-thread-multi
/home/david/cpantesting/perl-5.30.0/lib/site_perl/5.30.0
/home/david/cpantesting/perl-5.30.0/lib/5.30.0/x86_64-linux-thread-multi
/home/david/cpantesting/perl-5.30.0/lib/5.30.0