Back
From: metabase:user:31d414ea-2aae-11df-837a-5e0a49663a4f
Subject: PASS Dpchrist-LangUtil-1.013 v5.6.2 GNU/Linux
Date: 2010-11-29T11:47:30Z
This distribution has been tested as part of the CPAN Testers
project, supporting the Perl programming language. See
http://wiki.cpantesters.org/ for more information or email
questions to cpan-testers-discuss@perl.org
--
Dear David Paul Christensen,
This is a computer-generated report for Dpchrist-LangUtil-1.013
on perl 5.6.2, created by CPAN-Reporter-1.18.
Thank you for uploading your work to CPAN. Congratulations!
All tests were successful.
Sections of this report:
* Tester comments
* Program output
* Prerequisites
* Environment and other context
------------------------------
TESTER COMMENTS
------------------------------
Additional comments from tester:
this report is from an automated smoke testing program
and was not reviewed by a human for accuracy
------------------------------
PROGRAM OUTPUT
------------------------------
Output from '/usr/bin/make test':
PERL_DL_NONLAZY=1 /home/david/cpantesting/perl-5.6.2/bin/perl "-MExtUtils::Command::MM" "-e" "test_harness(0, 'blib/lib', 'blib/arch')" t/*.t
t/0_compile_modules.t .... skipped: Test::Compile 0.09 required for testing compilation
t/1_Dpchrist-LangUtil.t .. ok
t/2_arrayref_cmp.t ....... ok
t/2_defined_or.t ......... ok
t/2_echo_system.t ........ ok
t/2_hashref_keys.t ....... ok
t/9_pod.t ................ skipped: Test::Pod 1.00 required for testing POD
t/9_prereq.t ............. skipped: Test::Prereq required to test dependencies
All tests successful.
Files=8, Tests=33, 4 wallclock secs ( 0.04 usr 0.04 sys + 0.16 cusr 0.06 csys = 0.30 CPU)
Result: PASS
------------------------------
PREREQUISITES
------------------------------
Prerequisite modules loaded:
requires:
Module Need Have
------------------- ----- -----
Capture::Tiny 0 0.08
Dpchrist::Module 1.026 1.026
! feature 0 n/a
Getopt::Long 0 2.38
Pod::Html 0 1.03
Pod::Text 0 2.08
Pod::Usage 0 1.14
configure_requires:
Module Need Have
------------------- ----- -----
ExtUtils::MakeMaker 0 6.56
------------------------------
ENVIRONMENT AND OTHER CONTEXT
------------------------------
Environment variables:
AUTOMATED_TESTING = 1
PATH = /usr/local/bin:/usr/bin:/bin:/usr/games
PERL5LIB =
PERL5OPT =
PERL5_CPANPLUS_IS_RUNNING = 26942
PERL5_CPAN_IS_RUNNING = 26942
PERLVER = 5.6.2
PERL_INLINE_DIRECTORY = /home/david/.Inline-5.6.2
SHELL = /bin/bash
TERM = screen
Perl special variables (and OS-specific diagnostics, for MSWin32):
$^X = /home/david/cpantesting/perl-5.6.2/bin/perl
$UID/$EUID = 1000 / 1000
$GID = 1000 1000
$EGID = 1000 1000
Perl module toolchain versions installed:
Module Have
------------------- ------
CPAN 1.9402
Cwd 3.31
ExtUtils::CBuilder 0.2703
ExtUtils::Command 1.16
ExtUtils::Install 1.54
ExtUtils::MakeMaker 6.56
ExtUtils::Manifest 1.56
ExtUtils::ParseXS 2.2206
File::Spec 3.31
Module::Build 0.3607
Module::Signature n/a
Test::Harness 3.22
Test::More 0.96
YAML n/a
YAML::Syck n/a
version n/a
--
Summary of my perl5 (revision 5.0 version 6 subversion 2) configuration:
Platform:
osname=linux, osvers=2.6.18-4-xen-amd64, archname=x86_64-linux
uname='linux pigsty.barnyard.co.uk 2.6.18-4-xen-amd64 #1 smp fri may 4 02:40:51 utc 2007 x86_64 gnulinux '
config_args='-de -Dprefix=/home/david/cpantesting/perl-5.6.2'
hint=recommended, useposix=true, d_sigaction=define
usethreads=undef use5005threads=undef useithreads=undef usemultiplicity=undef
useperlio=undef d_sfio=undef uselargefiles=define usesocks=undef
use64bitint=define use64bitall=define uselongdouble=undef
Compiler:
cc='cc', ccflags ='-fno-strict-aliasing -I/usr/local/include -D_LARGEFILE_SOURCE -D_FILE_OFFSET_BITS=64',
optimize='-O2',
cppflags='-fno-strict-aliasing -I/usr/local/include'
ccversion='', gccversion='4.1.2 20061115 (prerelease) (Debian 4.1.1-21)', gccosandvers=''
intsize=4, longsize=8, ptrsize=8, doublesize=8, byteorder=12345678
d_longlong=define, longlongsize=8, d_longdbl=define, longdblsize=16
ivtype='long', ivsize=8, nvtype='double', nvsize=8, Off_t='off_t', lseeksize=8
alignbytes=8, usemymalloc=n, prototype=define
Linker and Libraries:
ld='cc', ldflags =' -L/usr/local/lib'
libpth=/usr/local/lib /lib /usr/lib
libs=-lnsl -lgdbm -ldb -ldl -lm -lc -lcrypt -lutil
perllibs=-lnsl -ldl -lm -lc -lcrypt -lutil
libc=/lib/libc-2.3.6.so, so=so, useshrplib=false, libperl=libperl.a
Dynamic Linking:
dlsrc=dl_dlopen.xs, dlext=so, d_dlsymun=undef, ccdlflags='-rdynamic'
cccdlflags='-fpic', lddlflags='-shared -L/usr/local/lib'
Characteristics of this binary (from libperl):
Compile-time options: USE_64_BIT_INT USE_64_BIT_ALL USE_LARGE_FILES
Built under linux
Compiled at Aug 25 2010 13:58:18
%ENV:
PERL5LIB=""
PERL5OPT=""
PERL5_CPANPLUS_IS_RUNNING="26942"
PERL5_CPAN_IS_RUNNING="26942"
PERLVER="5.6.2"
PERL_INLINE_DIRECTORY="/home/david/.Inline-5.6.2"
@INC:
/home/david/cpantesting/perl-5.6.2/lib/5.6.2/x86_64-linux
/home/david/cpantesting/perl-5.6.2/lib/5.6.2
/home/david/cpantesting/perl-5.6.2/lib/site_perl/5.6.2/x86_64-linux
/home/david/cpantesting/perl-5.6.2/lib/site_perl/5.6.2
/home/david/cpantesting/perl-5.6.2/lib/site_perl
.