ODF-MailMerge v1.010 Perl 5 v5.32.0 x86_64-linux-thread-multi-ld

Status
Pass
From
Andreas J. König (ANDK)
Dist
ODF-MailMerge v1.010
Platform
Perl 5 v5.32.0 x86_64-linux-thread-multi-ld
Date
2024-09-02 09:19:25
ID
727e5026-690c-11ef-8e1a-c1b9e75ecdd1
This distribution has been tested as part of the CPAN Testers
project, supporting the Perl programming language.  See
http://wiki.cpantesters.org/ for more information or email
questions to cpan-testers-discuss@perl.org


--
Dear Jim Avera,

This is a computer-generated report for ODF-MailMerge-1.010
on perl 5.32.0, created by CPAN-Reporter-1.2018.

Thank you for uploading your work to CPAN.  Congratulations!
All tests were successful.

Sections of this report:

    * Tester comments
    * Program output
    * Prerequisites
    * Environment and other context

------------------------------
TESTER COMMENTS
------------------------------

Additional comments from tester:

this report is from an automated smoke testing program
and was not reviewed by a human for accuracy

------------------------------
PROGRAM OUTPUT
------------------------------

Output from '/usr/bin/make test':

Skip blib/lib/auto/share/dist/ODF-MailMerge/examples/Ex_Famnames_Skeleton.odt (unchanged)
Skip blib/lib/auto/share/dist/ODF-MailMerge/examples/Ex_Famnames.pl (unchanged)
Skip blib/lib/auto/share/dist/ODF-MailMerge/cover.pdf (unchanged)
Skip blib/lib/auto/share/dist/ODF-MailMerge/examples/family_names.csv (unchanged)
Skip blib/lib/auto/share/dist/ODF-MailMerge/examples/Ex_Famnames_output.odt (unchanged)
PERL_DL_NONLAZY=1 "/home/sand/src/perl/repoperls/installed-perls/host/k93msid/v5.32.0/ac75/bin/perl" "-MExtUtils::Command::MM" "-MTest::Harness" "-e" "undef *Test::Harness::Switches; test_harness(0, 'blib/lib', 'blib/arch')" t/*.t
t/10_basic.t ............. ok
t/20_mailmerge.t ......... ok
t/90_Ex_Famnames.t ....... ok
t/95_odfedit.t ........... ok
t/author-pod-coverage.t .. skipped: these tests are for testing by the author
t/author-pod-syntax.t .... skipped: these tests are for testing by the author
All tests successful.
Files=6, Tests=53, 74 wallclock secs ( 0.03 usr  0.08 sys + 16.51 cusr  3.15 csys = 19.77 CPU)
Result: PASS

------------------------------
PREREQUISITES
------------------------------

Prerequisite modules loaded:

requires:

    Module                     Need     Have    
    -------------------------- -------- --------
    Carp                       0        1.50    
    Clone                      0        0.46    
    constant                   0        1.33    
    Data::Dumper::Interp       6.009    7.007   
    DateTime                   0        1.59    
    Encode                     0        3.21    
    Encode::Locale             0        1.05    
    Exporter                   0        5.74    
    feature                    0        1.58    
    File::ShareDir             0        1.118   
    File::Spec::Functions      0        3.78    
    FindBin                    0        1.51    
    Getopt::Long               2.37     2.54    
    Guard                      0        1.023   
    List::MoreUtils            0        0.430   
    List::Util                 0        1.63    
    ODF::lpOD                  2.001    2.001   
    ODF::lpOD_Helper           6.006    6.012   
    open                       0        1.12    
    Path::Tiny                 0.144    0.144   
    perl                       5.022000 5.032000
    Pod::Usage                 0        2.03    
    Scalar::Util               0        1.63    
    Spreadsheet::Edit          1000.011 1000.015
    Spreadsheet::Edit::IO      1000.006 1000.015
    Spreadsheet::Edit::Log     1000.005 1000.015
    strict                     0        1.11    
    Text::ParseWords           3.31     3.31    
    utf8                       0        1.22    
    warnings                   0        1.47    

build_requires:

    Module                     Need     Have    
    -------------------------- -------- --------
    autovivification           0        0.18    
    Capture::Tiny              0        0.48    
    Carp::Always               0.16     0.16    
    Cwd                        0        3.78    
    Data::Dumper               0        2.183   
    DateTime::Format::Strptime 0        1.79    
    English                    0        1.11    
    Env                        0        1.04    
    ExtUtils::MakeMaker        0        7.70    
    File::Basename             0        2.85    
    File::Path                 0        2.18    
    File::Spec                 0        3.78    
    File::Temp                 0.23     0.2311  
    Import::Into               0        1.002005
    indirect                   0        0.39    
    IO::Uncompress::Gunzip     0        2.211   
    JSON                       0        4.10    
    lib                        0        0.65    
    multidimensional           0        0.014   
    parent                     0        0.241   
    POSIX                      0        1.94    
    Spreadsheet::Edit          1000.011 1000.015
    Spreadsheet::Edit::IO      1000.006 1000.015
    Test2::Plugin::BailOnFail  0        0.000162
    Test2::V0                  0        0.000162
    Time::HiRes                0        1.9764  

configure_requires:

    Module                     Need     Have    
    -------------------------- -------- --------
    ExtUtils::MakeMaker        0        7.70    
    File::ShareDir::Install    0.06     0.14    


------------------------------
ENVIRONMENT AND OTHER CONTEXT
------------------------------

Environment variables:

    AUTOMATED_TESTING = 1
    LANG = en_US.UTF-8
    LANGUAGE = en_US:en
    PATH = /home/sand/bin:/usr/local/bin:/usr/bin:/bin:/usr/games:/usr/local/perl/bin:/usr/X11/bin:/sbin:/usr/sbin
    PERL5LIB = 
    PERL5OPT = 
    PERL5_CPANPLUS_IS_RUNNING = 3928121
    PERL5_CPAN_IS_RUNNING = 3928121
    PERL_CANARY_STABILITY_NOPROMPT = 1
    PERL_MM_USE_DEFAULT = 1
    PERL_USE_UNSAFE_INC = 1
    SHELL = /usr/bin/zsh
    TERM = screen

Perl special variables (and OS-specific diagnostics, for MSWin32):

    $^X = /home/sand/src/perl/repoperls/installed-perls/host/k93msid/v5.32.0/ac75/bin/perl
    $UID/$EUID = 1005 / 1005
    $GID = 1005 1005
    $EGID = 1005 1005

Perl module toolchain versions installed:

    Module              Have    
    ------------------- --------
    CPAN                2.34    
    CPAN::Meta          2.150010
    Cwd                 3.78    
    ExtUtils::CBuilder  0.280236
    ExtUtils::Command   7.70    
    ExtUtils::Install   2.14    
    ExtUtils::MakeMaker 7.70    
    ExtUtils::Manifest  1.75    
    ExtUtils::ParseXS   3.51    
    File::Spec          3.78    
    JSON                4.10    
    JSON::PP            4.16    
    Module::Build       0.4232  
    Module::Signature   0.88    
    Parse::CPAN::Meta   2.150010
    Test::Harness       3.44    
    Test::More          1.302199
    YAML                1.30    
    YAML::Syck          1.34    
    version             0.9929  


--

Summary of my perl5 (revision 5 version 32 subversion 0) configuration:
  Derived from: 0cf01644e9e0460386db76c3546d69b15e0806df
  Platform:
    osname=linux
    osvers=6.1.0-5-amd64
    archname=x86_64-linux-thread-multi-ld
    uname='linux k93msid 6.1.0-5-amd64 #1 smp preempt_dynamic debian 6.1.12-1 (2023-02-15) x86_64 gnulinux '
    config_args='-Dprefix=/home/sand/src/perl/repoperls/installed-perls/host/k93msid/v5.32.0/ac75 -Dmyhostname=k93msid -Dinstallusrbinperl=n -Uversiononly -Dusedevel -des -Ui_db -Dlibswanted=cl pthread socket inet nsl gdbm dbm malloc dl ld sun m crypt sec util c cposix posix ucb BSD gdbm_compat -Duseithreads -Duselongdouble -DEBUGGING=both'
    hint=recommended
    useposix=true
    d_sigaction=define
    useithreads=define
    usemultiplicity=define
    use64bitint=define
    use64bitall=define
    uselongdouble=define
    usemymalloc=n
    default_inc_excludes_dot=define
    bincompat5005=undef
  Compiler:
    cc='cc'
    ccflags ='-D_REENTRANT -D_GNU_SOURCE -fwrapv -DDEBUGGING -fno-strict-aliasing -pipe -fstack-protector-strong -I/usr/local/include -D_LARGEFILE_SOURCE -D_FILE_OFFSET_BITS=64 -D_FORTIFY_SOURCE=2'
    optimize='-O2 -g'
    cppflags='-D_REENTRANT -D_GNU_SOURCE -fwrapv -DDEBUGGING -fno-strict-aliasing -pipe -fstack-protector-strong -I/usr/local/include'
    ccversion=''
    gccversion='12.2.0'
    gccosandvers=''
    intsize=4
    longsize=8
    ptrsize=8
    doublesize=8
    byteorder=12345678
    doublekind=3
    d_longlong=define
    longlongsize=8
    d_longdbl=define
    longdblsize=16
    longdblkind=3
    ivtype='long'
    ivsize=8
    nvtype='long double'
    nvsize=16
    Off_t='off_t'
    lseeksize=8
    alignbytes=16
    prototype=define
  Linker and Libraries:
    ld='cc'
    ldflags =' -fstack-protector-strong -L/usr/local/lib'
    libpth=/usr/local/lib /usr/include/x86_64-linux-gnu /usr/lib /lib/x86_64-linux-gnu /lib/../lib /usr/lib/x86_64-linux-gnu /usr/lib/../lib /lib /lib64 /usr/lib64
    libs=-lpthread -lnsl -ldl -lm -lcrypt -lutil -lc
    perllibs=-lpthread -lnsl -ldl -lm -lcrypt -lutil -lc
    libc=/lib/x86_64-linux-gnu/libc.so.6
    so=so
    useshrplib=false
    libperl=libperl.a
    gnulibc_version='2.36'
  Dynamic Linking:
    dlsrc=dl_dlopen.xs
    dlext=so
    d_dlsymun=undef
    ccdlflags='-Wl,-E'
    cccdlflags='-fPIC'
    lddlflags='-shared -O2 -g -L/usr/local/lib -fstack-protector-strong'


Characteristics of this binary (from libperl): 
  Compile-time options:
    DEBUGGING
    HAS_TIMES
    MULTIPLICITY
    PERLIO_LAYERS
    PERL_COPY_ON_WRITE
    PERL_DONT_CREATE_GVSV
    PERL_IMPLICIT_CONTEXT
    PERL_MALLOC_WRAP
    PERL_OP_PARENT
    PERL_PRESERVE_IVUV
    PERL_TRACK_MEMPOOL
    PERL_USE_DEVEL
    USE_64_BIT_ALL
    USE_64_BIT_INT
    USE_ITHREADS
    USE_LARGE_FILES
    USE_LOCALE
    USE_LOCALE_COLLATE
    USE_LOCALE_CTYPE
    USE_LOCALE_NUMERIC
    USE_LOCALE_TIME
    USE_LONG_DOUBLE
    USE_PERLIO
    USE_PERL_ATOF
    USE_REENTRANT_API
    USE_THREAD_SAFE_LOCALE
  Locally applied patches:
    uncommitted-changes
  Built under linux
  Compiled at Mar 27 2023 06:12:18
  %ENV:
    PERL5LIB=""
    PERL5OPT=""
    PERL5_CPANPLUS_IS_RUNNING="3928121"
    PERL5_CPAN_IS_RUNNING="3928121"
    PERL_CANARY_STABILITY_NOPROMPT="1"
    PERL_MM_USE_DEFAULT="1"
    PERL_USE_UNSAFE_INC="1"
  @INC:
    /home/sand/src/perl/repoperls/installed-perls/host/k93msid/v5.32.0/ac75/lib/site_perl/5.32.0/x86_64-linux-thread-multi-ld
    /home/sand/src/perl/repoperls/installed-perls/host/k93msid/v5.32.0/ac75/lib/site_perl/5.32.0
    /home/sand/src/perl/repoperls/installed-perls/host/k93msid/v5.32.0/ac75/lib/5.32.0/x86_64-linux-thread-multi-ld
    /home/sand/src/perl/repoperls/installed-perls/host/k93msid/v5.32.0/ac75/lib/5.32.0
    .