DBIx-Class v0.082843 Perl 5 v5.37.9 darwin-2level

Status
Pass
From
David Cantrell (DCANTRELL)
Dist
DBIx-Class v0.082843
Platform
Perl 5 v5.37.9 darwin-2level
Date
2023-01-22 00:48:12
ID
729d972c-99ee-11ed-885b-143148073832
This distribution has been tested as part of the CPAN Testers
project, supporting the Perl programming language.  See
http://wiki.cpantesters.org/ for more information or email
questions to cpan-testers-discuss@perl.org


--
Dear Peter Rabbitson,

This is a computer-generated report for DBIx-Class-0.082843
on perl 5.37.9, created by CPAN-Reporter-1.2018.

Thank you for uploading your work to CPAN.  Congratulations!
All tests were successful.

Sections of this report:

    * Tester comments
    * Program output
    * Prerequisites
    * Environment and other context

------------------------------
TESTER COMMENTS
------------------------------

Additional comments from tester:

this report is from an automated smoke testing program
and was not reviewed by a human for accuracy

------------------------------
PROGRAM OUTPUT
------------------------------

Output from '/usr/bin/make test':

PERL_DL_NONLAZY=1 "/Users/cpantesting/cpantesting/perl-blead/bin/perl5.37.9" "-MExtUtils::Command::MM" "-MTest::Harness" "-e" "undef *Test::Harness::Switches; test_harness(0, 'inc', 'blib/lib', 'blib/arch')" t/*.t t/admin/*.t t/cdbi/*.t t/cdbi/DeepAbstractSearch/*.t t/cdbi/abstract/*.t t/cdbi/sweet/*.t t/count/*.t t/debug/*.t t/delete/*.t t/inflate/*.t t/multi_create/*.t t/ordered/*.t t/pager/*.t t/pager/data_page_compat/*.t t/prefetch/*.t t/relationship/*.t t/resultset/*.t t/resultsource/*.t t/row/*.t t/schema/*.t t/search/*.t t/sqlmaker/*.t t/sqlmaker/hierarchical/*.t t/sqlmaker/limit_dialects/*.t t/storage/*.t t/update/*.t xt/*.t
# 
# 
# List of loadable modules within both *OPTIONAL* and core dependency chains
# present on this system (modules sourced from ./blib, ./lib, ./t, and ./xt
# with versions identical to their parent namespace were omitted for brevity)
# 
#     *** Note that *MANY* of these modules will *NEVER* be loaded ***
#             *** during normal operation of DBIx::Class ***
# 
# @INC at startup (does not reflect manipulation at runtime):
#   0: ./inc/
#   1: ./blib/lib/
#   2: ./blib/arch/
#   3: <<SA>>/
#   4: <<SL>>/
#   5: <<PA>>/
#   6: <<PL>>/
# 
# Sourcing markers:
#        PA: $Config{archlib}
#        PL: $Config{privlib}
#        SA: $Config{sitearch}
#        SL: $Config{sitelib}
#       BLL: ./blib/lib/
# 
# =============================
#        PA            0.35  attributes                                                                      [ MD5: 014fb52664a60297721c0900ff04061d ]
#        PL            5.74  AutoLoader                                                                      [ MD5: c923fac66a84c6b5dbbf01250e7c1a42 ]
#        PA            1.87  B                                                                               [ MD5: b001953f73f7cda75af59b1071dbcd49 ]
#        SL            0.26  B::Hooks::EndOfScope                                                            [ MD5: 81d925c811e2cc8823f5c412f9effb9c ]
#        SL            0.26  B::Hooks::EndOfScope::XS                                                        [ MD5: ee7befcbdfcd80d29413fff85df3f8e6 ]
#        PL            2.27  base                                                                            [ MD5: 23b7d65e22b42927d6fcec631ab1c211 ]
#        PL           0.008  builtin                                                                         [ MD5: 878cbb7416b06ef2253fcd96c02e914a ]
#        PL            1.08  bytes                                                                           [ MD5: 1fbae15efa7821b0c878a80bf20ba6da ]
#        PL            1.54  Carp                                                                            [ MD5: 24830cf79d7f9568e19adaeb2b45dfda ]
#        PL            1.54  Carp::Heavy                                                                     [ MD5: 2649a7a3b3813390b3aeb0d7475576df ]
#        SL         0.10014  Class::Accessor::Grouped                                                        [ MD5: e62be17499d53d13f67a4361268aac40 ]
#        SL        1.001002  Class::C3::Componentised                                                        [ MD5: 2e92d4f7f9a7d2eda3cd1100583541a2 ]
#        SL            1.36  Class::Inspector                                                                [ MD5: 7aed0ce1dfc5dd2067632ea22fd2f483 ]
#        PL            0.67  Class::Struct                                                                   [ MD5: ce25d62c86fff8a4823b8fdb27e52443 ]
#        SA            1.19  Class::XSAccessor                                                               [ MD5: 0b7adfcc61192a80f97463e89d6d1696 ]
#        SA            1.19  Class::XSAccessor::Heavy                                                        [ MD5: db9379a668d6133fce801e4648cdef45 ]
#        SA            0.46  Clone                                                                           [ MD5: 5064f7463f5d4d639b39a32b7ae68f13 ]
#        SL           0.010  Clone::Choose                                                                   [ MD5: 884cece05d3959f067c7e20ed3d05cf5 ]
#        PA        5.037009  Config                                                                          [ MD5: a107dc4837c5d31f5c099eaf99496eb0 ]
#        PL            1.33  constant                                                                        [ MD5: 56cde6eba0f667ab56196613df3933c1 ]
#        SL            0.03  Context::Preserve                                                               [ MD5: 62155e2bc041508eff050250d74a0c38 ]
#        SA            4.32  Cpanel::JSON::XS                                                                [ MD5: 28f267438d61726532654c833b330b1c ]
#        PA            3.88  Cwd                                                                             [ MD5: a5d96ea6ab6b7e2d6e6cb7b7ce1ee9dd ]
#        PA           2.187  Data::Dumper                                                                    [ MD5: c56451acb491b2de035b5960ec4f0609 ]
#        SL           2.023  Data::Dumper::Concise                                                           [ MD5: b18cb47e46e385ccee825ac7e5e59d9e ]
#        SA            1.72  DBD::SQLite                                                                     [ MD5: db379a3ef07ab5a8edd9d1332df1a97f ]
#        SA           1.643  DBI                                                                             [ MD5: f21c16d842093e2a90b21537379e38df ]
#       BLL        0.082843  DBIx::Class                                                                     [ MD5: c7e0efa8ca59419329d4b8c7a6364ea1 ]
#        SL            0.14  Devel::GlobalDestruction                                                        [ MD5: fa8dcedeb9a8a3d29fbef7dfce342970 ]
#        SL            2.18  Devel::Symdump                                                                  [ MD5: e649ab91a4890ab2543e821daef73079 ]
#        PL            1.20  Digest::base                                                                    [ MD5: b5de2696c583dfec247af39b45288735 ]
#        PA            2.58  Digest::MD5                                                                     [ MD5: d75a3d708ce93ad8d99fcbdefa2c8429 ]
#        PA            1.53  DynaLoader                                                                      [ MD5: 9d929ffb43803bef4180ed57311fea50 ]
#        PA            3.19  Encode                                                                          [ MD5: 1c10294358dc4a71d63fe3682e1d52bc ]
#        PA            2.25  Encode::Alias                                                                   [ MD5: bff387c5ac0b5250f064ba3beaf3a3af ]
#        PA            2.05  Encode::Config                                                                  [ MD5: 7bdd1d8dffa8d3500086802451fc020d ]
#        PA            2.08  Encode::Encoding                                                                [ MD5: 3f40faa217288ed2cb4e34af87b6bfd6 ]
#        PA            1.03  Encode::MIME::Name                                                              [ MD5: 056ea8f31df117e2984d9bd3a77555dc ]
#        PA            1.37  Errno                                                                           [ MD5: 05ccbc7ba00cb428edf6b5f1a64966f7 ]
#        PL            5.77  Exporter                                                                        [ MD5: 9ac6b836ee45f6e08e5c8a84cee5e619 ]
#        PL            5.77  Exporter::Heavy                                                                 [ MD5: e1fafe006d8ad3fc9865cd2a7ac85ac4 ]
#        PL            7.66  ExtUtils::Liblist                                                               [ MD5: 4dc8fbafb4b5d1c35fb58a7f400cbc1d ]
#        PL            7.66  ExtUtils::Liblist::Kid                                                          [ MD5: eec7c6427c8efb2632892542b43be0aa ]
#        PL            7.66  ExtUtils::MakeMaker                                                             [ MD5: 7e178792be0d984491ca543d285a9614 ]
#        PL            7.66  ExtUtils::MakeMaker::Config                                                     [ MD5: 2daa02b15fa86436a00fe4bd35425d6e ]
#        PL            7.66  ExtUtils::MakeMaker::Locale                                                     [ MD5: 4bcee6d6c0aea22a295f0394540fbcc4 ]
#        PL            7.66  ExtUtils::MakeMaker::version                                                    [ MD5: 7c9858d46a825c4acfd890e86b33e89c ]
#        PL            7.66  ExtUtils::MM                                                                    [ MD5: 61b1b15feade35713a6b43c2ded7b10a ]
#        PL            7.66  ExtUtils::MM_Any                                                                [ MD5: 43c65276055488286b407e60478e3d90 ]
#        PL            7.66  ExtUtils::MM_Darwin                                                             [ MD5: 63533155f4b962632513a6ddbaee729a ]
#        PL            7.66  ExtUtils::MM_Unix                                                               [ MD5: 2e948461441b1a854a16c1131aedcbdb ]
#        PL            7.66  ExtUtils::MY                                                                    [ MD5: 05c0f047674fc1e6ab4773c3b7071e83 ]
#        PA            1.15  Fcntl                                                                           [ MD5: 2aaec5543bfb1c33e2b74d0d7acc80d1 ]
#        PL            2.86  File::Basename                                                                  [ MD5: 93e7b739db7771025debcbad93cb12a1 ]
#        PL            2.40  File::Copy                                                                      [ MD5: a20fc84ae03d4d3286876f5ece2d31cc ]
#        PL            1.42  File::Find                                                                      [ MD5: 71e9a96c3b4863b90bc078513efc6865 ]
#        PA            1.39  File::Glob                                                                      [ MD5: 6a39202abd1f476ba91da08f43523e39 ]
#        SL           1.006  File::HomeDir                                                                   [ MD5: f1092b953f4b9227b2d0a476122688e0 ]
#        SL           1.006  File::HomeDir::Darwin                                                           [ MD5: cccb932079fd21e30f3610c15c93a1c4 ]
#        SL           1.006  File::HomeDir::Darwin::Cocoa                                                    [ MD5: cdc0df8fc0d333b77c5b962d6d0e8764 ]
#        SL           1.006  File::HomeDir::Driver                                                           [ MD5: 9db939fdf7422e82c2d1c54b08dbff59 ]
#        SL           1.006  File::HomeDir::Unix                                                             [ MD5: f44911496a20430138ea26a3175b78bd ]
#        PL            2.18  File::Path                                                                      [ MD5: 3e82792800b06742b5e275937e6637d5 ]
#        PA            3.88  File::Spec                                                                      [ MD5: 528b63097d06b8b568c0702044a1fad1 ]
#        PA            3.88  File::Spec::Unix                                                                [ MD5: 77d86db591c7730bd74bab6abe34ee1e ]
#        PL            1.13  File::stat                                                                      [ MD5: 45e25e73b1d7b71c971a2afc503d9ede ]
#        PL          0.2311  File::Temp                                                                      [ MD5: d1685b3aa6a3cea2b2b6c61aa1111db8 ]
#                    0.2311  File::Temp::Dir                                                               ! -f $INC{'File/Temp/Dir.pm'}
#        SL            1.27  File::Which                                                                     [ MD5: 86fc469f2de121f1da59a5239df525a8 ]
#        SL           0.302  Hash::Merge                                                                     [ MD5: 85df9910eb2a543ae53fff090dcb3901 ]
#        PA            0.22  I18N::Langinfo                                                                  [ MD5: d0233b80e2629113d9eb7677538eaa4e ]
#        PL          0.0610  if                                                                              [ MD5: d73e6f08df8235b142e081faf5b6f2c0 ]
#        PL            1.01  integer                                                                         [ MD5: 3e5ff5fb486c95945e10e79859dd5bfb ]
#        PA            1.51  IO                                                                              [ MD5: faca3e8b950c39076eb89113a0446970 ]
#        PA            1.51  IO::Dir                                                                         [ MD5: 0eaea5d29f48d3bae29458d42a931a1d ]
#        PA            1.51  IO::File                                                                        [ MD5: fa580d63e62a4e7be8ce2a70ef7affb9 ]
#        PA            1.51  IO::Handle                                                                      [ MD5: 0f1c0d85ed723a0b42962d15f9aaddb6 ]
#        PA            1.51  IO::Seekable                                                                    [ MD5: a8f8e694b5cf1b05d3670c7c680484f7 ]
#        PL            4.16  JSON::PP                                                                        [ MD5: d3722afcaf0ae3c52be10b3c870d2b2a ]
#        PL            4.16  JSON::PP::Boolean                                                               [ MD5: 3985db2a9ebae63e028b56b0146226af ]
#                      1.01  JSON::PP::IncrParser                                                          ! -f $INC{'JSON/PP/IncrParser.pm'}
#        PA            1.63  List::Util                                                                      [ MD5: 8f565554be398aa45c0cd8b97042bb95 ]
#        PL            1.10  locale                                                                          [ MD5: 8dbb999ea6e31452fef494cb2fe22218 ]
#        SA            0.14  Mac::SystemDirectory                                                            [ MD5: 9106d3e0c4d2689e1a609f8b2a1abf25 ]
#        PL        1.999837  Math::BigInt                                                                    [ MD5: 385e8ac69c068ded8fb159f0dbb74809 ]
#        SL                  Method::Generate::Accessor                                                      [ MD5: d47a048aab919a461b808db19577afef ]
#        SL                  Method::Generate::Constructor                                                   [ MD5: 7dc09b7430c43a91a9cecb31226bf8c9 ]
#        SL            0.09  Module::Implementation                                                          [ MD5: 2a146bb117cd6b798e2b928231799546 ]
#        SL           0.016  Module::Runtime                                                                 [ MD5: db1042b0f9341111c7f904480a82596a ]
#        SL        2.005005  Moo                                                                             [ MD5: 4a65f229ead7080111adf8844aeaced4 ]
#        SL                  Moo::Object                                                                     [ MD5: f6f8cdcf4b6326f4bf927941d2276d4f ]
#        SL                  Moo::sification                                                                 [ MD5: 1c3b20406b7da09888e8557b40e9ce0d ]
#        PA            1.26  mro                                                                             [ MD5: be0a3a3f5baf138bac297d3ac0d4fa1c ]
#        SL            0.15  MRO::Compat                                                                     [ MD5: bef0019fecfbcbba419a25fef7883ff3 ]
#        SL            0.27  namespace::clean                                                                [ MD5: f3e03f7f5f26391565d98357834e909b ]
#        PL            1.36  overload                                                                        [ MD5: 8062640e527a7b1b44d85ca7a255988e ]
#        PL            0.02  overloading                                                                     [ MD5: 36e1b34f8175e036d57e51fd7d56becd ]
#        SL            0.40  Package::Stash                                                                  [ MD5: a30009fe1da4beeffea3864a6eca7e0a ]
#        SA            0.30  Package::Stash::XS                                                              [ MD5: cbd3767a10ffd80ba463fa430661693c ]
#        SA             2.5  PadWalker                                                                       [ MD5: 75ab18df28634d5c1936987e4bcae857 ]
#        PL           0.239  parent                                                                          [ MD5: 233d1a4b0295dedbd3214506c4739ddb ]
#        SL            0.37  Path::Class                                                                     [ MD5: 62b3248e0d25291933a8d0f09e731547 ]
#        SL            0.37  Path::Class::Dir                                                                [ MD5: 9b7bd783037e1e812d6a82d62bcecb92 ]
#        SL            0.37  Path::Class::Entity                                                             [ MD5: 8e14d34b8f5a0909736e9bdaac460848 ]
#        SL            0.37  Path::Class::File                                                               [ MD5: b7f9029ac9e90dc1d509a95d12103c69 ]
#                  5.037009  perl                                                                            [ MD5: 6b3cb652c443764a69577af52c35d105 ]
#        PL            1.12  PerlIO                                                                          [ MD5: 2984c1983bf0e0b923377e5ebfc9dda4 ]
#        SL            0.23  Pod::Coverage                                                                   [ MD5: d53035083682c2a78d56d998ad7239d2 ]
#        PL            1.07  Pod::Escapes                                                                    [ MD5: 66b73dccf48caa9ab161e8c3805cf955 ]
#        PL            1.65  Pod::Find                                                                       [ MD5: c89eb4539885ff045e33d4d21d13d48f ]
#        PL            1.65  Pod::InputObjects                                                               [ MD5: c53d8688b475d68a07ec834b0db0ba17 ]
#        PL            1.65  Pod::Parser                                                                     [ MD5: b02c8b8daa03cff7c6881779b3995a49 ]
#        PL            3.43  Pod::Simple                                                                     [ MD5: b86a7500d3b905b764ff99f111af4782 ]
#        PL            3.43  Pod::Simple::BlackBox                                                           [ MD5: 1395ca0b97d7de9447bd05e7a3810ded ]
#        PL            3.43  Pod::Simple::LinkSection                                                        [ MD5: 220977e6012f2689651a79edf725de05 ]
#        PL            3.43  Pod::Simple::TiedOutFH                                                          [ MD5: fbc124bec344d6220c8d090f8d9d342a ]
#        PA            2.11  POSIX                                                                           [ MD5: 8d58eafe0179bbe906ad3b6988269049 ]
#        PA            1.63  Scalar::Util                                                                    [ MD5: a36530127b35ef54805986e6dbfa67d6 ]
#        SL            0.21  Scope::Guard                                                                    [ MD5: 914494bdeb65cd340f14eae265635cf2 ]
#        PL            1.02  SelectSaver                                                                     [ MD5: bddc465e351ad0508581b94ef112d322 ]
#        SL            1.91  SQL::Abstract::Classic                                                          [ MD5: 82c47bb99257b1225bb3576458e85992 ]
#        SL                  SQL::Abstract::Tree                                                             [ MD5: 4ebd475571c49fd341fd961558c89c7b ]
#        SL                  SQL::Abstract::Util                                                             [ MD5: 4599b28bcd164597e690650c495bd658 ]
#        PA            3.29  Storable                                                                        [ MD5: edee2cc00cdb2f18d602a9a5ed506ab3 ]
#        PL            1.12  strict                                                                          [ MD5: 31b6105d6dc1cde54154291b86c8b285 ]
#        SL        2.006008  Sub::Defer                                                                      [ MD5: 6b8855b52fcf3dd457e526a865cd36a9 ]
#        SL        0.001013  Sub::Exporter::Progressive                                                      [ MD5: 5f37412f2438f87c7b088c7b2e6dd8ab ]
#        SA            0.26  Sub::Name                                                                       [ MD5: 9ffca0ac7776cb7653a81b85330b6b71 ]
#        SL        2.006008  Sub::Quote                                                                      [ MD5: 5a9049ccbcf14dd9c30d5811501a24c5 ]
#        PA            1.63  Sub::Util                                                                       [ MD5: 1f323c22eec9184faf95376b10b9a500 ]
#        PL            1.09  Symbol                                                                          [ MD5: 1212e080ddc044e44a9ae4c8350f1338 ]
#        PL        1.302191  Test2::API                                                                      [ MD5: d58db8b70c4f76c7dc2ea4452864080e ]
#        PL        1.302191  Test2::API::Context                                                             [ MD5: 226514d0691054b4f1d5139efdcb345c ]
#        PL        1.302191  Test2::API::Instance                                                            [ MD5: 039741af161d3fce2541ae0ef051f3a0 ]
#        PL        1.302191  Test2::API::Stack                                                               [ MD5: 2c9d06c8090f7a0850bad05f74ce2c25 ]
#        PL        1.302191  Test2::Event                                                                    [ MD5: 7fb1c50e99ae3f80441b5a995fbbd6ed ]
#        PL        1.302191  Test2::Event::Bail                                                              [ MD5: 4307ac7fb07e5a728132aede6601b81b ]
#        PL        1.302191  Test2::Event::Diag                                                              [ MD5: ac9c648be658bfe36381d1aa05f6814e ]
#        PL        1.302191  Test2::Event::Exception                                                         [ MD5: 60423c8c1ae42a4acafc98d1b2071852 ]
#        PL        1.302191  Test2::Event::Fail                                                              [ MD5: 1e4c919a90062f6b2d460785c37eec1e ]
#        PL        1.302191  Test2::Event::Note                                                              [ MD5: 5fa4f6d0fe436b42f8f6e6df8d052ff4 ]
#        PL        1.302191  Test2::Event::Ok                                                                [ MD5: 527e91fa125c6ca2b5844ab4f8519b39 ]
#        PL        1.302191  Test2::Event::Pass                                                              [ MD5: 46d8a0a82a11ccca516877e5589f8705 ]
#        PL        1.302191  Test2::Event::Plan                                                              [ MD5: a94496d3c926422d67de06a7b5707cdc ]
#        PL        1.302191  Test2::Event::Skip                                                              [ MD5: 03d267bdd73895a675bd66923f92bf62 ]
#        PL        1.302191  Test2::Event::Subtest                                                           [ MD5: 707bb1a83b001882002167cf7b244623 ]
#        PL        1.302191  Test2::Event::V2                                                                [ MD5: d786fa495159049332f2d5499a97d409 ]
#        PL        1.302191  Test2::Event::Waiting                                                           [ MD5: 7d27db5310c2c02013b6ebb0b4f12c6c ]
#        PL        1.302191  Test2::EventFacet                                                               [ MD5: 1c44097f1a51730e0f3b37f8a1c98685 ]
#        PL        1.302191  Test2::EventFacet::About                                                        [ MD5: 7d35b91f486d6fcbced9c0e9d290c951 ]
#        PL        1.302191  Test2::EventFacet::Amnesty                                                      [ MD5: 8a08c7a633edbc4b5a33124f7ae99ae4 ]
#        PL        1.302191  Test2::EventFacet::Assert                                                       [ MD5: ab204507b07d90d10dbd2109505c6668 ]
#        PL        1.302191  Test2::EventFacet::Control                                                      [ MD5: cab493a99fd7d0aedd615655583838a0 ]
#        PL        1.302191  Test2::EventFacet::Error                                                        [ MD5: 9393cb48299a3974dc929c708d87a3e7 ]
#        PL        1.302191  Test2::EventFacet::Hub                                                          [ MD5: 3c52d4cce490bdba0c68fc3ade813f22 ]
#        PL        1.302191  Test2::EventFacet::Info                                                         [ MD5: 03c6ad17c14504843173329d7f10618c ]
#        PL        1.302191  Test2::EventFacet::Meta                                                         [ MD5: 46c13d246b6c1ec6e52932b16ae483da ]
#        PL        1.302191  Test2::EventFacet::Parent                                                       [ MD5: 6d5aef6cb766a0179ab1196d73721497 ]
#        PL        1.302191  Test2::EventFacet::Plan                                                         [ MD5: d30f41011a5f326df9d5a8630e1b56ec ]
#        PL        1.302191  Test2::EventFacet::Trace                                                        [ MD5: ea5c78d46c704257609d731394d82b49 ]
#        PL        1.302191  Test2::Formatter                                                                [ MD5: 3a6e77e341c561e490821f32de728d04 ]
#        PL        1.302191  Test2::Formatter::TAP                                                           [ MD5: 7cb24ec2a6e1f82bffc700e176d34ff9 ]
#        PL        1.302191  Test2::Hub                                                                      [ MD5: ebfaaf9d9c1c114bcacc739d800c4187 ]
#        PL        1.302191  Test2::Hub::Interceptor                                                         [ MD5: d6e9e8bdc04f3b138fb2471bd125ad12 ]
#        PL        1.302191  Test2::Hub::Interceptor::Terminator                                             [ MD5: 1e88b6b43917a00157901372ba47d2b9 ]
#        PL        1.302191  Test2::Hub::Subtest                                                             [ MD5: dae6fcceebdcd253164800fcaeaa2e31 ]
#        PL        1.302191  Test2::Util                                                                     [ MD5: 8592e5a81ebebb24b5f7203440d489ce ]
#        PL        1.302191  Test2::Util::ExternalMeta                                                       [ MD5: c8cfc63c42cf4212cfc5a354ae91ad69 ]
#        PL        1.302191  Test2::Util::Facets2Legacy                                                      [ MD5: cff0c03ca1677ccb008d2824a6748404 ]
#        PL        1.302191  Test2::Util::HashBase                                                           [ MD5: b5905a38494ddf2e78457ffae48f7410 ]
#        PL        1.302191  Test2::Util::Trace                                                              [ MD5: 0a724a18d3cc08f74378835ba47db8e8 ]
#        PL        1.302191  Test::Builder                                                                   [ MD5: 75012f2f2bd562a00c99335122ca56ea ]
#        PL        1.302191  Test::Builder::Formatter                                                        [ MD5: 95e638838c31b0d64e1d44f69de83c4a ]
#        PL        1.302191  Test::Builder::Module                                                           [ MD5: dfe1ebb3df63c136e5c369d285240ee5 ]
#        PL        1.302191  Test::Builder::TodoDiag                                                         [ MD5: 9373f60667a825cc8a47a07dcecfb1ca ]
#        PL        1.302191  Test::More                                                                      [ MD5: b64052430fcb1ac1d0c9ab5a19448a09 ]
#        SL            1.52  Test::Pod                                                                       [ MD5: 57529b9abbdd5ecf857b9c354764eb31 ]
#        SL            1.10  Test::Pod::Coverage                                                             [ MD5: b751ee701f87277a9013c485f474424e ]
#        PL            1.06  Tie::Hash                                                                       [ MD5: 92ab1e76487f41226ce92a846fc91017 ]
#        PA          1.9772  Time::HiRes                                                                     [ MD5: 8ab4f7a44c81f00a912f5a133000206f ]
#        SL            0.31  Try::Tiny                                                                       [ MD5: bd4812ceab0afd05e1c985d727a8b3a1 ]
#        PL            1.25  utf8                                                                            [ MD5: b8a1fcd7f4cb4427a45d3f8bd41ed026 ]
#        SA            0.63  Variable::Magic                                                                 [ MD5: 440264775da527af552aafac0a9bfd78 ]
#        PL            1.05  vars                                                                            [ MD5: fec1c1985d96c2edd842ff2b71821afb ]
#        PL          0.9929  version                                                                         [ MD5: eb029c692ec3fa08efd7783624634ef6 ]
#        PL          0.9929  version::regex                                                                  [ MD5: 1ba9cdbd93b3c9ebe720b5f90d868653 ]
#        PL            1.61  warnings                                                                        [ MD5: 88788caeded4ccc9a7df839dd6897e35 ]
#        PL            1.04  warnings::register                                                              [ MD5: 2d8f6ce093a2176b982c0e12c0194b3b ]
#        PL            0.32  XSLoader                                                                        [ MD5: cc583525e8562b2693659044de276395 ]
# =============================
# 
# List of loadable modules within both *OPTIONAL* and core dependency chains
# present on this system (modules sourced from ./blib, ./lib, ./t, and ./xt
# with versions identical to their parent namespace were omitted for brevity)
# 
#     *** Note that *MANY* of these modules will *NEVER* be loaded ***
#             *** during normal operation of DBIx::Class ***
# 
# 
t/00describe_environment.t .......................... ok
t/04_c3_mro.t ....................................... ok
t/05components.t .................................... ok
t/100extra_source.t ................................. ok
t/100populate.t ..................................... ok
t/101populate_rs.t .................................. ok
t/101source.t ....................................... ok
t/102load_classes.t ................................. ok
t/103many_to_many_warning.t ......................... ok
t/104view.t ......................................... ok
t/106dbic_carp.t .................................... ok
t/107obj_result_class.t ............................. ok
t/18insert_default.t ................................ ok
t/19retrieve_on_insert.t ............................ ok
t/20setuperrors.t ................................... ok
t/26dumper.t ........................................ ok
t/33exception_wrap.t ................................ ok
t/34exception_action.t .............................. ok
t/35exception_inaction.t ............................ ok
t/39load_namespaces_1.t ............................. ok
t/39load_namespaces_2.t ............................. ok
t/39load_namespaces_3.t ............................. ok
t/39load_namespaces_4.t ............................. ok
t/39load_namespaces_exception.t ..................... ok
t/39load_namespaces_rt41083.t ....................... ok
t/39load_namespaces_stress.t ........................ ok
t/40compose_connection.t ............................ ok
t/40resultsetmanager.t .............................. ok
t/46where_attribute.t ............................... ok
t/50fork.t .......................................... skipped: Test needs DBD::Pg (see DBIx::Class::Optional::Dependencies for details)
t/51threadnodb.t .................................... skipped: your perl does not support ithreads
t/51threads.t ....................................... skipped: your perl does not support ithreads
t/51threadtxn.t ..................................... skipped: your perl does not support ithreads
t/52leaks.t ......................................... ok
t/53lean_startup.t .................................. ok
t/55namespaces_cleaned.t ............................ ok
t/60core.t .......................................... ok
t/61findnot.t ....................................... ok
t/63register_class.t ................................ ok
t/63register_column.t ............................... ok
t/63register_source.t ............................... ok
t/64db.t ............................................ ok
t/65multipk.t ....................................... ok
t/69update.t ........................................ ok
t/70auto.t .......................................... ok
t/71mysql.t ......................................... skipped: Set $ENV{DBICTEST_MYSQL_DSN}, _USER and _PASS to run this test
t/72pg.t ............................................ skipped: Set $ENV{DBICTEST_PG_DSN}, _USER and _PASS to run this test
t/72pg_bytea.t ...................................... skipped: Test needs DBD::Pg (see DBIx::Class::Optional::Dependencies for details)
t/73oracle.t ........................................ skipped: Set $ENV{DBICTEST_ORA_DSN}, _USER and _PASS to run this test.
t/73oracle_blob.t ................................... skipped: Set $ENV{DBICTEST_ORA_DSN}, _USER and _PASS to run this test.
t/73oracle_hq.t ..................................... skipped: Set $ENV{DBICTEST_ORA_DSN}, _USER and _PASS to run this test.
t/745db2.t .......................................... skipped: Set $ENV{DBICTEST_DB2_DSN}, _USER and _PASS to run this test
t/746db2_400.t ...................................... skipped: Set $ENV{DBICTEST_DB2_400_DSN}, _USER and _PASS to run this test
t/746mssql.t ........................................ skipped: Set $ENV{DBICTEST_MSSQL_ODBC_DSN}, _USER and _PASS to run this test
t/746sybase.t ....................................... skipped: Set $ENV{DBICTEST_SYBASE_DSN}, _USER and _PASS to run this test. Warning: This test drops and creates the tables: 'artist', 'money_test' and 'bindtype_test'
t/747mssql_ado.t .................................... skipped: Set $ENV{DBICTEST_MSSQL_ADO_DSN}, _USER and _PASS to run this test
t/748informix.t ..................................... skipped: Set $ENV{DBICTEST_INFORMIX_DSN}, _USER and _PASS to run this test
t/749sqlanywhere.t .................................. skipped: Set $ENV{DBICTEST_SQLANYWHERE_DSN} and/or $ENV{DBICTEST_SQLANYWHERE_ODBC_DSN},
t/74mssql.t ......................................... skipped: Set $ENV{DBICTEST_MSSQL_DSN}, _USER and _PASS to run this test
t/750firebird.t ..................................... skipped: Set $ENV{DBICTEST_FIREBIRD_DSN} and/or $ENV{DBICTEST_FIREBIRD_INTERBASE_DSN} and/or $ENV{DBICTEST_FIREBIRD_ODBC_DSN}, _USER and _PASS to run these tests. WARNING: this test creates and drops the tables "artist", "bindtype_test" and "sequence_test"; the generators "gen_artist_artistid", "pkid1_seq", "pkid2_seq" and "nonpkid_seq" and the trigger "artist_bi".
t/751msaccess.t ..................................... skipped: Set $ENV{DBICTEST_MSACCESS_ODBC_DSN} and/or $ENV{DBICTEST_MSACCESS_ADO_DSN} (and optionally _USER and _PASS) to run these tests.
t/752sqlite.t ....................................... ok
t/76joins.t ......................................... ok
t/76select.t ........................................ ok
t/77join_count.t .................................... ok
t/78self_referencial.t .............................. ok
t/79aliasing.t ...................................... ok
t/80unique.t ........................................ ok
t/82cascade_copy.t .................................. ok
t/83cache.t ......................................... ok
t/84serialize.t ..................................... ok
t/85utf8.t .......................................... ok
t/86might_have.t .................................... ok
t/86sqlt.t .......................................... skipped: Test needs SQL::Translator >= 0.11018 (see DBIx::Class::Optional::Dependencies for details)
t/87ordered.t ....................................... ok
t/88result_set_column.t ............................. ok
t/90ensure_class_loaded.t ........................... ok
t/90join_torture.t .................................. ok
t/91merge_joinpref_attr.t ........................... ok
t/93autocast.t ...................................... ok
t/93single_accessor_object.t ........................ ok
t/94pk_mutation.t ................................... ok
t/94versioning.t .................................... skipped: Set $ENV{DBICTEST_MYSQL_DSN}, _USER and _PASS to run this test
t/96_is_deteministic_value.t ........................ skipped: Test needs DateTime >= 0.55, DateTime::Format::Strptime >= 1.2
t/97result_class.t .................................. ok
t/99dbic_sqlt_parser.t .............................. skipped: Test needs SQL::Translator >= 0.11018 (see DBIx::Class::Optional::Dependencies for details)
t/admin/01load.t .................................... skipped: Test needs JSON::Any >= 1.23, Moose >= 0.98, MooseX::Types >= 0.21, MooseX::Types::JSON >= 0.02, MooseX::Types::LoadableClass >= 0.011, MooseX::Types::Path::Class >= 0.05 (see DBIx::Class::Optional::Dependencies for details)
t/admin/02ddl.t ..................................... skipped: Test needs JSON::Any >= 1.23, Moose >= 0.98, MooseX::Types >= 0.21, MooseX::Types::JSON >= 0.02, MooseX::Types::LoadableClass >= 0.011, MooseX::Types::Path::Class >= 0.05 (see DBIx::Class::Optional::Dependencies for details)
t/admin/03data.t .................................... skipped: Test needs JSON::Any >= 1.23, Moose >= 0.98, MooseX::Types >= 0.21, MooseX::Types::JSON >= 0.02, MooseX::Types::LoadableClass >= 0.011, MooseX::Types::Path::Class >= 0.05 (see DBIx::Class::Optional::Dependencies for details)
t/admin/10script.t .................................. skipped: Test needs Getopt::Long::Descriptive >= 0.081, JSON, JSON::Any >= 1.31, JSON::DWIW, JSON::XS, Moose >= 0.98, MooseX::Types >= 0.21, MooseX::Types::JSON >= 0.02, MooseX::Types::LoadableClass >= 0.011, MooseX::Types::Path::Class >= 0.05, Text::CSV >= 1.16
t/cdbi/01-columns.t ................................. skipped: Class::DBI required for this test
t/cdbi/02-Film.t .................................... skipped: Class::DBI required for this test
t/cdbi/03-subclassing.t ............................. skipped: Class::DBI required for this test
t/cdbi/04-lazy.t .................................... skipped: Class::DBI required for this test
t/cdbi/06-hasa.t .................................... skipped: Class::DBI required for this test
t/cdbi/08-inheritcols.t ............................. skipped: Class::DBI required for this test
t/cdbi/09-has_many.t ................................ skipped: Class::DBI required for this test
t/cdbi/11-triggers.t ................................ skipped: Class::DBI required for this test
t/cdbi/12-filter.t .................................. skipped: Class::DBI required for this test
t/cdbi/13-constraint.t .............................. skipped: Class::DBI required for this test
t/cdbi/14-might_have.t .............................. skipped: Class::DBI required for this test
t/cdbi/15-accessor.t ................................ skipped: Class::DBI required for this test
t/cdbi/16-reserved.t ................................ skipped: Class::DBI required for this test
t/cdbi/18-has_a.t ................................... skipped: Class::DBI required for this test
t/cdbi/19-set_sql.t ................................. skipped: Class::DBI required for this test
t/cdbi/21-iterator.t ................................ skipped: Class::DBI required for this test
t/cdbi/22-deflate_order.t ........................... skipped: Class::DBI required for this test
t/cdbi/22-self_referential.t ........................ skipped: Class::DBI required for this test
t/cdbi/23-cascade.t ................................. skipped: Class::DBI required for this test
t/cdbi/24-meta_info.t ............................... skipped: Class::DBI required for this test
t/cdbi/26-mutator.t ................................. skipped: Class::DBI required for this test
t/cdbi/30-pager.t ................................... skipped: Class::DBI required for this test
t/cdbi/68-inflate_has_a.t ........................... skipped: Class::DBI required for this test
t/cdbi/70_implicit_inflate.t ........................ skipped: Test needs DateTime >= 0.55, DateTime::Format::SQLite, DateTime::Format::Strptime >= 1.2
t/cdbi/71_column_object.t ........................... skipped: The tested functionality is only available in Class::DBI >= 3.0.5
t/cdbi/98-failure.t ................................. skipped: Class::DBI required for this test
t/cdbi/abstract/search_where.t ...................... skipped: Class::DBI required for this test
t/cdbi/columns_as_hashes.t .......................... skipped: Class::DBI required for this test
t/cdbi/columns_dont_override_custom_accessors.t ..... skipped: Class::DBI required for this test
t/cdbi/construct.t .................................. skipped: Class::DBI required for this test
t/cdbi/copy.t ....................................... skipped: Class::DBI required for this test
t/cdbi/DeepAbstractSearch/01_search.t ............... skipped: Class::DBI required for this test
t/cdbi/early_column_heisenbug.t ..................... skipped: Class::DBI required for this test
t/cdbi/has_many_loads_foreign_class.t ............... skipped: Class::DBI required for this test
t/cdbi/hasa_without_loading.t ....................... skipped: Class::DBI required for this test
t/cdbi/max_min_value_of.t ........................... skipped: Class::DBI required for this test
t/cdbi/mk_group_accessors.t ......................... skipped: Class::DBI required for this test
t/cdbi/multi_column_set.t ........................... skipped: Class::DBI required for this test
t/cdbi/object_cache.t ............................... skipped: Class::DBI required for this test
t/cdbi/retrieve_from_sql_with_limit.t ............... skipped: Class::DBI required for this test
t/cdbi/set_to_undef.t ............................... skipped: Class::DBI required for this test
t/cdbi/set_vs_DateTime.t ............................ skipped: Class::DBI required for this test
t/cdbi/sweet/08pager.t .............................. skipped: Class::DBI required for this test
t/count/count_rs.t .................................. ok
t/count/distinct.t .................................. ok
t/count/group_by_func.t ............................. ok
t/count/grouped_pager.t ............................. ok
t/count/in_subquery.t ............................... ok
t/count/joined.t .................................... ok
t/count/prefetch.t .................................. ok
t/count/search_related.t ............................ ok
t/debug/bulk-insert.t ............................... ok
t/debug/core.t ...................................... ok
t/debug/no-repeats.t ................................ ok
t/debug/pretty.t .................................... skipped: Test needs JSON::Any >= 1.23
t/debug/show-progress.t ............................. ok
t/delete/cascade_missing.t .......................... ok
t/delete/complex.t .................................. ok
t/delete/m2m.t ...................................... ok
t/delete/related.t .................................. ok
t/discard_changes_in_DESTROY.t ...................... ok
t/inflate/core.t .................................... skipped: Inflation tests need DateTime >= 0.55, DateTime::Format::Strptime >= 1.2
t/inflate/datetime.t ................................ skipped: DT inflation tests need DateTime >= 0.55, DateTime::Format::SQLite, DateTime::Format::Strptime >= 1.2
t/inflate/datetime_determine_parser.t ............... skipped: Test needs DateTime >= 0.55, DateTime::Format::SQLite, DateTime::Format::Strptime >= 1.2
t/inflate/datetime_firebird.t ....................... skipped: Set $ENV{DBICTEST_FIREBIRD_DSN} and/or $ENV{DBICTEST_FIREBIRD_INTERBASE_DSN} and/or $ENV{DBICTEST_FIREBIRD_ODBC_DSN}, _USER and _PASS to run these tests. WARNING: This test drops and creates a table called 'event'
t/inflate/datetime_informix.t ....................... skipped: Test needs DateTime >= 0.55, DateTime::Format::Strptime >= 1.2 and
t/inflate/datetime_missing_deps.t ................... ok
t/inflate/datetime_msaccess.t ....................... skipped: Set $ENV{DBICTEST_MSACCESS_ODBC_DSN} and/or $ENV{DBICTEST_MSACCESS_ADO_DSN} (and optionally _USER and _PASS) to run these tests.
t/inflate/datetime_mssql.t .......................... skipped: Set $ENV{DBICTEST_MSSQL_ODBC_DSN} and/or $ENV{DBICTEST_MSSQL_DSN} and/or $ENV{DBICTEST_MSSQL_ADO_DSN} _USER and _PASS to run this test
t/inflate/datetime_mysql.t .......................... skipped: Inflation tests need DateTime >= 0.55, DateTime::Format::MySQL, DateTime::Format::Strptime >= 1.2
t/inflate/datetime_oracle.t ......................... skipped: Set $ENV{DBICTEST_ORA_DSN}, _USER and _PASS to run this test. Warning: This test drops and creates a table called 'event'
t/inflate/datetime_pg.t ............................. skipped: Test needs DateTime >= 0.55, DateTime::Format::Pg >= 0.16004, DateTime::Format::Strptime >= 1.2
t/inflate/datetime_sqlanywhere.t .................... skipped: Set $ENV{DBICTEST_SQLANYWHERE_DSN} and/or $ENV{DBICTEST_SQLANYWHERE_ODBC_DSN}
t/inflate/datetime_sybase.t ......................... skipped: Test needs DateTime >= 0.55, DateTime::Format::Strptime >= 1.2 and
t/inflate/file_column.t ............................. ok
t/inflate/hri.t ..................................... ok
t/inflate/hri_torture.t ............................. ok
t/inflate/serialize.t ............................... ok
t/multi_create/cd_single.t .......................... ok
t/multi_create/diamond.t ............................ ok
t/multi_create/existing_in_chain.t .................. ok
t/multi_create/find_or_multicreate.t ................ ok
t/multi_create/has_many.t ........................... ok
t/multi_create/in_memory.t .......................... ok
t/multi_create/insert_defaults.t .................... ok
t/multi_create/m2m.t ................................ ok
t/multi_create/multilev_single_PKeqFK.t ............. ok
t/multi_create/reentrance_count.t ................... skipped: Disable test entirely until multicreate is rewritten in terms of subqueries
t/multi_create/standard.t ........................... ok
t/multi_create/torture.t ............................ ok
t/ordered/cascade_delete.t .......................... ok
t/ordered/unordered_movement.t ...................... ok
t/pager/data_page_compat/constructor.t .............. ok
t/pager/data_page_compat/simple.t ................... ok
t/pager/dbic_core.t ................................. ok
t/prefetch/attrs_untouched.t ........................ ok
t/prefetch/correlated.t ............................. ok
t/prefetch/count.t .................................. ok
t/prefetch/diamond.t ................................ ok
t/prefetch/double_prefetch.t ........................ ok
t/prefetch/empty_cache.t ............................ ok
t/prefetch/false_colvalues.t ........................ ok
t/prefetch/grouped.t ................................ ok
t/prefetch/incomplete.t ............................. ok
t/prefetch/join_type.t .............................. ok
t/prefetch/lazy_cursor.t ............................ ok
t/prefetch/manual.t ................................. ok
t/prefetch/multiple_hasmany.t ....................... ok
t/prefetch/multiple_hasmany_torture.t ............... ok
t/prefetch/o2m_o2m_order_by_with_limit.t ............ ok
t/prefetch/one_to_many_to_one.t ..................... ok
t/prefetch/refined_search_on_relation.t ............. ok
t/prefetch/restricted_children_set.t ................ ok
t/prefetch/standard.t ............................... ok
t/prefetch/via_search_related.t ..................... ok
t/prefetch/with_limit.t ............................. ok
t/relationship/after_update.t ....................... ok
t/relationship/core.t ............................... ok
t/relationship/custom.t ............................. ok
t/relationship/custom_opaque.t ...................... ok
t/relationship/custom_with_null_in_cond.t ........... ok
t/relationship/doesnt_exist.t ....................... ok
t/relationship/dynamic_foreign_columns.t ............ ok
t/relationship/info.t ............................... ok
t/relationship/malformed_declaration.t .............. ok
t/relationship/proxy.t .............................. ok
t/relationship/set_column_on_fk.t ................... ok
t/relationship/unresolvable.t ....................... ok
t/relationship/update_or_create_multi.t ............. ok
t/relationship/update_or_create_single.t ............ ok
t/resultset/as_query.t .............................. ok
t/resultset/as_subselect_rs.t ....................... ok
t/resultset/bind_attr.t ............................. ok
t/resultset/find_on_subquery_cond.t ................. ok
t/resultset/inflate_result_api.t .................... ok
t/resultset/inflatemap_abuse.t ...................... ok
t/resultset/is_ordered.t ............................ ok
t/resultset/is_paged.t .............................. ok
t/resultset/nulls_only.t ............................ ok
t/resultset/plus_select.t ........................... ok
t/resultset/rowparser_internals.t ................... ok
t/resultset/update_delete.t ......................... ok
t/resultset_class.t ................................. ok
t/resultset_overload.t .............................. ok
t/resultsource/bare_resultclass_exception.t ......... ok
t/resultsource/set_primary_key.t .................... ok
t/row/copy_with_extra_selection.t ................... ok
t/row/filter_column.t ............................... ok
t/row/find_one_has_many.t ........................... ok
t/row/inflate_result.t .............................. ok
t/row/pkless.t ...................................... ok
t/row/set_extra_column.t ............................ ok
t/schema/anon.t ..................................... ok
t/schema/clone.t .................................... ok
t/search/deprecated_attributes.t .................... ok
t/search/distinct.t ................................. ok
t/search/empty_attrs.t .............................. ok
t/search/preserve_original_rs.t ..................... ok
t/search/reentrancy.t ............................... ok
t/search/related_has_many.t ......................... ok
t/search/related_strip_prefetch.t ................... ok
t/search/select_chains.t ............................ ok
t/search/select_chains_unbalanced.t ................. ok
t/search/stack_cond.t ............................... ok
t/search/subquery.t ................................. ok
t/search/void.t ..................................... ok
t/sqlmaker/bind_transport.t ......................... ok
t/sqlmaker/core.t ................................... ok
t/sqlmaker/core_quoted.t ............................ ok
t/sqlmaker/dbihacks_internals.t ..................... ok
t/sqlmaker/hierarchical/oracle.t .................... skipped: Test needs Math::Base36 >= 0.07
t/sqlmaker/legacy_joins.t ........................... ok
t/sqlmaker/limit_dialects/basic.t ................... ok
t/sqlmaker/limit_dialects/custom.t .................. ok
t/sqlmaker/limit_dialects/fetch_first.t ............. ok
t/sqlmaker/limit_dialects/first_skip.t .............. ok
t/sqlmaker/limit_dialects/generic_subq.t ............ ok
t/sqlmaker/limit_dialects/mssql_torture.t ........... ok
t/sqlmaker/limit_dialects/rno.t ..................... ok
t/sqlmaker/limit_dialects/rownum.t .................. ok
t/sqlmaker/limit_dialects/skip_first.t .............. ok
t/sqlmaker/limit_dialects/toplimit.t ................ ok
t/sqlmaker/limit_dialects/torture.t ................. ok
t/sqlmaker/literal_with_bind.t ...................... ok
t/sqlmaker/msaccess.t ............................... ok
t/sqlmaker/mysql.t .................................. ok
t/sqlmaker/nest_deprec.t ............................ ok
t/sqlmaker/oracle.t ................................. skipped: Test needs Math::Base36 >= 0.07
t/sqlmaker/oraclejoin.t ............................. skipped: Test needs Math::Base36 >= 0.07
t/sqlmaker/order_by_bindtransport.t ................. ok
t/sqlmaker/order_by_func.t .......................... ok
t/sqlmaker/pg.t ..................................... ok
t/sqlmaker/quotes.t ................................. ok
t/sqlmaker/rebase.t ................................. ok
t/sqlmaker/sqlite.t ................................. ok
t/storage/base.t .................................... ok
t/storage/cursor.t .................................. ok
t/storage/dbh_do.t .................................. ok
t/storage/dbi_coderef.t ............................. ok
t/storage/dbi_env.t ................................. ok
t/storage/deploy.t .................................. skipped: Test needs SQL::Translator >= 0.11018 (see DBIx::Class::Optional::Dependencies for details)
t/storage/deprecated_exception_source_bind_attrs.t .. ok
t/storage/disable_sth_caching.t ..................... ok
t/storage/error.t ................................... ok
t/storage/exception.t ............................... ok
t/storage/global_destruction.t ...................... ok
t/storage/nobindvars.t .............................. ok
t/storage/on_connect_call.t ......................... ok
t/storage/on_connect_do.t ........................... ok
t/storage/ping_count.t .............................. ok
t/storage/prefer_stringification.t .................. ok
t/storage/quote_names.t ............................. ok
t/storage/reconnect.t ............................... ok
t/storage/replicated.t .............................. skipped: Test needs Moose >= 0.98, MooseX::Types >= 0.21, MooseX::Types::LoadableClass >= 0.011, Test::Moose
t/storage/savepoints.t .............................. ok
t/storage/stats.t ................................... ok
t/storage/txn.t ..................................... ok
t/storage/txn_scope_guard.t ......................... ok
t/update/all.t ...................................... ok
t/update/ident_cond.t ............................... ok
t/update/type_aware.t ............................... ok
# 
# 
# 
# 211 contributors made this library what it is today
# 
# 
# Distinguished patrons:
#   * ( 2014 ~ 2015 ) Henry Van Styn, creator of http://p3rl.org/RapidApp
# 
# 
t/zzzzzzz_authors.t ................................. ok
t/zzzzzzz_perl_perf_bug.t ........................... skipped: Skipping as system appears to be a smoker
t/zzzzzzz_sqlite_deadlock.t ......................... ok
xt/authors.t ........................................ ok
xt/dbictest_unlink_guard.t .......................... ok
xt/footers.t ........................................ ok
xt/old_envvars.t .................................... ok
xt/optional_deps.t .................................. ok
xt/pod.t ............................................ ok
xt/podcoverage.t .................................... ok
xt/quote_sub.t ...................................... ok
xt/standalone_testschema_resultclasses.t ............ ok
xt/strictures.t ..................................... skipped: Test needs: Test::Strict >= 0.20
xt/whitespace.t ..................................... skipped: Test needs: Test::EOL >= 1.0, Test::NoTabs >= 0.9
All tests successful.

Test Summary Report
-------------------
t/sqlmaker/limit_dialects/generic_subq.t          (Wstat: 0 Tests: 19 Failed: 0)
  TODO passed:   9, 11, 13, 15, 17
t/storage/txn_scope_guard.t                       (Wstat: 0 Tests: 18 Failed: 0)
  TODO passed:   17
Files=325, Tests=42594, 312 wallclock secs ( 8.77 usr  2.37 sys + 272.28 cusr 30.23 csys = 313.65 CPU)
Result: PASS

------------------------------
PREREQUISITES
------------------------------

Prerequisite modules loaded:

requires:

    Module                   Need     Have    
    ------------------------ -------- --------
    Class::Accessor::Grouped 0.10012  0.10014 
    Class::C3::Componentised 1.0009   1.001002
    Class::Inspector         1.24     1.36    
    Config::Any              0.20     0.32    
    Context::Preserve        0.01     0.03    
    Data::Dumper::Concise    2.020    2.023   
    DBD::SQLite              1.29     1.72    
    DBI                      1.57     1.643   
    Devel::GlobalDestruction 0.09     0.14    
    File::Temp               0.22     0.2311  
    Hash::Merge              0.12     0.302   
    Module::Find             0.07     0.16    
    Moo                      2.000    2.005005
    MRO::Compat              0.12     0.15    
    namespace::clean         0.24     0.27    
    Package::Stash           0.28     0.40    
    Path::Class              0.18     0.37    
    perl                     5.008001 5.037009
    Scope::Guard             0.03     0.21    
    SQL::Abstract::Classic   1.91     1.91    
    Sub::Name                0.04     0.26    
    Test::Deep               0.101    1.204   
    Test::Exception          0.31     0.43    
    Test::More               0.94     1.302191
    Test::Warn               0.21     0.37    
    Text::Balanced           2.00     2.06    
    Try::Tiny                0.07     0.31    

build_requires:

    Module                   Need     Have    
    ------------------------ -------- --------
    DBD::SQLite              1.29     1.72    
    ExtUtils::MakeMaker      6.59     7.66    
    File::Temp               0.22     0.2311  
    Package::Stash           0.28     0.40    
    Test::Deep               0.101    1.204   
    Test::Exception          0.31     0.43    
    Test::More               0.94     1.302191
    Test::Warn               0.21     0.37    

configure_requires:

    Module                   Need     Have    
    ------------------------ -------- --------
    ExtUtils::MakeMaker      6.59     7.66    


------------------------------
ENVIRONMENT AND OTHER CONTEXT
------------------------------

Environment variables:

    AUTOMATED_TESTING = 1
    NONINTERACTIVE_TESTING = 1
    PATH = /Users/cpantesting/perl5/perlbrew/bin:/Users/cpantesting/perl5/perlbrew/perls/perl-5.32.0/bin:/usr/local/bin:/usr/bin:/bin:/usr/sbin:/sbin:/Library/Apple/usr/bin:/Users/cpantesting/.cargo/bin
    PERL = blead
    PERL5LIB = 
    PERL5OPT = 
    PERL5_CPANPLUS_IS_RUNNING = 53455
    PERL5_CPAN_IS_RUNNING = 53455
    PERLBREW_HOME = /Users/cpantesting/.perlbrew
    PERLBREW_MANPATH = /Users/cpantesting/perl5/perlbrew/perls/perl-5.32.0/man
    PERLBREW_PATH = /Users/cpantesting/perl5/perlbrew/bin:/Users/cpantesting/perl5/perlbrew/perls/perl-5.32.0/bin
    PERLBREW_PERL = perl-5.32.0
    PERLBREW_ROOT = /Users/cpantesting/perl5/perlbrew
    PERLBREW_SHELLRC_VERSION = 0.94
    PERLBREW_VERSION = 0.94
    PERLVER = blead
    PERL_INLINE_DIRECTORY = /Users/cpantesting/.Inline-blead
    PERL_MM_USE_DEFAULT = 1
    PERL_USE_UNSAFE_INC = 0
    SHELL = /bin/bash
    TERM = screen

Perl special variables (and OS-specific diagnostics, for MSWin32):

    $^X = /Users/cpantesting/cpantesting/perl-blead/bin/perl5.37.9
    $UID/$EUID = 503 / 503
    $GID = 20 20 12 61 703 702 701 100
    $EGID = 20 20 12 61 703 702 701 100

Perl module toolchain versions installed:

    Module              Have    
    ------------------- --------
    CPAN                2.34    
    CPAN::Meta          2.150010
    Cwd                 3.88    
    ExtUtils::CBuilder  0.280238
    ExtUtils::Command   7.66    
    ExtUtils::Install   2.22    
    ExtUtils::MakeMaker 7.66    
    ExtUtils::Manifest  1.73    
    ExtUtils::ParseXS   3.49    
    File::Spec          3.88    
    JSON                n/a     
    JSON::PP            4.16    
    Module::Build       0.4232  
    Module::Signature   n/a     
    Parse::CPAN::Meta   2.150010
    Test::Harness       3.44    
    Test::More          1.302191
    YAML                1.30    
    YAML::Syck          n/a     
    version             0.9929  


--

Summary of my perl5 (revision 5 version 37 subversion 9) configuration:
  Commit id: 8dabbec951065d98f698353b99f5f543557b152a
  Platform:
    osname=darwin
    osvers=21.6.0
    archname=darwin-2level
    uname='darwin harrow.local 21.6.0 darwin kernel version 21.6.0: mon aug 22 20:17:10 pdt 2022; root:xnu-8020.140.49~2release_x86_64 x86_64 '
    config_args='-de -Dprefix=/Users/cpantesting/cpantesting/perl-blead -Dusedevel'
    hint=recommended
    useposix=true
    d_sigaction=define
    useithreads=undef
    usemultiplicity=undef
    use64bitint=define
    use64bitall=define
    uselongdouble=undef
    usemymalloc=n
    default_inc_excludes_dot=define
  Compiler:
    cc='cc'
    ccflags ='-fno-common -DPERL_DARWIN -mmacosx-version-min=12.6 -fno-strict-aliasing -pipe -fstack-protector-strong -I/usr/local/include'
    optimize='-O3'
    cppflags='-fno-common -DPERL_DARWIN -mmacosx-version-min=12.6 -fno-strict-aliasing -pipe -fstack-protector-strong -I/usr/local/include'
    ccversion=''
    gccversion='Apple LLVM 14.0.0 (clang-1400.0.29.202)'
    gccosandvers=''
    intsize=4
    longsize=8
    ptrsize=8
    doublesize=8
    byteorder=12345678
    doublekind=3
    d_longlong=define
    longlongsize=8
    d_longdbl=define
    longdblsize=16
    longdblkind=3
    ivtype='long'
    ivsize=8
    nvtype='double'
    nvsize=8
    Off_t='off_t'
    lseeksize=8
    alignbytes=8
    prototype=define
  Linker and Libraries:
    ld='cc'
    ldflags =' -mmacosx-version-min=12.6 -fstack-protector-strong -L/usr/local/lib'
    libpth=/usr/local/lib /Applications/Xcode.app/Contents/Developer/Toolchains/XcodeDefault.xctoolchain/usr/lib/clang/14.0.0/lib /Applications/Xcode.app/Contents/Developer/Platforms/MacOSX.platform/Developer/SDKs/MacOSX.sdk/usr/lib /Applications/Xcode.app/Contents/Developer/Toolchains/XcodeDefault.xctoolchain/usr/lib /usr/lib
    libs=-lgdbm
    perllibs=
    libc=
    so=dylib
    useshrplib=false
    libperl=libperl.a
    gnulibc_version=''
  Dynamic Linking:
    dlsrc=dl_dlopen.xs
    dlext=bundle
    d_dlsymun=undef
    ccdlflags=' '
    cccdlflags=' '
    lddlflags=' -mmacosx-version-min=12.6 -bundle -undefined dynamic_lookup -L/usr/local/lib -fstack-protector-strong'


Characteristics of this binary (from libperl): 
  Compile-time options:
    HAS_TIMES
    PERLIO_LAYERS
    PERL_COPY_ON_WRITE
    PERL_DONT_CREATE_GVSV
    PERL_HASH_FUNC_SIPHASH13
    PERL_HASH_USE_SBOX32
    PERL_MALLOC_WRAP
    PERL_OP_PARENT
    PERL_PRESERVE_IVUV
    PERL_USE_DEVEL
    PERL_USE_SAFE_PUTENV
    USE_64_BIT_ALL
    USE_64_BIT_INT
    USE_LARGE_FILES
    USE_LOCALE
    USE_LOCALE_COLLATE
    USE_LOCALE_CTYPE
    USE_LOCALE_NUMERIC
    USE_LOCALE_TIME
    USE_PERLIO
    USE_PERL_ATOF
  Built under darwin
  Compiled at Jan 21 2023 11:50:56
  %ENV:
    PERL="blead"
    PERL5LIB=""
    PERL5OPT=""
    PERL5_CPANPLUS_IS_RUNNING="53455"
    PERL5_CPAN_IS_RUNNING="53455"
    PERLBREW_HOME="/Users/cpantesting/.perlbrew"
    PERLBREW_MANPATH="/Users/cpantesting/perl5/perlbrew/perls/perl-5.32.0/man"
    PERLBREW_PATH="/Users/cpantesting/perl5/perlbrew/bin:/Users/cpantesting/perl5/perlbrew/perls/perl-5.32.0/bin"
    PERLBREW_PERL="perl-5.32.0"
    PERLBREW_ROOT="/Users/cpantesting/perl5/perlbrew"
    PERLBREW_SHELLRC_VERSION="0.94"
    PERLBREW_VERSION="0.94"
    PERLVER="blead"
    PERL_INLINE_DIRECTORY="/Users/cpantesting/.Inline-blead"
    PERL_MM_USE_DEFAULT="1"
    PERL_USE_UNSAFE_INC="0"
  @INC:
    /Users/cpantesting/cpantesting/perl-blead/lib/site_perl/5.37.9/darwin-2level
    /Users/cpantesting/cpantesting/perl-blead/lib/site_perl/5.37.9
    /Users/cpantesting/cpantesting/perl-blead/lib/5.37.9/darwin-2level
    /Users/cpantesting/cpantesting/perl-blead/lib/5.37.9