MozRepl-RemoteObject v0.40 Perl 5 v5.29.4 x86_64-linux-ld

Status
Pass
From
Andreas J. König (ANDK)
Dist
MozRepl-RemoteObject v0.40
Platform
Perl 5 v5.29.4 x86_64-linux-ld
Date
2018-11-11 11:53:47
ID
72d82ce2-e5a8-11e8-8c8f-e72627c12a26
This distribution has been tested as part of the CPAN Testers
project, supporting the Perl programming language.  See
http://wiki.cpantesters.org/ for more information or email
questions to cpan-testers-discuss@perl.org


--
Dear Max Maischein,

This is a computer-generated report for MozRepl-RemoteObject-0.40
on perl 5.29.4, created by CPAN-Reporter-1.2018.

Thank you for uploading your work to CPAN.  Congratulations!
All tests were successful.

Sections of this report:

    * Tester comments
    * Program output
    * Prerequisites
    * Environment and other context

------------------------------
TESTER COMMENTS
------------------------------

Additional comments from tester:

this report is from an automated smoke testing program
and was not reviewed by a human for accuracy

------------------------------
PROGRAM OUTPUT
------------------------------

Output from '/usr/bin/make test':

PERL_DL_NONLAZY=1 "/home/sand/src/perl/repoperls/installed-perls/host/k93msid/v5.29.4/fc43/bin/perl" "-MExtUtils::Command::MM" "-MTest::Harness" "-e" "undef *Test::Harness::Switches; test_harness(0, 'blib/lib', 'blib/arch')" t/*.t
# Testing MozRepl::RemoteObject 0.40, Perl 5.029004
# Carp 1.50
# Config 5.029004
# Encode 2.97
# Encode::Alias 2.24
# Encode::Config 2.05
# Encode::Encoding 2.08
# Encode::MIME::Name 1.03
# Exporter 5.73
# Exporter::Heavy 5.73
# Fcntl 1.13
# JSON 2.97001
# JSON::XS 3.04
# List::Util 1.5
# MozRepl::RemoteObject 0.40
# MozRepl::RemoteObject::Methods 0.40
# POSIX 1.85
# PerlIO 1.10
# Scalar::Util 1.5
# Storable 3.13
# Storable::Limit <unknown>
# Test::Builder 1.302140
# Test::Builder::Formatter 1.302140
# Test::Builder::Module 1.302140
# Test::Builder::TodoDiag 1.302140
# Test::More 1.302140
# Test2::API 1.302140
# Test2::API::Context 1.302140
# Test2::API::Instance 1.302140
# Test2::API::Stack 1.302140
# Test2::Event 1.302140
# Test2::Event::Bail 1.302140
# Test2::Event::Diag 1.302140
# Test2::Event::Exception 1.302140
# Test2::Event::Fail 1.302140
# Test2::Event::Note 1.302140
# Test2::Event::Ok 1.302140
# Test2::Event::Pass 1.302140
# Test2::Event::Plan 1.302140
# Test2::Event::Skip 1.302140
# Test2::Event::Subtest 1.302140
# Test2::Event::V2 1.302140
# Test2::Event::Waiting 1.302140
# Test2::EventFacet 1.302140
# Test2::EventFacet::About 1.302140
# Test2::EventFacet::Amnesty 1.302140
# Test2::EventFacet::Assert 1.302140
# Test2::EventFacet::Control 1.302140
# Test2::EventFacet::Error 1.302140
# Test2::EventFacet::Hub 1.302140
# Test2::EventFacet::Info 1.302140
# Test2::EventFacet::Meta 1.302140
# Test2::EventFacet::Parent 1.302140
# Test2::EventFacet::Plan 1.302140
# Test2::EventFacet::Trace 1.302140
# Test2::Formatter 1.302140
# Test2::Formatter::TAP 1.302140
# Test2::Hub 1.302140
# Test2::Hub::Interceptor 1.302140
# Test2::Hub::Interceptor::Terminator 1.302140
# Test2::Hub::Subtest 1.302140
# Test2::Util 1.302140
# Test2::Util::ExternalMeta 1.302140
# Test2::Util::Facets2Legacy 1.302140
# Test2::Util::HashBase 1.302140
# Test2::Util::Trace 1.302140
# Tie::Hash 1.05
# Types::Serialiser 1.0
# XSLoader 0.30
# attributes 0.33
# base 2.27
# bytes 1.07
# common::sense 3.74
# constant 1.33
# mro 1.22
# overload 1.30
# overloading 0.02
# parent 0.237
# strict 1.11
# vars 1.05
# warnings 1.43
# warnings::register 1.04
t/00-load.t .................... ok
t/01-appversion.t .............. skipped: Couldn't connect to MozRepl: Failed to connect to , problem connecting to "localhost", port 4242: Connection refused at /home/sand/src/perl/repoperls/installed-perls/host/k93msid/v5.29.4/fc43/lib/site_perl/5.29.4/MozRepl/Client.pm line 144
# --- Loading object functionality into repl
t/01-array.t ................... skipped: Couldn't connect to MozRepl: Failed to connect to , problem connecting to "localhost", port 4242: Connection refused at /home/sand/src/perl/repoperls/installed-perls/host/k93msid/v5.29.4/fc43/lib/site_perl/5.29.4/MozRepl/Client.pm line 144
t/01-backend-anyevent-timer.t .. skipped: Couldn't connect to Firefox: Can't locate AnyEvent.pm in @INC (you may need to install the AnyEvent module) (@INC contains: /tmp/loop_over_bdir-25209-cA2_Vz/MozRepl-RemoteObject-0.40-0/blib/lib /tmp/loop_over_bdir-25209-cA2_Vz/MozRepl-RemoteObject-0.40-0/blib/arch /home/sand/src/perl/repoperls/installed-perls/host/k93msid/v5.29.4/fc43/lib/site_perl/5.29.4/x86_64-linux-ld /home/sand/src/perl/repoperls/installed-perls/host/k93msid/v5.29.4/fc43/lib/site_perl/5.29.4 /home/sand/src/perl/repoperls/installed-perls/host/k93msid/v5.29.4/fc43/lib/5.29.4/x86_64-linux-ld /home/sand/src/perl/repoperls/installed-perls/host/k93msid/v5.29.4/fc43/lib/5.29.4 .) at t/01-backend-anyevent-timer.t line 8.
t/01-backend-anyevent.t ........ skipped: Couldn't connect to Firefox: Can't locate AnyEvent.pm in @INC (you may need to install the AnyEvent module) (@INC contains: /tmp/loop_over_bdir-25209-cA2_Vz/MozRepl-RemoteObject-0.40-0/blib/lib /tmp/loop_over_bdir-25209-cA2_Vz/MozRepl-RemoteObject-0.40-0/blib/arch /home/sand/src/perl/repoperls/installed-perls/host/k93msid/v5.29.4/fc43/lib/site_perl/5.29.4/x86_64-linux-ld /home/sand/src/perl/repoperls/installed-perls/host/k93msid/v5.29.4/fc43/lib/site_perl/5.29.4 /home/sand/src/perl/repoperls/installed-perls/host/k93msid/v5.29.4/fc43/lib/5.29.4/x86_64-linux-ld /home/sand/src/perl/repoperls/installed-perls/host/k93msid/v5.29.4/fc43/lib/5.29.4 .) at t/01-backend-anyevent.t line 8.
t/01-callback-overhead.t ....... skipped: Couldn't connect to MozRepl: Failed to connect to , problem connecting to "localhost", port 4242: Connection refused at /home/sand/src/perl/repoperls/installed-perls/host/k93msid/v5.29.4/fc43/lib/site_perl/5.29.4/MozRepl/Client.pm line 144
t/01-callback.t ................ skipped: Couldn't connect to MozRepl: Failed to connect to , problem connecting to "localhost", port 4242: Connection refused at /home/sand/src/perl/repoperls/installed-perls/host/k93msid/v5.29.4/fc43/lib/site_perl/5.29.4/MozRepl/Client.pm line 144
t/01-constant.t ................ skipped: Couldn't connect to MozRepl: Failed to connect to , problem connecting to "localhost", port 4242: Connection refused at /home/sand/src/perl/repoperls/installed-perls/host/k93msid/v5.29.4/fc43/lib/site_perl/5.29.4/MozRepl/Client.pm line 144
t/01-dive.t .................... skipped: Couldn't connect to MozRepl: Failed to connect to , problem connecting to "localhost", port 4242: Connection refused at /home/sand/src/perl/repoperls/installed-perls/host/k93msid/v5.29.4/fc43/lib/site_perl/5.29.4/MozRepl/Client.pm line 144
t/01-expr-anyevent.t ........... skipped: Couldn't connect to Firefix: Can't locate AnyEvent.pm in @INC (you may need to install the AnyEvent module) (@INC contains: /tmp/loop_over_bdir-25209-cA2_Vz/MozRepl-RemoteObject-0.40-0/blib/lib /tmp/loop_over_bdir-25209-cA2_Vz/MozRepl-RemoteObject-0.40-0/blib/arch /home/sand/src/perl/repoperls/installed-perls/host/k93msid/v5.29.4/fc43/lib/site_perl/5.29.4/x86_64-linux-ld /home/sand/src/perl/repoperls/installed-perls/host/k93msid/v5.29.4/fc43/lib/site_perl/5.29.4 /home/sand/src/perl/repoperls/installed-perls/host/k93msid/v5.29.4/fc43/lib/5.29.4/x86_64-linux-ld /home/sand/src/perl/repoperls/installed-perls/host/k93msid/v5.29.4/fc43/lib/5.29.4 .) at /tmp/loop_over_bdir-25209-cA2_Vz/MozRepl-RemoteObject-0.40-0/blib/lib/MozRepl/AnyEvent.pm line 3.
t/01-expr.t .................... skipped: Couldn't connect to MozRepl: Failed to connect to , problem connecting to "localhost", port 4242: Connection refused at /home/sand/src/perl/repoperls/installed-perls/host/k93msid/v5.29.4/fc43/lib/site_perl/5.29.4/MozRepl/Client.pm line 144
t/01-hash.t .................... skipped: Couldn't connect to MozRepl: Failed to connect to , problem connecting to "localhost", port 4242: Connection refused at /home/sand/src/perl/repoperls/installed-perls/host/k93msid/v5.29.4/fc43/lib/site_perl/5.29.4/MozRepl/Client.pm line 144
t/01-invoke.t .................. skipped: Couldn't connect to MozRepl: Failed to connect to , problem connecting to "localhost", port 4242: Connection refused at /home/sand/src/perl/repoperls/installed-perls/host/k93msid/v5.29.4/fc43/lib/site_perl/5.29.4/MozRepl/Client.pm line 144
# --- Loading object functionality into repl
t/01-multiline-string.t ........ skipped: Couldn't connect to MozRepl: Failed to connect to , problem connecting to "localhost", port 4242: Connection refused at /home/sand/src/perl/repoperls/installed-perls/host/k93msid/v5.29.4/fc43/lib/site_perl/5.29.4/MozRepl/Client.pm line 144
# --- Loading object functionality into repl
t/01-object.t .................. skipped: Couldn't connect to MozRepl: Failed to connect to , problem connecting to "localhost", port 4242: Connection refused at /home/sand/src/perl/repoperls/installed-perls/host/k93msid/v5.29.4/fc43/lib/site_perl/5.29.4/MozRepl/Client.pm line 144
# --- Loading object functionality into repl
t/01-queue.t ................... skipped: Couldn't connect to MozRepl: Failed to connect to , problem connecting to "localhost", port 4242: Connection refused at /home/sand/src/perl/repoperls/installed-perls/host/k93msid/v5.29.4/fc43/lib/site_perl/5.29.4/MozRepl/Client.pm line 144
t/01-release-action.t .......... skipped: Couldn't connect to MozRepl: Failed to connect to , problem connecting to "localhost", port 4242: Connection refused at /home/sand/src/perl/repoperls/installed-perls/host/k93msid/v5.29.4/fc43/lib/site_perl/5.29.4/MozRepl/Client.pm line 144
t/02-multiple-instances.t ...... skipped: Couldn't connect to MozRepl: Failed to connect to , problem connecting to "localhost", port 4242: Connection refused at /home/sand/src/perl/repoperls/installed-perls/host/k93msid/v5.29.4/fc43/lib/site_perl/5.29.4/MozRepl/Client.pm line 144
t/02-repl.t .................... skipped: Couldn't connect to MozRepl: Failed to connect to , problem connecting to "localhost", port 4242: Connection refused at /home/sand/src/perl/repoperls/installed-perls/host/k93msid/v5.29.4/fc43/lib/site_perl/5.29.4/MozRepl/Client.pm line 144
t/02-synopsis.t ................ skipped: Couldn't connect to MozRepl: Failed to connect to , problem connecting to "localhost", port 4242: Connection refused at /home/sand/src/perl/repoperls/installed-perls/host/k93msid/v5.29.4/fc43/lib/site_perl/5.29.4/MozRepl/Client.pm line 144
t/03-unicode.t ................. skipped: Couldn't connect to MozRepl: Failed to connect to , problem connecting to "localhost", port 4242: Connection refused at /home/sand/src/perl/repoperls/installed-perls/host/k93msid/v5.29.4/fc43/lib/site_perl/5.29.4/MozRepl/Client.pm line 144
t/04-looong-input.t ............ skipped: Couldn't connect to MozRepl: Failed to connect to , problem connecting to "localhost", port 4242: Connection refused at /home/sand/src/perl/repoperls/installed-perls/host/k93msid/v5.29.4/fc43/lib/site_perl/5.29.4/MozRepl/Client.pm line 144
t/05-callback-parameter.t ...... skipped: Couldn't connect to MozRepl: Failed to connect to , problem connecting to "localhost", port 4242: Connection refused at /home/sand/src/perl/repoperls/installed-perls/host/k93msid/v5.29.4/fc43/lib/site_perl/5.29.4/MozRepl/Client.pm line 144
t/10-xul-hud.t ................. skipped: Couldn't connect to MozRepl: Failed to connect to , problem connecting to "localhost", port 4242: Connection refused at /home/sand/src/perl/repoperls/installed-perls/host/k93msid/v5.29.4/fc43/lib/site_perl/5.29.4/MozRepl/Client.pm line 144
t/11-memleak-callback.t ........ skipped: Couldn't connect to MozRepl: Failed to connect to , problem connecting to "localhost", port 4242: Connection refused at /home/sand/src/perl/repoperls/installed-perls/host/k93msid/v5.29.4/fc43/lib/site_perl/5.29.4/MozRepl/Client.pm line 144
t/11-memleak-constant.t ........ skipped: Couldn't connect to MozRepl: Failed to connect to , problem connecting to "localhost", port 4242: Connection refused at /home/sand/src/perl/repoperls/installed-perls/host/k93msid/v5.29.4/fc43/lib/site_perl/5.29.4/MozRepl/Client.pm line 144
t/11-memleak-declare.t ......... skipped: Couldn't connect to MozRepl: Failed to connect to , problem connecting to "localhost", port 4242: Connection refused at /home/sand/src/perl/repoperls/installed-perls/host/k93msid/v5.29.4/fc43/lib/site_perl/5.29.4/MozRepl/Client.pm line 144
t/11-memleak.t ................. skipped: Couldn't connect to MozRepl: Failed to connect to , problem connecting to "localhost", port 4242: Connection refused at /home/sand/src/perl/repoperls/installed-perls/host/k93msid/v5.29.4/fc43/lib/site_perl/5.29.4/MozRepl/Client.pm line 144
All tests successful.
Files=28, Tests=1,  9 wallclock secs ( 0.05 usr  0.11 sys +  3.02 cusr  0.69 csys =  3.87 CPU)
Result: PASS

------------------------------
PREREQUISITES
------------------------------

Prerequisite modules loaded:

requires:

    Module         Need  Have      
    -------------- ----- ----------
    Encode         0     2.97      
    Exporter       0     5.73      
    File::Basename 0     2.85      
    IPC::Run       0     20180523.0
    JSON           2     2.97001   
    MozRepl        0.06  0.06      
    parent         0     0.237     
    perl           5.006 5.029004  
    Scalar::Util   0     1.50      

build_requires:

    Module         Need  Have      
    -------------- ----- ----------
    Task::Weaken   0     1.06      


------------------------------
ENVIRONMENT AND OTHER CONTEXT
------------------------------

Environment variables:

    AUTOMATED_TESTING = 1
    LANG = en_US.UTF-8
    PATH = /home/sand/bin:/usr/local/bin:/usr/bin:/bin:/usr/games:/usr/local/perl/bin:/usr/X11/bin:/sbin:/usr/sbin
    PERL5LIB = 
    PERL5OPT = 
    PERL5_CPANPLUS_IS_RUNNING = 25210
    PERL5_CPAN_IS_RUNNING = 25210
    PERL_CANARY_STABILITY_NOPROMPT = 1
    PERL_MM_USE_DEFAULT = 1
    PERL_USE_UNSAFE_INC = 1
    SHELL = /usr/bin/zsh
    TERM = screen

Perl special variables (and OS-specific diagnostics, for MSWin32):

    $^X = /home/sand/src/perl/repoperls/installed-perls/host/k93msid/v5.29.4/fc43/bin/perl
    $UID/$EUID = 1005 / 1005
    $GID = 1005 1005
    $EGID = 1005 1005

Perl module toolchain versions installed:

    Module              Have    
    ------------------- --------
    CPAN                2.21    
    CPAN::Meta          2.150010
    Cwd                 3.75    
    ExtUtils::CBuilder  0.280230
    ExtUtils::Command   7.34    
    ExtUtils::Install   2.14    
    ExtUtils::MakeMaker 7.34    
    ExtUtils::Manifest  1.71    
    ExtUtils::ParseXS   3.39    
    File::Spec          3.75    
    JSON                2.97001 
    JSON::PP            2.97001 
    Module::Build       0.4224  
    Module::Signature   0.83    
    Parse::CPAN::Meta   2.150010
    Test::Harness       3.42    
    Test::More          1.302140
    YAML                1.26    
    YAML::Syck          1.31    
    version             0.9924  


--

Summary of my perl5 (revision 5 version 29 subversion 4) configuration:
  Commit id: 8de8eb77f9d6567ac8194b8d19af809e36945198
  Platform:
    osname=linux
    osvers=4.18.0-2-amd64
    archname=x86_64-linux-ld
    uname='linux k93msid 4.18.0-2-amd64 #1 smp debian 4.18.10-2 (2018-10-07) x86_64 gnulinux '
    config_args='-Dprefix=/home/sand/src/perl/repoperls/installed-perls/host/k93msid/v5.29.4/fc43 -Dmyhostname=k93msid -Dinstallusrbinperl=n -Uversiononly -Dusedevel -des -Ui_db -Dlibswanted=cl pthread socket inet nsl gdbm dbm malloc dl ld sun m crypt sec util c cposix posix ucb BSD gdbm_compat -Uuseithreads -Duselongdouble -DEBUGGING=both'
    hint=recommended
    useposix=true
    d_sigaction=define
    useithreads=undef
    usemultiplicity=undef
    use64bitint=define
    use64bitall=define
    uselongdouble=define
    usemymalloc=n
    default_inc_excludes_dot=define
    bincompat5005=undef
  Compiler:
    cc='cc'
    ccflags ='-fwrapv -DDEBUGGING -fno-strict-aliasing -pipe -fstack-protector-strong -I/usr/local/include -D_LARGEFILE_SOURCE -D_FILE_OFFSET_BITS=64 -D_FORTIFY_SOURCE=2'
    optimize='-O2 -g'
    cppflags='-fwrapv -DDEBUGGING -fno-strict-aliasing -pipe -fstack-protector-strong -I/usr/local/include'
    ccversion=''
    gccversion='8.2.0'
    gccosandvers=''
    intsize=4
    longsize=8
    ptrsize=8
    doublesize=8
    byteorder=12345678
    doublekind=3
    d_longlong=define
    longlongsize=8
    d_longdbl=define
    longdblsize=16
    longdblkind=3
    ivtype='long'
    ivsize=8
    nvtype='long double'
    nvsize=16
    Off_t='off_t'
    lseeksize=8
    alignbytes=16
    prototype=define
  Linker and Libraries:
    ld='cc'
    ldflags =' -fstack-protector-strong -L/usr/local/lib'
    libpth=/usr/local/lib /usr/lib/gcc/x86_64-linux-gnu/8/include-fixed /usr/include/x86_64-linux-gnu /usr/lib /lib/x86_64-linux-gnu /lib/../lib /usr/lib/x86_64-linux-gnu /usr/lib/../lib /lib
    libs=-lpthread -lnsl -ldl -lm -lcrypt -lutil -lc
    perllibs=-lpthread -lnsl -ldl -lm -lcrypt -lutil -lc
    libc=libc-2.27.so
    so=so
    useshrplib=false
    libperl=libperl.a
    gnulibc_version='2.27'
  Dynamic Linking:
    dlsrc=dl_dlopen.xs
    dlext=so
    d_dlsymun=undef
    ccdlflags='-Wl,-E'
    cccdlflags='-fPIC'
    lddlflags='-shared -O2 -g -L/usr/local/lib -fstack-protector-strong'


Characteristics of this binary (from libperl): 
  Compile-time options:
    DEBUGGING
    HAS_TIMES
    PERLIO_LAYERS
    PERL_COPY_ON_WRITE
    PERL_DONT_CREATE_GVSV
    PERL_MALLOC_WRAP
    PERL_OP_PARENT
    PERL_PRESERVE_IVUV
    PERL_USE_DEVEL
    USE_64_BIT_ALL
    USE_64_BIT_INT
    USE_LARGE_FILES
    USE_LOCALE
    USE_LOCALE_COLLATE
    USE_LOCALE_CTYPE
    USE_LOCALE_NUMERIC
    USE_LOCALE_TIME
    USE_LONG_DOUBLE
    USE_PERLIO
    USE_PERL_ATOF
  Built under linux
  Compiled at Oct 27 2018 23:16:57
  %ENV:
    PERL5LIB=""
    PERL5OPT=""
    PERL5_CPANPLUS_IS_RUNNING="25210"
    PERL5_CPAN_IS_RUNNING="25210"
    PERL_CANARY_STABILITY_NOPROMPT="1"
    PERL_MM_USE_DEFAULT="1"
    PERL_USE_UNSAFE_INC="1"
  @INC:
    /home/sand/src/perl/repoperls/installed-perls/host/k93msid/v5.29.4/fc43/lib/site_perl/5.29.4/x86_64-linux-ld
    /home/sand/src/perl/repoperls/installed-perls/host/k93msid/v5.29.4/fc43/lib/site_perl/5.29.4
    /home/sand/src/perl/repoperls/installed-perls/host/k93msid/v5.29.4/fc43/lib/5.29.4/x86_64-linux-ld
    /home/sand/src/perl/repoperls/installed-perls/host/k93msid/v5.29.4/fc43/lib/5.29.4
    .