Report for Module-Pluggable-5.1

Back
From: metabase:user:5bbb2efa-715f-11e3-8cc1-b2993ff2e0c7
Subject: PASS Module-Pluggable-5.1 v5.20.1 Windows (Cygwin)
Date: 2015-05-18T19:17:30Z

This distribution has been tested as part of the CPAN Testers
project, supporting the Perl programming language.  See
http://wiki.cpantesters.org/ for more information or email
questions to cpan-testers-discuss@perl.org


--
Dear SIMONW,

This is a computer-generated report for Module-Pluggable-5.1
on perl 5.20.1, created by NX::cpanminus::reporter 0.10 (1.7034).

Thank you for uploading your work to CPAN.  Congratulations!
All tests were successful.

Sections of this report:

    * Tester comments
    * Program output
    * Prerequisites
    * Environment and other context

------------------------------
TESTER COMMENTS
------------------------------

Additional comments from tester:

none provided

------------------------------
PROGRAM OUTPUT
------------------------------

Output from '':

Building and testing Module-Pluggable-5.1
Building Module-Pluggable
t/01use.t .................... ok
t/02alsoworks.t .............. ok
t/02works.t .................. ok
t/02works_taint.t ............ ok
t/03diffname.t ............... ok
t/04acmedir.t ................ ok
t/04acmedir_single.t ......... ok
t/04acmepath.t ............... ok
t/04acmepath_single.t ........ ok
t/05postpath.t ............... ok
t/06multipath.t .............. ok
t/07instantiate.t ............ ok
t/08nothing.t ................ ok
t/09require.t ................ ok
t/10innerpack.t .............. ok
t/10innerpack_inner.t ........ ok
t/10innerpack_noinner.t ...... ok
t/10innerpack_onefile.t ...... ok
t/10innerpack_override.t ..... ok
t/10innerpack_super.t ........ ok
t/11usetwice.t ............... ok
t/12only.t ................... ok
t/12onlyarray.t .............. ok
t/12onlyregex.t .............. ok
t/12onlyrequire.t ............ ok
t/13except.t ................. ok
t/13exceptarray.t ............ ok
t/13exceptregex.t ............ ok
t/14package.t ................ ok
t/15topicsafe.t .............. ok
t/16different_extension.t .... ok
t/17devel_inner_package.t .... ok
t/18skipped_package.t ........ ok
t/19can_ok_clobber.t ......... ok
t/20dodgy_files.t ............ ok
t/21editor_junk.t ............ ok
t/22trigger.t ................ ok
t/23depth.t .................. ok
t/24local_inc_object.t ....... ok
t/24local_inc_package.t ...... ok
t/25single_letter_package.t .. ok
t/26inc_hook.t ............... ok
t/27app_fatpacker.t .......... skipped: App::FatPacker >= 0.10.0 not available
All tests successful.
Files=43, Tests=180,  3 wallclock secs ( 0.03 usr  0.03 sys +  1.35 cusr  1.14 csys =  2.56 CPU)
Result: PASS

------------------------------
PREREQUISITES
------------------------------

Prerequisite modules loaded:

    No requirements found

------------------------------
ENVIRONMENT AND OTHER CONTEXT
------------------------------

Environment variables:

    COMSPEC = C:\Windows\system32\cmd.exe
    LANG = en_US.UTF-8
    LC_COLLATE = C
    PATH = /home/ollisg/opt/perl/5.20.1/my/bin:/home/ollisg/opt/perl/5.20.1/bin:/home/ollisg/bin:/home/ollisg/bin-x64:/home/ollisg/perl5/cygwin/system/x64/5.14.4/bin:/usr/local/bin:/usr/bin:/bin:/home/ollisg/bin:/home/ollisg/bin-x64:/home/ollisg/perl5/cygwin/system/x64/5.14.4/bin:/usr/local/bin:/usr/bin:/bin:/cygdrive/c/PROGRA~2/NVIDIA~1/PhysX/Common:/cygdrive/c/PROGRA~2/Intel/ICLSCL~1:/cygdrive/c/PROGRA~1/Intel/ICLSCL~1:/cygdrive/c/Windows/system32:/cygdrive/c/Windows:/cygdrive/c/Windows/System32/Wbem:/cygdrive/c/Windows/System32/WindowsPowerShell/v1.0:/cygdrive/c/PROGRA~1/Intel/INTEL(~1/DAL:/cygdrive/c/PROGRA~1/Intel/INTEL(~1/IPT:/cygdrive/c/PROGRA~2/Intel/INTEL(~1/DAL:/cygdrive/c/PROGRA~2/Intel/INTEL(~1/IPT:/cygdrive/c/PROGRA~1/MICROS~3/110/Tools/Binn:/cygdrive/c/PROGRA~2/Git/cmd:/cygdrive/n/program32/sbt/bin:/cygdrive/n/opt/sqlite3:/cygdrive/n/lang/FreePascal/2.6.4/bin/i386-Win32:/cygdrive/c/PROGRA~2/Skype/Phone:/cygdrive/c/PROGRA~2/Xanya/Bin:/cygdrive/n/lang/tcl/x86/8.6.1.0/bin:/cygdrive/c/PROGRA~2/NVIDIA~1/PhysX/Common:/cygdrive/c/PROGRA~2/Intel/ICLSCL~1:/cygdrive/c/PROGRA~1/Intel/ICLSCL~1:/cygdrive/c/Windows/system32:/cygdrive/c/Windows:/cygdrive/c/Windows/System32/Wbem:/cygdrive/c/Windows/System32/WindowsPowerShell/v1.0:/cygdrive/c/PROGRA~1/Intel/INTEL(~1/DAL:/cygdrive/c/PROGRA~1/Intel/INTEL(~1/IPT:/cygdrive/c/PROGRA~2/Intel/INTEL(~1/DAL:/cygdrive/c/PROGRA~2/Intel/INTEL(~1/IPT:/cygdrive/c/PROGRA~1/MICROS~3/110/Tools/Binn:/cygdrive/c/PROGRA~2/Git/cmd:/cygdrive/n/program32/sbt/bin:/cygdrive/n/opt/sqlite3:/cygdrive/n/lang/FreePascal/2.6.4/bin/i386-Win32:/cygdrive/c/PROGRA~2/Skype/Phone:/cygdrive/n/lang/python/x86/2.7.6:/cygdrive/n/lang/scala/2.11.1/bin
    PERL5LIB = /home/ollisg/opt/perl/5.20.1/my/lib/perl5
    PERL_CPANM_OPT = --mirror http://mirror.sydney.wdlabs.com/cpan/ --mirror-only
    PERL_LOCAL_LIB_ROOT = /home/ollisg/opt/perl/5.20.1/my
    PERL_MB_OPT = --install_base "/home/ollisg/opt/perl/5.20.1/my"
    PERL_MM_OPT = INSTALL_BASE=/home/ollisg/opt/perl/5.20.1/my
    SHELL = /bin/tcsh
    TERM = xterm-256color

Perl special variables (and OS-specific diagnostics, for MSWin32):

    EGID = 513 513 559 545 4 66049 11 15 113 4095 66048 262154 401408
    EUID = 1001
    EXECUTABLE_NAME = /home/ollisg/opt/perl/5.20.1/bin/perl
    GID = 513 513 559 545 4 66049 11 15 113 4095 66048 262154 401408
    UID = 1001

Perl module toolchain versions installed:

    Module              Have    
    ------------------- --------
    CPAN                2.05    
    CPAN::Meta          2.150001
    Cwd                 3.48    
    ExtUtils::CBuilder  0.280220
    ExtUtils::Command   1.18    
    ExtUtils::Install   1.67    
    ExtUtils::MakeMaker 6.98    
    ExtUtils::Manifest  1.63    
    ExtUtils::ParseXS   3.24    
    File::Spec          3.48    
    JSON                2.90    
    JSON::PP            2.27203 
    Module::Build       0.4205  
    Module::Signature   n/a     
    Parse::CPAN::Meta   1.4414  
    Test::Harness       3.30    
    Test::More          1.001002
    YAML                1.15    
    YAML::Syck          n/a     
    version             0.9909  


--

Summary of my perl5 (revision 5 version 20 subversion 1) configuration:
   
  Platform:
    osname=cygwin, osvers=2.0.2(0.28753), archname=cygwin-thread-multi
    uname='cygwin_nt-6.1 xian 2.0.2(0.28753) 2015-05-08 17:00 x86_64 cygwin '
    config_args='-de -Dprefix=/home/ollisg/opt/perl/5.20.1/ -Aeval:scriptdir=/home/ollisg/opt/perl/5.20.1/bin'
    hint=recommended, useposix=true, d_sigaction=define
    useithreads=define, usemultiplicity=define
    use64bitint=define, use64bitall=define, uselongdouble=undef
    usemymalloc=n, bincompat5005=undef
  Compiler:
    cc='gcc', ccflags ='-DPERL_USE_SAFE_PUTENV -U__STRICT_ANSI__ -fwrapv -fno-strict-aliasing -pipe -fstack-protector',
    optimize='-O3',
    cppflags='-DPERL_USE_SAFE_PUTENV -U__STRICT_ANSI__ -fwrapv -fno-strict-aliasing -pipe -fstack-protector'
    ccversion='', gccversion='4.9.2', gccosandvers=''
    intsize=4, longsize=8, ptrsize=8, doublesize=8, byteorder=12345678
    d_longlong=define, longlongsize=8, d_longdbl=define, longdblsize=16
    ivtype='long', ivsize=8, nvtype='double', nvsize=8, Off_t='off_t', lseeksize=8
    alignbytes=8, prototype=define
  Linker and Libraries:
    ld='g++', ldflags =' -Wl,--enable-auto-import -Wl,--export-all-symbols -Wl,--enable-auto-image-base -fstack-protector -L/usr/local/lib'
    libpth=/usr/lib/gcc/x86_64-pc-cygwin/4.9.2/include-fixed /usr/lib /usr/lib/gcc/x86_64-pc-cygwin/4.9.2/../../../../lib/../include/w32api /usr/local/lib /lib
    libs=-ldb -ldl -lcrypt
    perllibs=-ldl -lcrypt
    libc=/usr/lib/libc.a, so=dll, useshrplib=true, libperl=cygperl5_20_1.dll
    gnulibc_version=''
  Dynamic Linking:
    dlsrc=dl_dlopen.xs, dlext=dll, d_dlsymun=undef, ccdlflags=' '
    cccdlflags=' ', lddlflags=' --shared  -Wl,--enable-auto-import -Wl,--export-all-symbols -Wl,--enable-auto-image-base -L/usr/local/lib -fstack-protector'


Characteristics of this binary (from libperl): 
  Compile-time options: HAS_TIMES MULTIPLICITY PERLIO_LAYERS
                        PERL_DONT_CREATE_GVSV
                        PERL_HASH_FUNC_ONE_AT_A_TIME_HARD
                        PERL_IMPLICIT_CONTEXT PERL_NEW_COPY_ON_WRITE
                        PERL_PRESERVE_IVUV PERL_USE_SAFE_PUTENV
                        USE_64_BIT_ALL USE_64_BIT_INT USE_ITHREADS
                        USE_LARGE_FILES USE_LOCALE USE_LOCALE_COLLATE
                        USE_LOCALE_CTYPE USE_LOCALE_NUMERIC USE_PERLIO
                        USE_PERL_ATOF USE_REENTRANT_API
  Built under cygwin
  Compiled at May 18 2015 14:36:36
  %ENV:
    PERL5LIB="/home/ollisg/opt/perl/5.20.1/my/lib/perl5"
    PERL_CPANM_OPT="--mirror http://mirror.sydney.wdlabs.com/cpan/ --mirror-only"
    PERL_LOCAL_LIB_ROOT="/home/ollisg/opt/perl/5.20.1/my"
    PERL_MB_OPT="--install_base "/home/ollisg/opt/perl/5.20.1/my""
    PERL_MM_OPT="INSTALL_BASE=/home/ollisg/opt/perl/5.20.1/my"
  @INC:
    /home/ollisg/opt/perl/5.20.1/my/lib/perl5/cygwin-thread-multi
    /home/ollisg/opt/perl/5.20.1/my/lib/perl5
    /home/ollisg/opt/perl/5.20.1/lib/site_perl/5.20.1/cygwin-thread-multi
    /home/ollisg/opt/perl/5.20.1/lib/site_perl/5.20.1
    /home/ollisg/opt/perl/5.20.1/lib/5.20.1/cygwin-thread-multi
    /home/ollisg/opt/perl/5.20.1/lib/5.20.1
    .