Back
From: metabase:user:320bfe00-2aae-11df-837a-5e0a49663a4f
Subject: PASS Crypt-Passwd-XS-0.601 v5.17.11 GNU/Linux
Date: 2013-03-28T22:11:33Z
This distribution has been tested as part of the CPAN Testers
project, supporting the Perl programming language. See
http://wiki.cpantesters.org/ for more information or email
questions to cpan-testers-discuss@perl.org
--
Dear cPanel Inc.,
This is a computer-generated report for Crypt-Passwd-XS-0.601
on perl 5.17.11, created by CPAN-Reporter-1.2009.
Thank you for uploading your work to CPAN. Congratulations!
All tests were successful.
Sections of this report:
* Tester comments
* Program output
* Prerequisites
* Environment and other context
------------------------------
TESTER COMMENTS
------------------------------
Additional comments from tester:
this report is from an automated smoke testing program
and was not reviewed by a human for accuracy
------------------------------
PROGRAM OUTPUT
------------------------------
Output from '/usr/bin/make test':
PERL_DL_NONLAZY=1 /tmp/basesmoker-reloperl-YMRM/bin/perl "-MExtUtils::Command::MM" "-e" "test_harness(0, 'blib/lib', 'blib/arch')" t/*.t
t/00_module_load.t .. ok
t/01_md5.t .......... ok
t/02_des.t .......... ok
t/03_sha256.t ....... ok
t/04_sha512.t ....... ok
t/05_combined.t ..... ok
t/06_apr.t .......... ok
All tests successful.
Files=7, Tests=76, 2 wallclock secs ( 0.04 usr 0.01 sys + 1.51 cusr 0.03 csys = 1.59 CPU)
Result: PASS
------------------------------
PREREQUISITES
------------------------------
Prerequisite modules loaded:
requires:
Module Need Have
------------------- ---- -------
Test::More 0 0.98
build_requires:
Module Need Have
------------------- ---- -------
ExtUtils::MakeMaker 0 6.65_01
configure_requires:
Module Need Have
------------------- ---- -------
ExtUtils::MakeMaker 0 6.65_01
------------------------------
ENVIRONMENT AND OTHER CONTEXT
------------------------------
Environment variables:
AUTOMATED_TESTING = 1
LANG = en_US.UTF-8
LANGUAGE = en_US:en
PATH = /usr/lib/ccache:/home/sand/bin:/usr/local/bin:/usr/bin:/bin:/usr/bin/X11:/usr/games:/usr/local/perl/bin:/usr/X11/bin:/sbin:/usr/sbin
PERL5LIB = /tmp/loop_over_bdir-31211-rzfsDw/Helios-2.60-KpiGjc/blib/arch:/tmp/loop_over_bdir-31211-rzfsDw/Helios-2.60-KpiGjc/blib/lib:/tmp/loop_over_bdir-31211-rzfsDw/Encode-IBM-0.11-jiEnVk/blib/arch:/tmp/loop_over_bdir-31211-rzfsDw/Encode-IBM-0.11-jiEnVk/blib/lib
PERL5OPT =
PERL5_CPANPLUS_IS_RUNNING = 11228
PERL5_CPAN_IS_RUNNING = 11228
PERL_MM_USE_DEFAULT = 1
SHELL = /usr/bin/zsh
TERM = screen
Perl special variables (and OS-specific diagnostics, for MSWin32):
$^X = /tmp/basesmoker-reloperl-YMRM/bin/perl
$UID/$EUID = 1005 / 1005
$GID = 1005 1005
$EGID = 1005 1005
Perl module toolchain versions installed:
Module Have
------------------- --------
CPAN 2.00
CPAN::Meta 2.120921
Cwd 3.40
ExtUtils::CBuilder 0.280209
ExtUtils::Command 1.17
ExtUtils::Install 1.59
ExtUtils::MakeMaker 6.65_01
ExtUtils::Manifest 1.63
ExtUtils::ParseXS 3.18
File::Spec 3.40
JSON 2.53
JSON::PP 2.27202
Module::Build 0.4003
Module::Signature 0.70
Parse::CPAN::Meta 1.4404
Test::Harness 3.26
Test::More 0.98
YAML 0.84
YAML::Syck 1.25
version 0.9902
--
Summary of my perl5 (revision 5 version 17 subversion 11) configuration:
Commit id: b5de49e55f04e3a6c36012d250a46eb301a2be38
Platform:
osname=linux, osvers=3.2.0-4-amd64, archname=x86_64-linux
uname='linux k83 3.2.0-4-amd64 #1 smp debian 3.2.39-2 x86_64 gnulinux '
config_args='-Dprefix=/home/src/perl/repoperls/installed-perls/perl/v5.17.10-39-gb5de49e/165a -Dmyhostname=k83 -Dinstallusrbinperl=n -Uversiononly -Dusedevel -des -Ui_db -Uuseithreads -Uuselongdouble -DDEBUGGING=-g'
hint=recommended, useposix=true, d_sigaction=define
useithreads=undef, usemultiplicity=undef
useperlio=define, d_sfio=undef, uselargefiles=define, usesocks=undef
use64bitint=define, use64bitall=define, uselongdouble=undef
usemymalloc=n, bincompat5005=undef
Compiler:
cc='cc', ccflags ='-fno-strict-aliasing -pipe -fstack-protector -I/usr/local/include -D_LARGEFILE_SOURCE -D_FILE_OFFSET_BITS=64',
optimize='-O2 -g',
cppflags='-fno-strict-aliasing -pipe -fstack-protector -I/usr/local/include'
ccversion='', gccversion='4.7.2', gccosandvers=''
intsize=4, longsize=8, ptrsize=8, doublesize=8, byteorder=12345678
d_longlong=define, longlongsize=8, d_longdbl=define, longdblsize=16
ivtype='long', ivsize=8, nvtype='double', nvsize=8, Off_t='off_t', lseeksize=8
alignbytes=8, prototype=define
Linker and Libraries:
ld='cc', ldflags =' -fstack-protector -L/usr/local/lib'
libpth=/usr/local/lib /lib/x86_64-linux-gnu /lib/../lib /usr/lib/x86_64-linux-gnu /usr/lib/../lib /lib /usr/lib
libs=-lnsl -lgdbm -ldb -ldl -lm -lcrypt -lutil -lc -lgdbm_compat
perllibs=-lnsl -ldl -lm -lcrypt -lutil -lc
libc=, so=so, useshrplib=false, libperl=libperl.a
gnulibc_version='2.13'
Dynamic Linking:
dlsrc=dl_dlopen.xs, dlext=so, d_dlsymun=undef, ccdlflags='-Wl,-E'
cccdlflags='-fPIC', lddlflags='-shared -O2 -g -L/usr/local/lib -fstack-protector'
Characteristics of this binary (from libperl):
Compile-time options: HAS_TIMES PERLIO_LAYERS PERL_DONT_CREATE_GVSV
PERL_MALLOC_WRAP PERL_PRESERVE_IVUV PERL_SAWAMPERSAND
PERL_USE_DEVEL USE_64_BIT_ALL USE_64_BIT_INT
USE_LARGE_FILES USE_LOCALE USE_LOCALE_COLLATE
USE_LOCALE_CTYPE USE_LOCALE_NUMERIC USE_PERLIO
USE_PERL_ATOF
Built under linux
Compiled at Mar 28 2013 05:37:53
%ENV:
PERL5LIB="/tmp/loop_over_bdir-31211-rzfsDw/Helios-2.60-KpiGjc/blib/arch:/tmp/loop_over_bdir-31211-rzfsDw/Helios-2.60-KpiGjc/blib/lib:/tmp/loop_over_bdir-31211-rzfsDw/Encode-IBM-0.11-jiEnVk/blib/arch:/tmp/loop_over_bdir-31211-rzfsDw/Encode-IBM-0.11-jiEnVk/blib/lib"
PERL5OPT=""
PERL5_CPANPLUS_IS_RUNNING="11228"
PERL5_CPAN_IS_RUNNING="11228"
PERL_MM_USE_DEFAULT="1"
@INC:
/tmp/loop_over_bdir-31211-rzfsDw/Helios-2.60-KpiGjc/blib/arch
/tmp/loop_over_bdir-31211-rzfsDw/Helios-2.60-KpiGjc/blib/lib
/tmp/loop_over_bdir-31211-rzfsDw/Encode-IBM-0.11-jiEnVk/blib/arch
/tmp/loop_over_bdir-31211-rzfsDw/Encode-IBM-0.11-jiEnVk/blib/lib
/home/src/perl/repoperls/installed-perls/perl/v5.17.10-39-gb5de49e/165a/lib/site_perl/5.17.11/x86_64-linux
/home/src/perl/repoperls/installed-perls/perl/v5.17.10-39-gb5de49e/165a/lib/site_perl/5.17.11
/home/src/perl/repoperls/installed-perls/perl/v5.17.10-39-gb5de49e/165a/lib/5.17.11/x86_64-linux
/home/src/perl/repoperls/installed-perls/perl/v5.17.10-39-gb5de49e/165a/lib/5.17.11
.