Report for MooseX-SimpleConfig-0.11

Back
From: metabase:user:0d96120c-29e2-11e5-b049-ede3035d37de
Subject: PASS MooseX-SimpleConfig-0.11 v5.23.4 GNU/Linux
Date: 2015-11-16T04:56:51Z

This distribution has been tested as part of the CPAN Testers
project, supporting the Perl programming language.  See
http://wiki.cpantesters.org/ for more information or email
questions to cpan-testers-discuss@perl.org


--
Dear Karen Etheridge,

This is a computer-generated report for MooseX-SimpleConfig-0.11
on perl 5.23.4, created by CPAN-Reporter-1.2015.

Thank you for uploading your work to CPAN.  Congratulations!
All tests were successful.

Sections of this report:

    * Tester comments
    * Program output
    * Prerequisites
    * Environment and other context

------------------------------
TESTER COMMENTS
------------------------------

Additional comments from tester:

MEMORY         : 1.96 GB
ARCH           : armv7l
OS             : Debian 8.1
KERNEL         : Linux 4.1.3-armv7-x2
VIRTUALIZATION : No Virtualization

------------------------------
PROGRAM OUTPUT
------------------------------

Output from './Build test':

# 
# Versions for all modules listed in MYMETA.json (including optional ones):
# 
# === Configure Requires ===
# 
#     Module               Want  Have
#     ------------------- ----- -----
#     Module::Build::Tiny 0.039 0.039
# 
# === Test Requires ===
# 
#     Module                Want     Have
#     --------------------- ---- --------
#     ExtUtils::MakeMaker    any     7.10
#     File::Spec             any     3.58
#     File::Spec::Functions  any     3.58
#     File::Temp             any   0.2304
#     Moose                  any   2.1604
#     Test::Fatal            any    0.014
#     Test::More            0.88 1.001014
#     lib                    any     0.63
#     strict                 any     1.09
#     warnings               any     1.35
# 
# === Test Recommends ===
# 
#     Module         Want     Have
#     ---------- -------- --------
#     CPAN::Meta 2.120900 2.150005
# 
# === Runtime Requires ===
# 
#     Module                 Want   Have
#     ---------------------- ---- ------
#     Config::Any            0.13   0.26
#     Moose::Role             any 2.1604
#     MooseX::ConfigFromFile  any   0.14
# 
# === Other Modules ===
# 
#     Module               Want Have
#     -------------------- ---- ----
#     Dist::CheckConflicts  any 0.11
# 
t/00-report-prereqs.t .. ok
t/01use.t .............. ok
t/10simple.t ........... skipped: YAML or YAML::Syck required for this test
t/11default.t .......... skipped: YAML or YAML::Syck required for this test
t/12config_any_args.t .. ok
t/multiple.t ........... skipped: YAML or YAML::Syck required for this test
t/zzz-check-breaks.t ... ok
All tests successful.
Files=7, Tests=10, 10 wallclock secs ( 0.16 usr  0.05 sys +  9.18 cusr  0.36 csys =  9.75 CPU)
Result: PASS

------------------------------
PREREQUISITES
------------------------------

Prerequisite modules loaded:

requires:

    Module                 Need     Have    
    ---------------------- -------- --------
    Config::Any            0.13     0.26    
    Moose::Role            0        2.1604  
    MooseX::ConfigFromFile 0        0.14    
    perl                   5.006    5.023004

build_requires:

    Module                 Need     Have    
    ---------------------- -------- --------
    ExtUtils::MakeMaker    0        7.10    
    File::Spec             0        3.58    
    File::Spec::Functions  0        3.58    
    File::Temp             0        0.2304  
    lib                    0        0.63    
    Moose                  0        2.1604  
    perl                   5.006    5.023004
    strict                 0        1.09    
    Test::Fatal            0        0.014   
    Test::More             0.88     1.001014
    warnings               0        1.35    

configure_requires:

    Module                 Need     Have    
    ---------------------- -------- --------
    Module::Build::Tiny    0.039    0.039   
    perl                   5.004    5.023004

opt_build_requires:

    Module                 Need     Have    
    ---------------------- -------- --------
    CPAN::Meta             2.120900 2.150005


------------------------------
ENVIRONMENT AND OTHER CONTEXT
------------------------------

Environment variables:

    LANG = en_US.UTF-8
    NONINTERACTIVE_TESTING = 1
    PATH = /home/jmaslak/perl5/perlbrew/bin:/home/jmaslak/perl5/perlbrew/perls/perl-5.23.4-thread-multi-64int/bin:/home/jmaslak/perl5/perlbrew/bin:/home/jmaslak/perl5/perlbrew/perls/perl-5.22.0/bin:/usr/local/bin:/usr/bin:/bin:/usr/local/games:/usr/games:/usr/sbin:~/perltest/bin
    PERL5LIB = 
    PERL5OPT = 
    PERL5_CPANPLUS_IS_RUNNING = 3123
    PERL5_CPAN_IS_RUNNING = 3123
    PERLBREW_BASHRC_VERSION = 0.73
    PERLBREW_HOME = /home/jmaslak/.perlbrew
    PERLBREW_LIB = 
    PERLBREW_MANPATH = /home/jmaslak/perl5/perlbrew/perls/perl-5.23.4-thread-multi-64int/man
    PERLBREW_PATH = /home/jmaslak/perl5/perlbrew/bin:/home/jmaslak/perl5/perlbrew/perls/perl-5.23.4-thread-multi-64int/bin
    PERLBREW_PERL = perl-5.23.4-thread-multi-64int
    PERLBREW_ROOT = /home/jmaslak/perl5/perlbrew
    PERLBREW_VERSION = 0.73
    PERL_LOCAL_LIB_ROOT = 
    PERL_MM_USE_DEFAULT = 1
    SHELL = /bin/bash
    TERM = vt100

Perl special variables (and OS-specific diagnostics, for MSWin32):

    $^X = /home/jmaslak/perl5/perlbrew/perls/perl-5.23.4-thread-multi-64int/bin/perl5.23.4
    $UID/$EUID = 1000 / 1000
    $GID = 1000 27 1000
    $EGID = 1000 27 1000

Perl module toolchain versions installed:

    Module              Have    
    ------------------- --------
    CPAN                2.11    
    CPAN::Meta          2.150005
    Cwd                 3.58    
    ExtUtils::CBuilder  0.280224
    ExtUtils::Command   7.10    
    ExtUtils::Install   2.04    
    ExtUtils::MakeMaker 7.10    
    ExtUtils::Manifest  1.70    
    ExtUtils::ParseXS   3.30    
    File::Spec          3.58    
    JSON                2.90    
    JSON::PP            2.27300 
    Module::Build       0.4214  
    Module::Signature   n/a     
    Parse::CPAN::Meta   1.4417  
    Test::Harness       3.35    
    Test::More          1.001014
    YAML                n/a     
    YAML::Syck          n/a     
    version             0.9909  


--

Summary of my perl5 (revision 5 version 23 subversion 4) configuration:
   
  Platform:
    osname=linux, osvers=4.1.3-armv7-x2, archname=armv7l-linux-thread-multi-64int
    uname='linux armperl.antelope.net 4.1.3-armv7-x2 #1 smp wed jul 29 12:23:30 mdt 2015 armv7l gnulinux '
    config_args='-de -Dprefix=/home/jmaslak/perl5/perlbrew/perls/perl-5.23.4-thread-multi-64int -Dusemultiplicity -Duse64bitint -Dusethreads -Dusedevel -Aeval:scriptdir=/home/jmaslak/perl5/perlbrew/perls/perl-5.23.4-thread-multi-64int/bin'
    hint=recommended, useposix=true, d_sigaction=define
    useithreads=define, usemultiplicity=define
    use64bitint=define, use64bitall=undef, uselongdouble=undef
    usemymalloc=n, bincompat5005=undef
  Compiler:
    cc='cc', ccflags ='-D_REENTRANT -D_GNU_SOURCE -fwrapv -fno-strict-aliasing -pipe -fstack-protector-strong -I/usr/local/include -D_LARGEFILE_SOURCE -D_FILE_OFFSET_BITS=64 -D_FORTIFY_SOURCE=2',
    optimize='-O2',
    cppflags='-D_REENTRANT -D_GNU_SOURCE -fwrapv -fno-strict-aliasing -pipe -fstack-protector-strong -I/usr/local/include'
    ccversion='', gccversion='4.9.2', gccosandvers=''
    intsize=4, longsize=4, ptrsize=4, doublesize=8, byteorder=12345678, doublekind=3
    d_longlong=define, longlongsize=8, d_longdbl=define, longdblsize=8, longdblkind=0
    ivtype='long long', ivsize=8, nvtype='double', nvsize=8, Off_t='off_t', lseeksize=8
    alignbytes=8, prototype=define
  Linker and Libraries:
    ld='cc', ldflags =' -fstack-protector-strong -L/usr/local/lib'
    libpth=/usr/local/lib /usr/lib/gcc/arm-linux-gnueabihf/4.9/include-fixed /usr/include/arm-linux-gnueabihf /usr/lib /lib/arm-linux-gnueabihf /lib /usr/lib/arm-linux-gnueabihf
    libs=-lpthread -lnsl -ldl -lm -lcrypt -lutil -lc
    perllibs=-lpthread -lnsl -ldl -lm -lcrypt -lutil -lc
    libc=libc-2.19.so, so=so, useshrplib=false, libperl=libperl.a
    gnulibc_version='2.19'
  Dynamic Linking:
    dlsrc=dl_dlopen.xs, dlext=so, d_dlsymun=undef, ccdlflags='-Wl,-E'
    cccdlflags='-fPIC', lddlflags='-shared -O2 -L/usr/local/lib -fstack-protector-strong'


Characteristics of this binary (from libperl): 
  Compile-time options: HAS_TIMES MULTIPLICITY PERLIO_LAYERS
                        PERL_COPY_ON_WRITE PERL_DONT_CREATE_GVSV
                        PERL_HASH_FUNC_ONE_AT_A_TIME_HARD
                        PERL_IMPLICIT_CONTEXT PERL_MALLOC_WRAP
                        PERL_PRESERVE_IVUV PERL_USE_DEVEL USE_64_BIT_INT
                        USE_ITHREADS USE_LARGE_FILES USE_LOCALE
                        USE_LOCALE_COLLATE USE_LOCALE_CTYPE
                        USE_LOCALE_NUMERIC USE_LOCALE_TIME USE_PERLIO
                        USE_PERL_ATOF USE_REENTRANT_API
  Locally applied patches:
	Devel::PatchPerl 1.38
  Built under linux
  Compiled at Nov 11 2015 21:17:27
  %ENV:
    PERL5LIB=""
    PERL5OPT=""
    PERL5_CPANPLUS_IS_RUNNING="3123"
    PERL5_CPAN_IS_RUNNING="3123"
    PERLBREW_BASHRC_VERSION="0.73"
    PERLBREW_HOME="/home/jmaslak/.perlbrew"
    PERLBREW_LIB=""
    PERLBREW_MANPATH="/home/jmaslak/perl5/perlbrew/perls/perl-5.23.4-thread-multi-64int/man"
    PERLBREW_PATH="/home/jmaslak/perl5/perlbrew/bin:/home/jmaslak/perl5/perlbrew/perls/perl-5.23.4-thread-multi-64int/bin"
    PERLBREW_PERL="perl-5.23.4-thread-multi-64int"
    PERLBREW_ROOT="/home/jmaslak/perl5/perlbrew"
    PERLBREW_VERSION="0.73"
    PERL_LOCAL_LIB_ROOT=""
    PERL_MM_USE_DEFAULT="1"
  @INC:
    /home/jmaslak/perl5/perlbrew/perls/perl-5.23.4-thread-multi-64int/lib/site_perl/5.23.4/armv7l-linux-thread-multi-64int
    /home/jmaslak/perl5/perlbrew/perls/perl-5.23.4-thread-multi-64int/lib/site_perl/5.23.4
    /home/jmaslak/perl5/perlbrew/perls/perl-5.23.4-thread-multi-64int/lib/5.23.4/armv7l-linux-thread-multi-64int
    /home/jmaslak/perl5/perlbrew/perls/perl-5.23.4-thread-multi-64int/lib/5.23.4
    .