Report for DBD-SQLite-Amalgamation-3.6.16

Back
From: metabase:user:320bfe00-2aae-11df-837a-5e0a49663a4f
Subject: PASS DBD-SQLite-Amalgamation-3.6.16 v5.8.1 GNU/Linux
Date: 2017-02-26T00:49:37Z

This distribution has been tested as part of the CPAN Testers
project, supporting the Perl programming language.  See
http://wiki.cpantesters.org/ for more information or email
questions to cpan-testers-discuss@perl.org


--
Dear Audrey Tang,

This is a computer-generated report for DBD-SQLite-Amalgamation-3.6.16
on perl 5.8.1, created by CPAN-Reporter-1.2018.

Thank you for uploading your work to CPAN.  Congratulations!
All tests were successful.

Sections of this report:

    * Tester comments
    * Program output
    * Prerequisites
    * Environment and other context

------------------------------
TESTER COMMENTS
------------------------------

Additional comments from tester:

this report is from an automated smoke testing program
and was not reviewed by a human for accuracy

------------------------------
PROGRAM OUTPUT
------------------------------

Output from '/usr/bin/make test':

"/home/sand/src/perl/repoperls/installed-perls/host/k93msid/perl-5.8.1/a927/bin/perl" -MExtUtils::Command::MM -e 'cp_nonempty' -- SQLite.bs blib/arch/auto/DBD/SQLite/SQLite.bs 644
PERL_DL_NONLAZY=1 "/home/sand/src/perl/repoperls/installed-perls/host/k93msid/perl-5.8.1/a927/bin/perl" "-MExtUtils::Command::MM" "-MTest::Harness" "-e" "undef *Test::Harness::Switches; test_harness(0, 'blib/lib', 'blib/arch')" t/*.t
# $DBI::VERSION=1.636
t/01_compile.t ............................... ok
# sqlite_version=3.6.16
t/02_logon.t ................................. ok
# sqlite_version=3.6.16
t/02_logon_func.t ............................ ok
t/03_create_table.t .......................... ok
t/04_insert.t ................................ ok
t/05_select.t ................................ ok
t/06_tran.t .................................. ok
t/07_error.t ................................. ok
t/08_busy.t .................................. ok
t/08_busy_func.t ............................. ok
t/09_create_function.t ....................... ok
t/09_create_function_func.t .................. ok
t/10_create_aggregate.t ...................... ok
t/10_create_aggregate_func.t ................. ok
t/12_unicode.t ............................... skipped: Unicode is not supported before 5.8.5
t/13_create_collation.t ...................... skipped: Unicode is not supported before 5.8.5
t/13_create_collation_func.t ................. skipped: Unicode is not supported before 5.8.5
t/14_progress_handler.t ...................... ok
t/14_progress_handler_func.t ................. ok
t/15_ak_dbd.t ................................ ok
t/16_column_info.t ........................... ok
t/17_createdrop.t ............................ ok
t/18_insertfetch.t ........................... ok
t/19_bindparam.t ............................. ok
t/20_blobs.t ................................. ok
t/21_blobtext.t .............................. ok
t/22_listfields.t ............................ ok
t/23_nulls.t ................................. ok
t/24_numrows.t ............................... ok
t/25_chopblanks.t ............................ ok
t/26_commit.t ................................ ok
t/27_metadata.t .............................. ok
t/28_schemachange.t .......................... ok
t/29_cppcomments.t ........................... ok
t/30_auto_rollback.t ......................... ok
t/31_bind_weird_number_param.t ............... ok
t/32_inactive_error.t ........................ ok
t/33_non_latin_path.t ........................ skipped: Unicode is not supported before 5.8.5
t/34_online_backup.t ......................... ok
t/34_online_backup_func.t .................... ok
t/35_table_info.t ............................ ok
t/97_meta.t .................................. ok
t/98_pod.t ................................... ok
t/99_pmv.t ................................... skipped: no minimum perl version could be determined
t/rt_15186_prepcached.t ...................... ok
t/rt_21406_auto_finish.t ..................... ok
t/rt_25371_asymmetric_unicode.t .............. skipped: Unicode is not supported before 5.8.5
t/rt_25460_numeric_aggregate.t ............... ok
t/rt_25924_user_defined_func_unicode.t ....... skipped: Unicode is not supported before 5.8.5
t/rt_25924_user_defined_func_unicode_func.t .. skipped: Unicode is not supported before 5.8.5
t/rt_27553_prepared_cache_and_analyze.t ...... ok
t/rt_29058_group_by.t ........................ ok
t/rt_29629_sqlite_where_length.t ............. ok
t/rt_31324_full_names.t ...................... ok
t/rt_32889_prepare_cached_reexecute.t ........ ok
t/rt_36836_duplicate_key.t ................... ok
t/rt_36838_unique_and_bus_error.t ............ ok
t/rt_40594_nullable.t ........................ ok
All tests successful.
Files=58, Tests=633, 27 wallclock secs ( 0.15 usr  0.42 sys +  3.26 cusr  1.03 csys =  4.86 CPU)
Result: PASS

------------------------------
PREREQUISITES
------------------------------

Prerequisite modules loaded:

requires:

    Module              Need  Have    
    ------------------- ----- --------
    DBI                 1.57  1.636   
    File::Spec          0.82  3.62    
    perl                5.006 5.008001
    Test::More          0.42  1.302077

build_requires:

    Module              Need  Have    
    ------------------- ----- --------
    ExtUtils::MakeMaker 0     7.25_01 


------------------------------
ENVIRONMENT AND OTHER CONTEXT
------------------------------

Environment variables:

    AUTOMATED_TESTING = 1
    LANG = en_US.UTF-8
    PATH = /home/sand/bin:/usr/local/bin:/usr/bin:/bin:/usr/games:/usr/local/perl/bin:/usr/X11/bin:/sbin:/usr/sbin
    PERL5LIB = 
    PERL5OPT = 
    PERL5_CPANPLUS_IS_RUNNING = 7302
    PERL5_CPAN_IS_RUNNING = 7302
    PERL_CANARY_STABILITY_NOPROMPT = 1
    PERL_MM_USE_DEFAULT = 1
    PERL_USE_UNSAFE_INC = 1
    SHELL = /usr/bin/zsh
    TERM = screen

Perl special variables (and OS-specific diagnostics, for MSWin32):

    $^X = /home/sand/src/perl/repoperls/installed-perls/host/k93msid/perl-5.8.1/a927/bin/perl
    $UID/$EUID = 1005 / 1005
    $GID = 1005 1005
    $EGID = 1005 1005

Perl module toolchain versions installed:

    Module              Have    
    ------------------- --------
    CPAN                2.17    
    CPAN::Meta          2.150010
    Cwd                 3.62    
    ExtUtils::CBuilder  0.280224
    ExtUtils::Command   7.25_01 
    ExtUtils::Install   1.54    
    ExtUtils::MakeMaker 7.25_01 
    ExtUtils::Manifest  1.70    
    ExtUtils::ParseXS   3.30    
    File::Spec          3.62    
    JSON                2.90    
    JSON::PP            2.27400 
    Module::Build       0.4220  
    Module::Signature   0.81    
    Parse::CPAN::Meta   2.150010
    Test::Harness       3.36    
    Test::More          1.302077
    YAML                1.23    
    YAML::Syck          1.29    
    version             0.9917  


--

Summary of my perl5 (revision 5.0 version 8 subversion 1) configuration:
  Platform:
    osname=linux, osvers=4.8.0-2-amd64, archname=x86_64-linux-thread-multi
    uname='linux k93msid 4.8.0-2-amd64 #1 smp debian 4.8.11-1 (2016-12-02) x86_64 gnulinux '
    config_args='-Dprefix=/home/sand/src/perl/repoperls/installed-perls/host/k93msid/perl-5.8.1/a927 -Dmyhostname=k93msid -Dinstallusrbinperl=n -Uversiononly -Dusedevel -des -Ui_db -Dlibswanted=cl pthread socket inet nsl gdbm dbm malloc dl ld sun m crypt sec util c cposix posix ucb BSD gdbm_compat -Duseithreads -Uuselongdouble'
    hint=recommended, useposix=true, d_sigaction=define
    usethreads=define use5005threads=undef useithreads=define usemultiplicity=define
    useperlio=define d_sfio=undef uselargefiles=define usesocks=undef
    use64bitint=define use64bitall=define uselongdouble=undef
    usemymalloc=n, bincompat5005=undef
  Compiler:
    cc='cc', ccflags ='-D_REENTRANT -D_GNU_SOURCE -fno-strict-aliasing -I/usr/local/include -D_LARGEFILE_SOURCE -D_FILE_OFFSET_BITS=64',
    optimize='-O2',
    cppflags='-D_REENTRANT -D_GNU_SOURCE -fno-strict-aliasing -I/usr/local/include'
    ccversion='', gccversion='6.2.1 20161124', gccosandvers=''
    intsize=4, longsize=8, ptrsize=8, doublesize=8, byteorder=12345678
    d_longlong=define, longlongsize=8, d_longdbl=define, longdblsize=16
    ivtype='long', ivsize=8, nvtype='double', nvsize=8, Off_t='off_t', lseeksize=8
    alignbytes=8, prototype=define
  Linker and Libraries:
    ld='cc', ldflags =' -L/usr/local/lib'
    libpth=/usr/local/lib /lib/x86_64-linux-gnu /lib/../lib /usr/lib/x86_64-linux-gnu /usr/lib/../lib /lib /usr/lib
    libs=-lpthread -lnsl -ldl -lm -lcrypt -lutil -lc
    perllibs=-lpthread -lnsl -ldl -lm -lcrypt -lutil -lc
    libc=libc-2.24.so, so=so, useshrplib=false, libperl=libperl.a
    gnulibc_version='2.24'
  Dynamic Linking:
    dlsrc=dl_dlopen.xs, dlext=so, d_dlsymun=undef, ccdlflags='-rdynamic'
    cccdlflags='-fpic', lddlflags='-shared -L/usr/local/lib'


Characteristics of this binary (from libperl): 
  Compile-time options: MULTIPLICITY USE_ITHREADS USE_64_BIT_INT USE_64_BIT_ALL USE_LARGE_FILES PERL_IMPLICIT_CONTEXT
  Built under linux
  Compiled at Dec 18 2016 22:23:27
  %ENV:
    PERL5LIB=""
    PERL5OPT=""
    PERL5_CPANPLUS_IS_RUNNING="7302"
    PERL5_CPAN_IS_RUNNING="7302"
    PERL_CANARY_STABILITY_NOPROMPT="1"
    PERL_MM_USE_DEFAULT="1"
    PERL_USE_UNSAFE_INC="1"
  @INC:
    /home/sand/src/perl/repoperls/installed-perls/host/k93msid/perl-5.8.1/a927/lib/5.8.1/x86_64-linux-thread-multi
    /home/sand/src/perl/repoperls/installed-perls/host/k93msid/perl-5.8.1/a927/lib/5.8.1
    /home/sand/src/perl/repoperls/installed-perls/host/k93msid/perl-5.8.1/a927/lib/site_perl/5.8.1/x86_64-linux-thread-multi
    /home/sand/src/perl/repoperls/installed-perls/host/k93msid/perl-5.8.1/a927/lib/site_perl/5.8.1
    /home/sand/src/perl/repoperls/installed-perls/host/k93msid/perl-5.8.1/a927/lib/site_perl
    .