Report for XML-TreePP-0.41

Back
From: metabase:user:30f0bd62-2aae-11df-837a-5e0a49663a4f
Subject: PASS XML-TreePP-0.41 v5.15.6 OpenBSD
Date: 2011-12-23T18:46:39Z

This distribution has been tested as part of the CPAN Testers
project, supporting the Perl programming language.  See
http://wiki.cpantesters.org/ for more information or email
questions to cpan-testers-discuss@perl.org


--
Dear Yusuke Kawasaki,

This is a computer-generated report for XML-TreePP-0.41
on perl 5.15.6, created by CPAN-Reporter-1.2002.

Thank you for uploading your work to CPAN.  Congratulations!
All tests were successful.

Sections of this report:

    * Tester comments
    * Program output
    * Prerequisites
    * Environment and other context

------------------------------
TESTER COMMENTS
------------------------------

Additional comments from tester:

this report is from an automated smoke testing program
and was not reviewed by a human for accuracy

------------------------------
PROGRAM OUTPUT
------------------------------

Output from '/usr/bin/make test':

PERL_DL_NONLAZY=1 /home/sts/cpansmoke/perl-5.15.6/bin/perl5.15.6 "-MExtUtils::Command::MM" "-e" "test_harness(0, 'blib/lib', 'blib/arch')" t/*.t
t/00_pod.t ................. skipped: Test::Pod 1.00 required for testing POD
t/01_parse.t ............... ok
t/02_write.t ............... ok
t/03_parsefile.t ........... ok
t/04_escape.t .............. ok
t/05_empty.t ............... ok
t/06_cdata.t ............... ok
t/07_attr_prefix.t ......... ok
t/08_force_array.t ......... ok
t/09_http-lite.t ........... skipped: define $MORE_TESTS to test HTTP::Lite.
t/10_http-lwp.t ............ skipped: LWP::UserAgent is not loaded.
t/11_escape_cdata.t ........ ok
t/12_escape_charref.t ...... ok
t/13_encoding_en.t ......... ok
t/14_encoding_zh.t ......... ok
t/15_encoding_ja.t ......... ok
t/16_encoding_ko.t ......... ok
t/17_output_encoding.t ..... ok
t/18_escape_amp.t .......... ok
t/19_multi_text.t .......... ok
t/20_http-lite-cached.t .... skipped: define $MORE_TESTS to test this.
t/21_http-lwp-cached.t ..... skipped: LWP::UserAgent is not loaded.
t/22_http-lite-headers.t ... skipped: define $MORE_TESTS to test this.
t/23_http-lwp-headers.t .... skipped: LWP::UserAgent is not loaded.
t/24_ignore_error.t ........ ok
t/25_text_node_key.t ....... ok
t/26_attr_prefix_null.t .... ok
t/27_http-lite-force.t ..... skipped: define $MORE_TESTS to test this.
t/28_http-lwp-force.t ...... skipped: LWP::UserAgent is not loaded.
t/29_http-lwp-withcache.t .. skipped: LWP::UserAgent::WithCache is not loaded.
t/30_first_out.t ........... ok
t/31_tie_ixhash.t .......... skipped: Tie::IxHash is not loaded.
t/32_base_class.t .......... ok
t/33_indent.t .............. ok
t/34_utf8_flag.t ........... ok
t/35_force_hash.t .......... ok
t/36_elem_class.t .......... ok
t/37_undef.t ............... ok
t/38_cdata_cdsect.t ........ ok
t/39_writefile.t ........... ok
t/40_writefile_jcode.t ..... skipped: Jcode is not loaded.
t/41_writefile_encode.t .... ok
t/42_cdata_comment.t ....... ok
t/43_encoding_quote.t ...... ok
t/44_utf8_bom.t ............ ok
t/45_attr_space.t .......... ok
t/46_xml_deref.t ........... ok
t/47_xml_deref_utf8.t ...... ok
t/48_blobref.t ............. ok
t/49_invalid_encoding.t .... ok
t/50_invalid_tree.t ........ ok
t/51_RT_42441.t ............ ok
t/52_require_xml_decl.t .... ok
t/53_empty_text_node.t ..... ok
All tests successful.
Files=54, Tests=1071, 16 wallclock secs ( 1.00 usr  0.34 sys + 12.36 cusr  1.78 csys = 15.48 CPU)
Result: PASS

------------------------------
PREREQUISITES
------------------------------

Prerequisite modules loaded:

requires:

    Module              Need Have   
    ------------------- ---- -------
    HTTP::Lite          0    2.3    
    Test::More          0    0.98   

build_requires:

    Module              Need Have   
    ------------------- ---- -------
    ExtUtils::MakeMaker 0    6.63_02

configure_requires:

    Module              Need Have   
    ------------------- ---- -------
    ExtUtils::MakeMaker 0    6.63_02


------------------------------
ENVIRONMENT AND OTHER CONTEXT
------------------------------

Environment variables:

    AUTOMATED_TESTING = 1
    PATH = /home/sts/bin:/bin:/sbin:/usr/bin:/usr/sbin:/usr/X11R6/bin:/usr/local/bin:/usr/local/sbin:/usr/games:.
    PERL5LIB = /home/sts/cpansmoke/perl-5.15.6/cpan/build/HTTP-Lite-2.3-dPgEex/blib/arch:/home/sts/cpansmoke/perl-5.15.6/cpan/build/HTTP-Lite-2.3-dPgEex/blib/lib
    PERL5OPT = 
    PERL5_CPANPLUS_IS_RUNNING = 14009
    PERL5_CPAN_IS_RUNNING = 14009
    PERL5_CPAN_IS_RUNNING_IN_RECURSION = 27904,14009
    PERL_CR_SMOKER_CURRENT = FusionInventory-Agent-Task-ESX-1.1.3
    PERL_EXTUTILS_AUTOINSTALL = --defaultdeps
    PERL_MM_USE_DEFAULT = 1
    SHELL = /usr/local/bin/bash
    TERM = screen
    TMPDIR = /home/sts/cpansmoke/tmp

Perl special variables (and OS-specific diagnostics, for MSWin32):

    $^X = /home/sts/cpansmoke/perl-5.15.6/bin/perl5.15.6
    $UID/$EUID = 1000 / 1000
    $GID = 10 10 0
    $EGID = 10 10 0

Perl module toolchain versions installed:

    Module              Have    
    ------------------- --------
    CPAN                1.9800  
    CPAN::Meta          2.112621
    Cwd                 3.38    
    ExtUtils::CBuilder  0.280205
    ExtUtils::Command   1.17    
    ExtUtils::Install   1.57    
    ExtUtils::MakeMaker 6.63_02 
    ExtUtils::Manifest  1.60    
    ExtUtils::ParseXS   3.08    
    File::Spec          3.34    
    JSON                n/a     
    JSON::PP            2.27200 
    Module::Build       0.39_01 
    Module::Signature   n/a     
    Parse::CPAN::Meta   1.4401  
    Test::Harness       3.23    
    Test::More          0.98    
    YAML                n/a     
    YAML::Syck          1.19    
    version             0.96    


--

Summary of my perl5 (revision 5 version 15 subversion 6) configuration:
   
  Platform:
    osname=openbsd, osvers=5.0, archname=OpenBSD.i386-openbsd-thread-multi
    uname='openbsd cpansmoke5 5.0 generic.mp#59 i386 '
    config_args='-des -Dusedevel -Dusethreads -Dprefix=/home/sts/cpansmoke/perl-5.15.6'
    hint=recommended, useposix=true, d_sigaction=define
    useithreads=define, usemultiplicity=define
    useperlio=define, d_sfio=undef, uselargefiles=define, usesocks=undef
    use64bitint=undef, use64bitall=undef, uselongdouble=undef
    usemymalloc=y, bincompat5005=undef
  Compiler:
    cc='cc', ccflags ='-pthread -fno-strict-aliasing -pipe -fstack-protector -I/usr/local/include',
    optimize='-O2',
    cppflags='-pthread -fno-strict-aliasing -pipe -fstack-protector -I/usr/local/include'
    ccversion='', gccversion='4.2.1 20070719 ', gccosandvers='openbsd5.0'
    intsize=4, longsize=4, ptrsize=4, doublesize=8, byteorder=1234
    d_longlong=define, longlongsize=8, d_longdbl=define, longdblsize=12
    ivtype='long', ivsize=4, nvtype='double', nvsize=8, Off_t='off_t', lseeksize=8
    alignbytes=4, prototype=define
  Linker and Libraries:
    ld='cc', ldflags ='-pthread -Wl,-E  -fstack-protector -L/usr/local/lib'
    libpth=/usr/local/lib /usr/lib
    libs=-lgdbm -lm -lutil -lc
    perllibs=-lm -lutil -lc
    libc=/usr/lib/libc.so.60.1, so=so, useshrplib=false, libperl=libperl.a
    gnulibc_version=''
  Dynamic Linking:
    dlsrc=dl_dlopen.xs, dlext=so, d_dlsymun=undef, ccdlflags=' '
    cccdlflags='-DPIC -fPIC ', lddlflags='-shared -fPIC  -L/usr/local/lib -fstack-protector'


Characteristics of this binary (from libperl): 
  Compile-time options: HAS_TIMES MULTIPLICITY MYMALLOC PERLIO_LAYERS
                        PERL_DONT_CREATE_GVSV PERL_IMPLICIT_CONTEXT
                        PERL_MALLOC_WRAP PERL_PRESERVE_IVUV PERL_USE_DEVEL
                        USE_ITHREADS USE_LARGE_FILES USE_LOCALE
                        USE_LOCALE_COLLATE USE_LOCALE_CTYPE
                        USE_LOCALE_NUMERIC USE_PERLIO USE_PERL_ATOF
                        USE_REENTRANT_API
  Built under openbsd
  Compiled at Dec 23 2011 07:44:18
  %ENV:
    PERL5LIB="/home/sts/cpansmoke/perl-5.15.6/cpan/build/HTTP-Lite-2.3-dPgEex/blib/arch:/home/sts/cpansmoke/perl-5.15.6/cpan/build/HTTP-Lite-2.3-dPgEex/blib/lib"
    PERL5OPT=""
    PERL5_CPANPLUS_IS_RUNNING="14009"
    PERL5_CPAN_IS_RUNNING="14009"
    PERL5_CPAN_IS_RUNNING_IN_RECURSION="27904,14009"
    PERL_CR_SMOKER_CURRENT="FusionInventory-Agent-Task-ESX-1.1.3"
    PERL_EXTUTILS_AUTOINSTALL="--defaultdeps"
    PERL_MM_USE_DEFAULT="1"
  @INC:
    /home/sts/cpansmoke/perl-5.15.6/cpan/build/HTTP-Lite-2.3-dPgEex/blib/arch
    /home/sts/cpansmoke/perl-5.15.6/cpan/build/HTTP-Lite-2.3-dPgEex/blib/lib
    /home/sts/cpansmoke/perl-5.15.6/lib/site_perl/5.15.6/OpenBSD.i386-openbsd-thread-multi
    /home/sts/cpansmoke/perl-5.15.6/lib/site_perl/5.15.6
    /home/sts/cpansmoke/perl-5.15.6/lib/5.15.6/OpenBSD.i386-openbsd-thread-multi
    /home/sts/cpansmoke/perl-5.15.6/lib/5.15.6
    .