Report for Task-Cpanel-Internal-11.36.001

Back
From: metabase:user:30ae4450-2aae-11df-837a-5e0a49663a4f
Subject: PASS Task-Cpanel-Internal-11.36.001 v5.18.2 RC4 
Date: 2013-12-28T15:54:14Z

This distribution has been tested as part of the CPAN Testers
project, supporting the Perl programming language.  See
http://wiki.cpantesters.org/ for more information or email
questions to cpan-testers-discuss@perl.org


--
Dear cPanel Inc.,

This is a computer-generated report for Task-Cpanel-Internal-11.36.001
on perl 5.18.2, created by CPAN-Reporter-1.2010_01.

Thank you for uploading your work to CPAN.  Congratulations!
All tests were successful.

Sections of this report:

    * Tester comments
    * Program output
    * Prerequisites
    * Environment and other context

------------------------------
TESTER COMMENTS
------------------------------

Additional comments from tester:

this report is from an automated smoke testing program
and was not reviewed by a human for accuracy

------------------------------
PROGRAM OUTPUT
------------------------------

Output from 'C:\strawberry182RC4\c\bin\dmake.exe test':

C:\strawberry182RC4\perl\bin\perl.exe "-MExtUtils::Command::MM" "-MTest::Harness" "-e" "undef *Test::Harness::Switches; test_harness(0, 'blib\lib', 'blib\arch')" t/*.t
t/00-load.t ............. ok
t/manifest.t ............ skipped: Author tests not required for installation
t/pod.t ................. ok
t/release-pod-syntax.t .. skipped: these tests are for release candidate testing
All tests successful.
Files=4, Tests=129,  0 wallclock secs ( 0.00 usr +  0.03 sys =  0.03 CPU)
Result: PASS

------------------------------
PREREQUISITES
------------------------------

Prerequisite modules loaded:

requires:

    Module                             Need Have      
    ---------------------------------- ---- ----------
  ! Acme::Bleach                       0    n/a       
  ! App::Ack                           0    n/a       
    Archive::Any                       0    0.0941    
    Archive::Tar                       0    1.96      
  ! Archive::Tar::Builder              0    n/a       
  ! Authen::Libwrap                    0    n/a       
  ! B::C                               0    n/a       
    B::Flags                           0    0.10      
  ! BSD::Resource                      0    n/a       
    Business::ISBN                     0    2.06      
    Capture::Tiny                      0    0.23      
    Class::C3                          0    0.25      
    Class::Inspector                   0    1.28      
    Compress::Zlib                     0    2.063     
  ! cPanel::SyncUtil                   0    n/a       
    Crypt::DES_EDE3                    0    0.01      
  ! Crypt::OpenPGP                     0    n/a       
    Crypt::Random                      0    1.25      
    Cwd                                0    3.40      
    Date::Parse                        0    2.30      
    DateTime                           0    1.05      
    DBD::Mock                          0    1.45      
    DBD::Pg                            0    2.19.3    
    DBI                                0    1.630     
    Devel::Cover                       0    1.08      
    Devel::NYTProf                     0    5.06      
    Devel::REPL                        0    1.003025  
    Devel::Size                        0    0.79      
  ! Diff::LibXDiff                     0    n/a       
    Digest::MD5                        0    2.53      
  ! Dist::Zilla::Plugin::GitHub::Meta  0    n/a       
  ! Dist::Zilla::Plugin::Repository    0    n/a       
  ! Dist::Zilla::PluginBundle::Git     0    n/a       
    Email::Address                     0    1.900     
    Encode::Detect                     0    1.01      
    Error                              0    0.17021   
  ! Expect                             0    n/a       
    ExtUtils::CBuilder                 0    0.280212  
    ExtUtils::Constant                 0    0.23      
  ! File::Comments                     0    n/a       
  ! File::Comments::Plugin::C          0    n/a       
    File::Copy::Recursive              0    0.38      
    File::Glob                         0    1.20_01   
    File::Path::Tiny                   0    0.7       
    File::Which                        0    1.09      
  ! Filesys::Df                        0    n/a       
  ! Filesys::POSIX                     0    n/a       
    Filter::Util::Call                 0    1.49      
    Getopt::Euclid                     0    0.4.4     
  ! Getopt::Param                      0    n/a       
    Git::Repository                    0    1.309     
  ! Git::Wrapper                       0    n/a       
    Graph::Easy::As_svg                0    0.23      
    Graph::Easy::Manual                0    0.41      
  ! GSSAPI                             0    n/a       
    Image::Xbm                         0    1.08      
    Image::Xpm                         0    1.12      
  ! IO::AIO                            0    n/a       
  ! IO::Interface                      0    n/a       
  ! IO::Prompt                         0    n/a       
  ! IO::Tty                            0    n/a       
    JSON::XS                           0    3.01      
  ! Log::Log4perl                      0    n/a       
  ! Mail::SendEasy                     0    n/a       
    Mail::Sender::Easy                 0    0.0.5     
    Math::BigInt::GMP                  0    1.37      
    Math::BigInt::Pari                 0    1.17      
    Math::Pari                         0    2.01080605
    Math::Round                        0    0.06      
    Module::Extract::VERSION           0    1.01      
    Module::Install                    0    1.06      
    Module::Metadata                   0    1.000019  
  ! Module::Signature                  0    n/a       
    Module::Want                       0    0.6       
    Moo                                0    1.003001  
    Moose                              0    2.1005    
    Net::Ident                         0    1.23      
  ! Net::Jabber::Bot                   0    n/a       
  ! Net::OpenSSH                       0    n/a       
    Net::SSLeay                        0    1.55      
  ! Net::TCPwrappers                   0    n/a       
    Opcodes                            0    0.12      
  ! Path::Iter                         0    n/a       
    Perl::Tidy                         0    20130922  
  ! Perlbal                            0    n/a       
    Pod::Markdown                      0    1.500     
    Readonly::XS                       0    1.05      
    Regexp::Parser                     0    0.21      
  ! REST::Google::Translate            0    n/a       
  ! REST::Google::Translate2           0    n/a       
    SOAP::Lite                         0    1.08      
    Storable                           0    2.45      
    strict                             0    1.07      
    String::BOM                        0    0.3       
    String::CRC32                      0    1.4       
    Sub::Install                       0    0.927     
    Test::Class                        0    0.41      
    Test::CPAN::Meta                   0    0.23      
    Test::Exception                    0    0.32      
    Test::File::Contents               0    0.21      
    Test::Manifest                     0    1.23      
    Test::MinimumVersion               0    0.101081  
    Test::Mock::Cmd                    0    0.6       
    Test::MockModule                   0    0.05      
    Test::MockObject                   0    1.20120301
    Test::NoWarnings                   0    1.04      
    Test::Object                       0    0.07      
    Test::Output                       0    1.02      
  ! Test::Parallel                     0    n/a       
    Test::Pod                          0    1.48      
    Test::Pod::Coverage                0    1.08      
    Test::Script                       0    1.07      
    Test::SubCalls                     0    1.09      
    Test::Tester                       0    0.109     
  ! Test::Unit                         0    n/a       
    Test::Warn                         0    0.24      
    Test::YAML::Meta                   0    0.20      
    Test::YAML::Valid                  0    0.04      
    Text::Extract::MaketextCallPhrases 0    0.92      
  ! Text::Fold                         0    n/a       
    Text::Iconv                        0    1.7       
    Text::Trim                         0    1.02      
    Time::HiRes                        0    1.9726    
    Variable::Magic                    0    0.53      
    warnings                           0    1.18      
    WWW::Mechanize                     0    1.73      
    XML::DOM                           0    1.44      
    XML::SAX                           0    0.99      
    YAML                               0    0.88      

build_requires:

    Module                             Need Have      
    ---------------------------------- ---- ----------
    FindBin                            0    1.51      
    Test::More                         0    1.001002  

configure_requires:

    Module                             Need Have      
    ---------------------------------- ---- ----------
    ExtUtils::MakeMaker                6.30 6.84      


------------------------------
ENVIRONMENT AND OTHER CONTEXT
------------------------------

Environment variables:

    AUTOMATED_TESTING = 1
    COMSPEC = C:\WINDOWS\system32\cmd.exe
    NUMBER_OF_PROCESSORS = 1
    PATH = C:\Program Files\Far Manager\;C:\WINDOWS\system32;C:\WINDOWS;C:\WINDOWS\System32\Wbem;C:\strawberry182RC4\c\bin;C:\strawberry182RC4\perl\site\bin;C:\strawberry182RC4\perl\bin
    PERL5LIB = 
    PERL5OPT = 
    PERL5_CPANPLUS_IS_RUNNING = 1396
    PERL5_CPAN_IS_RUNNING = 1396
    PERL5_CPAN_IS_RUNNING_IN_RECURSION = 1324,1396
    PERL_EXTUTILS_AUTOINSTALL = --defaultdeps
    PERL_MM_USE_DEFAULT = 1
    PROCESSOR_IDENTIFIER = x86 Family 16 Model 5 Stepping 3, AuthenticAMD
    TEMP = C:\DOCUME~1\c\LOCALS~1\Temp
    TERM = dumb

Perl special variables (and OS-specific diagnostics, for MSWin32):

    $^X = C:\strawberry182RC4\perl\bin\perl.exe
    $UID/$EUID = 0 / 0
    $GID = 0
    $EGID = 0
    Win32::GetOSName = WinXP/.Net
    Win32::GetOSVersion = Service Pack 3, 5, 1, 2600, 2, 3, 0, 256, 1
    Win32::FsType = NTFS
    Win32::IsAdminUser = 1

Perl module toolchain versions installed:

    Module              Have    
    ------------------- --------
    CPAN                2.00    
    CPAN::Meta          2.133380
    Cwd                 3.40    
    ExtUtils::CBuilder  0.280212
    ExtUtils::Command   1.18    
    ExtUtils::Install   1.59    
    ExtUtils::MakeMaker 6.84    
    ExtUtils::Manifest  1.63    
    ExtUtils::ParseXS   3.22    
    File::Spec          3.40    
    JSON                2.90    
    JSON::PP            2.27203 
    Module::Build       0.4203  
    Module::Signature   n/a     
    Parse::CPAN::Meta   1.4409  
    Test::Harness       3.30    
    Test::More          1.001002
    YAML                0.88    
    YAML::Syck          1.27    
    version             0.9904  


--

Summary of my perl5 (revision 5 version 18 subversion 2) configuration:
   
  Platform:
    osname=MSWin32, osvers=4.0, archname=MSWin32-x86-multi-thread
    uname='Win32 strawberry-perl-no64 5.18.2.1 #1 Thu Dec 26 18:03:25 2013 i386'
    config_args='undef'
    hint=recommended, useposix=true, d_sigaction=undef
    useithreads=define, usemultiplicity=define
    useperlio=define, d_sfio=undef, uselargefiles=define, usesocks=undef
    use64bitint=undef, use64bitall=undef, uselongdouble=undef
    usemymalloc=n, bincompat5005=undef
  Compiler:
    cc='gcc', ccflags =' -s -O2 -DWIN32  -DPERL_TEXTMODE_SCRIPTS -DPERL_IMPLICIT_CONTEXT -DPERL_IMPLICIT_SYS -DUSE_PERLIO -fno-strict-aliasing -mms-bitfields',
    optimize='-s -O2',
    cppflags='-DWIN32'
    ccversion='', gccversion='4.7.3', gccosandvers=''
    intsize=4, longsize=4, ptrsize=4, doublesize=8, byteorder=1234
    d_longlong=define, longlongsize=8, d_longdbl=define, longdblsize=12
    ivtype='long', ivsize=4, nvtype='double', nvsize=8, Off_t='long long', lseeksize=8
    alignbytes=8, prototype=define
  Linker and Libraries:
    ld='g++', ldflags ='-s -L"C:\strawberry182RC4\perl\lib\CORE" -L"C:\strawberry182RC4\c\lib"'
    libpth=C:\strawberry182RC4\c\lib C:\strawberry182RC4\c\i686-w64-mingw32\lib
    libs=-lmoldname -lkernel32 -luser32 -lgdi32 -lwinspool -lcomdlg32 -ladvapi32 -lshell32 -lole32 -loleaut32 -lnetapi32 -luuid -lws2_32 -lmpr -lwinmm -lversion -lodbc32 -lodbccp32 -lcomctl32
    perllibs=-lmoldname -lkernel32 -luser32 -lgdi32 -lwinspool -lcomdlg32 -ladvapi32 -lshell32 -lole32 -loleaut32 -lnetapi32 -luuid -lws2_32 -lmpr -lwinmm -lversion -lodbc32 -lodbccp32 -lcomctl32
    libc=, so=dll, useshrplib=true, libperl=libperl518.a
    gnulibc_version=''
  Dynamic Linking:
    dlsrc=dl_win32.xs, dlext=dll, d_dlsymun=undef, ccdlflags=' '
    cccdlflags=' ', lddlflags='-mdll -s -L"C:\strawberry182RC4\perl\lib\CORE" -L"C:\strawberry182RC4\c\lib"'


Characteristics of this binary (from libperl): 
  Compile-time options: HAS_TIMES HAVE_INTERP_INTERN MULTIPLICITY
                        PERLIO_LAYERS PERL_DONT_CREATE_GVSV
                        PERL_HASH_FUNC_ONE_AT_A_TIME_HARD
                        PERL_IMPLICIT_CONTEXT PERL_IMPLICIT_SYS
                        PERL_MALLOC_WRAP PERL_PRESERVE_IVUV PERL_SAWAMPERSAND
                        USE_ITHREADS USE_LARGE_FILES USE_LOCALE
                        USE_LOCALE_COLLATE USE_LOCALE_CTYPE
                        USE_LOCALE_NUMERIC USE_PERLIO USE_PERL_ATOF
  Locally applied patches:
	RC4
  Built under MSWin32
  Compiled at Dec 26 2013 18:09:02
  %ENV:
    PERL5_CPANPLUS_IS_RUNNING="1396"
    PERL5_CPAN_IS_RUNNING="1396"
    PERL5_CPAN_IS_RUNNING_IN_RECURSION="1324,1396"
    PERL_EXTUTILS_AUTOINSTALL="--defaultdeps"
    PERL_MM_USE_DEFAULT="1"
  @INC:
    C:/strawberry182RC4/perl/site/lib
    C:/strawberry182RC4/perl/vendor/lib
    C:/strawberry182RC4/perl/lib
    .