Dist-Zilla-Plugin-CheckIssues v0.010 Perl 5 v5.24.2 x86_64-linux-thread-multi

Status
Pass
From
Slaven Rezić (SREZIC)
Dist
Dist-Zilla-Plugin-CheckIssues v0.010
Platform
Perl 5 v5.24.2 x86_64-linux-thread-multi
Date
2018-01-21 00:03:03
ID
73619362-fe3e-11e7-af10-d5598b4a5ffa
This distribution has been tested as part of the CPAN Testers
project, supporting the Perl programming language.  See
http://wiki.cpantesters.org/ for more information or email
questions to cpan-testers-discuss@perl.org


--
Dear Karen Etheridge,

This is a computer-generated report for Dist-Zilla-Plugin-CheckIssues-0.010
on perl 5.24.2, created by CPAN-Reporter-1.2018.

Thank you for uploading your work to CPAN.  Congratulations!
All tests were successful.

Sections of this report:

    * Tester comments
    * Program output
    * Prerequisites
    * Environment and other context

------------------------------
TESTER COMMENTS
------------------------------

Additional comments from tester:

none provided

------------------------------
PROGRAM OUTPUT
------------------------------

Output from '/usr/bin/make test':

PERL_DL_NONLAZY=1 "/opt/perl-5.24.2t/bin/perl" "-MExtUtils::Command::MM" "-MTest::Harness" "-e" "undef *Test::Harness::Switches; test_harness(0, 'blib/lib', 'blib/arch')" t/*.t
# 
# Versions for all modules listed in MYMETA.json (including optional ones):
# 
# === Configure Requires ===
# 
#     Module                       Want     Have
#     ------------------------ -------- --------
#     CPAN::Meta::Requirements 2.120620    2.140
#     ExtUtils::MakeMaker           any  7.10_02
#     Module::Metadata              any 1.000031
# 
# === Build Requires ===
# 
#     Module              Want    Have
#     ------------------- ---- -------
#     ExtUtils::MakeMaker  any 7.10_02
# 
# === Test Requires ===
# 
#     Module                          Want     Have
#     ------------------------------- ---- --------
#     Dist::Zilla::App::Tester         any    6.010
#     Dist::Zilla::Role::MetaProvider  any    6.010
#     File::Spec                       any  3.63_01
#     File::pushd                      any    1.014
#     Module::Metadata                 any 1.000031
#     Moose::Util                      any   2.2006
#     Path::Tiny                       any    0.104
#     Test::DZil                       any    6.010
#     Test::Deep                       any    1.127
#     Test::Fatal                      any    0.014
#     Test::More                      0.88 1.302086
#     if                               any   0.0606
#     lib                              any     0.63
# 
# === Test Recommends ===
# 
#     Module         Want     Have
#     ---------- -------- --------
#     CPAN::Meta 2.120900 2.150005
# 
# === Runtime Requires ===
# 
#     Module                               Want      Have
#     -------------------------------- -------- ---------
#     Dist::Zilla                      4.300039     6.010
#     Dist::Zilla::App                      any     6.010
#     Dist::Zilla::Role::BeforeRelease      any     6.010
#     Encode                                any      2.92
#     HTTP::Headers                         any      6.13
#     HTTP::Tiny                            any 0.056_001
#     JSON::MaybeXS                    1.001000  1.003009
#     List::Util                           1.33      1.49
#     Log::Dispatch                        2.49      2.66
#     Moose                                 any    2.2006
#     Term::ANSIColor                      3.00      4.04
#     namespace::autoclean                  any      0.28
#     strict                                any      1.11
#     warnings                              any      1.36
# 
# === Other Modules ===
# 
#     Module         Have
#     ------------- -----
#     App::Cmd      0.331
#     Log::Dispatch  2.66
#     Pod::Coverage  0.23
# 
t/00-report-prereqs.t .. ok
t/01-basic.t ........... ok
t/02-no-rt.t ........... ok
t/03-no-repo.t ......... ok
t/04-command.t ......... ok
t/zzz-check-breaks.t ... ok
All tests successful.
Files=6, Tests=19,  6 wallclock secs ( 0.03 usr  0.04 sys +  4.86 cusr  0.60 csys =  5.53 CPU)
Result: PASS

------------------------------
PREREQUISITES
------------------------------

Prerequisite modules loaded:

requires:

    Module                           Need     Have     
    -------------------------------- -------- ---------
    Dist::Zilla                      4.300039 6.010    
    Dist::Zilla::App                 0        6.010    
    Dist::Zilla::Role::BeforeRelease 0        6.010    
    Encode                           0        2.92     
    HTTP::Headers                    0        6.13     
    HTTP::Tiny                       0        0.056_001
    JSON::MaybeXS                    1.001000 1.003009 
    List::Util                       1.33     1.49     
    Log::Dispatch                    2.49     2.66     
    Moose                            0        2.2006   
    namespace::autoclean             0        0.28     
    perl                             5.006    5.024002 
    strict                           0        1.11     
    Term::ANSIColor                  3.00     4.04     
    warnings                         0        1.36     

build_requires:

    Module                           Need     Have     
    -------------------------------- -------- ---------
    Dist::Zilla::App::Tester         0        6.010    
    Dist::Zilla::Role::MetaProvider  0        6.010    
    ExtUtils::MakeMaker              0        7.10_02  
    File::pushd                      0        1.014    
    File::Spec                       0        3.63_01  
    if                               0        0.0606   
    lib                              0        0.63     
    Module::Metadata                 0        1.000031 
    Moose::Util                      0        2.2006   
    Path::Tiny                       0        0.104    
    Test::Deep                       0        1.127    
    Test::DZil                       0        6.010    
    Test::Fatal                      0        0.014    
    Test::More                       0.88     1.302086 

configure_requires:

    Module                           Need     Have     
    -------------------------------- -------- ---------
    CPAN::Meta::Requirements         2.120620 2.140    
    ExtUtils::MakeMaker              0        7.10_02  
    Module::Metadata                 0        1.000031 
    perl                             5.006    5.024002 

opt_build_requires:

    Module                           Need     Have     
    -------------------------------- -------- ---------
    CPAN::Meta                       2.120900 2.150005 


------------------------------
ENVIRONMENT AND OTHER CONTEXT
------------------------------

Environment variables:

    LANG = C
    PATH = /usr/local/bin:/usr/bin:/bin:/usr/local/sbin:/usr/sbin:/sbin:/home/cpansand/bin/linux-gnu:/home/cpansand/bin/sh:/home/cpansand/bin:/usr/games:/home/cpansand/devel:/home/eserte/src/srezic-misc/scripts
    PERL5LIB = /home/cpansand/.cpan/build/2018012018/Devel-CheckBin-0.04-S39zhZ/blib/arch:/home/cpansand/.cpan/build/2018012018/Devel-CheckBin-0.04-S39zhZ/blib/lib
    PERL5OPT = 
    PERL5_CPANPLUS_IS_RUNNING = 20121
    PERL5_CPAN_IS_RUNNING = 20121
    PERL5_CPAN_IS_RUNNING_IN_RECURSION = 18981,20121
    PERLDOC = -MPod::Perldoc::ToTextOverstrike
    PERL_BATCH = yes
    PERL_CANARY_STABILITY_NOPROMPT = 1
    PERL_CPAN_REPORTER_CONFIG = /var/tmp/cpansmoker-1023/2018012015/cpanreporter_001_config.ini
    PERL_EXTUTILS_AUTOINSTALL = --defaultdeps
    SHELL = /usr/bin/zsh
    TERM = screen
    TMPDIR = /var/tmp/cpansmoker-1023/2018012015

Perl special variables (and OS-specific diagnostics, for MSWin32):

    $^X = /opt/perl-5.24.2t/bin/perl
    $UID/$EUID = 1023 / 1023
    $GID = 1023 1023
    $EGID = 1023 1023

Perl module toolchain versions installed:

    Module              Have      
    ------------------- ----------
    CPAN                2.11_01   
    CPAN::Meta          2.150005  
    Cwd                 3.63_01   
    ExtUtils::CBuilder  0.280225  
    ExtUtils::Command   7.10_02   
    ExtUtils::Install   2.04      
    ExtUtils::MakeMaker 7.10_02   
    ExtUtils::Manifest  1.70      
    ExtUtils::ParseXS   3.31      
    File::Spec          3.63_01   
    JSON                2.94      
    JSON::PP            2.27300_01
    Module::Build       0.4224    
    Module::Signature   n/a       
    Parse::CPAN::Meta   1.4417_001
    Test::Harness       3.36_01   
    Test::More          1.302086  
    YAML                1.23      
    YAML::Syck          1.30      
    version             0.9916    


--

Summary of my perl5 (revision 5 version 24 subversion 2) configuration:
   
  Platform:
    osname=linux, osvers=4.9.0-3-amd64, archname=x86_64-linux-thread-multi
    uname='linux debian9 4.9.0-3-amd64 #1 smp debian 4.9.30-2+deb9u3 (2017-08-06) x86_64 gnulinux '
    config_args='-ds -e -Dprefix=/opt/perl-5.24.2t -Dusethreads -Dcf_email=srezic@cpan.org'
    hint=recommended, useposix=true, d_sigaction=define
    useithreads=define, usemultiplicity=define
    use64bitint=define, use64bitall=define, uselongdouble=undef
    usemymalloc=n, bincompat5005=undef
  Compiler:
    cc='cc', ccflags ='-D_REENTRANT -D_GNU_SOURCE -fwrapv -fno-strict-aliasing -pipe -fstack-protector-strong -I/usr/local/include -D_LARGEFILE_SOURCE -D_FILE_OFFSET_BITS=64',
    optimize='-O2',
    cppflags='-D_REENTRANT -D_GNU_SOURCE -fwrapv -fno-strict-aliasing -pipe -fstack-protector-strong -I/usr/local/include'
    ccversion='', gccversion='6.3.0 20170516', gccosandvers=''
    intsize=4, longsize=8, ptrsize=8, doublesize=8, byteorder=12345678, doublekind=3
    d_longlong=define, longlongsize=8, d_longdbl=define, longdblsize=16, longdblkind=3
    ivtype='long', ivsize=8, nvtype='double', nvsize=8, Off_t='off_t', lseeksize=8
    alignbytes=8, prototype=define
  Linker and Libraries:
    ld='cc', ldflags =' -fstack-protector-strong -L/usr/local/lib'
    libpth=/usr/local/lib /usr/lib/gcc/x86_64-linux-gnu/6/include-fixed /usr/include/x86_64-linux-gnu /usr/lib /lib/x86_64-linux-gnu /lib/../lib /usr/lib/x86_64-linux-gnu /usr/lib/../lib /lib
    libs=-lpthread -lnsl -lgdbm -ldb -ldl -lm -lcrypt -lutil -lc -lgdbm_compat
    perllibs=-lpthread -lnsl -ldl -lm -lcrypt -lutil -lc
    libc=libc-2.24.so, so=so, useshrplib=false, libperl=libperl.a
    gnulibc_version='2.24'
  Dynamic Linking:
    dlsrc=dl_dlopen.xs, dlext=so, d_dlsymun=undef, ccdlflags='-Wl,-E'
    cccdlflags='-fPIC', lddlflags='-shared -O2 -L/usr/local/lib -fstack-protector-strong'


Characteristics of this binary (from libperl): 
  Compile-time options: HAS_TIMES MULTIPLICITY PERLIO_LAYERS
                        PERL_COPY_ON_WRITE PERL_DONT_CREATE_GVSV
                        PERL_HASH_FUNC_ONE_AT_A_TIME_HARD
                        PERL_IMPLICIT_CONTEXT PERL_MALLOC_WRAP
                        PERL_PRESERVE_IVUV USE_64_BIT_ALL USE_64_BIT_INT
                        USE_ITHREADS USE_LARGE_FILES USE_LOCALE
                        USE_LOCALE_COLLATE USE_LOCALE_CTYPE
                        USE_LOCALE_NUMERIC USE_LOCALE_TIME USE_PERLIO
                        USE_PERL_ATOF USE_REENTRANT_API
  Built under linux
  Compiled at Sep 10 2017 07:10:22
  %ENV:
    PERL5LIB="/home/cpansand/.cpan/build/2018012018/Devel-CheckBin-0.04-S39zhZ/blib/arch:/home/cpansand/.cpan/build/2018012018/Devel-CheckBin-0.04-S39zhZ/blib/lib"
    PERL5OPT=""
    PERL5_CPANPLUS_IS_RUNNING="20121"
    PERL5_CPAN_IS_RUNNING="20121"
    PERL5_CPAN_IS_RUNNING_IN_RECURSION="18981,20121"
    PERLDOC="-MPod::Perldoc::ToTextOverstrike"
    PERL_BATCH="yes"
    PERL_CANARY_STABILITY_NOPROMPT="1"
    PERL_CPAN_REPORTER_CONFIG="/var/tmp/cpansmoker-1023/2018012015/cpanreporter_001_config.ini"
    PERL_EXTUTILS_AUTOINSTALL="--defaultdeps"
  @INC:
    /home/cpansand/.cpan/build/2018012018/Devel-CheckBin-0.04-S39zhZ/blib/arch
    /home/cpansand/.cpan/build/2018012018/Devel-CheckBin-0.04-S39zhZ/blib/lib
    /opt/perl-5.24.2t/lib/site_perl/5.24.2/x86_64-linux-thread-multi
    /opt/perl-5.24.2t/lib/site_perl/5.24.2
    /opt/perl-5.24.2t/lib/5.24.2/x86_64-linux-thread-multi
    /opt/perl-5.24.2t/lib/5.24.2
    .