Report for Apache-ASP-2.61

Back
From: metabase:user:30977d10-2aae-11df-837a-5e0a49663a4f
Subject: PASS Apache-ASP-2.61 v5.8.9 GNU/Linux
Date: 2011-08-02T15:09:43Z

This distribution has been tested as part of the CPAN Testers
project, supporting the Perl programming language.  See
http://wiki.cpantesters.org/ for more information or email
questions to cpan-testers-discuss@perl.org


--
Dear Joshua Chamas,

This is a computer-generated report for Apache-ASP-2.61
on perl 5.8.9, created by CPAN-Reporter-1.1902.

Thank you for uploading your work to CPAN.  Congratulations!
All tests were successful.

Sections of this report:

    * Tester comments
    * Program output
    * Prerequisites
    * Environment and other context

------------------------------
TESTER COMMENTS
------------------------------

Additional comments from tester:

this report is from an automated smoke testing program
and was not reviewed by a human for accuracy

------------------------------
PROGRAM OUTPUT
------------------------------

Output from '/usr/bin/make test':

PERL_DL_NONLAZY=1 /home/trushel/perl/perl589th/bin/perl "-MExtUtils::Command::MM" "-e" "test_harness(0, 'blib/lib', 'blib/arch')" t/*.t
t/application.t .......... ok
t/asp-perl1.t ............ ok
t/asp-perl2.t ............ ok
t/asp_object.t ........... ok
t/cache.t ................ ok
t/cgi_headers.t .......... ok
t/closure.t .............. ok
t/collection.t ........... ok
t/collectionitem.t ....... ok
t/cookies.t .............. ok
t/end.t .................. ok
t/general.t .............. ok
t/global_event_end.t ..... ok
t/include.t .............. ok
t/include_change.t ....... ok
t/include_dir_error.t .... ok
t/include_runtime.t ...... ok
t/inode_names.t .......... ok
t/load.t ................. ok
t/long_names.t ........... ok
t/loops.t ................ ok
t/mail_error.t ........... ok
t/no_cache.t ............. ok
t/raw.t .................. ok
t/raw_include.t .......... ok
t/reload_global_asa.t .... ok
t/req_params_none.t ...... ok
t/request.t .............. ok
t/response.t ............. ok
t/response_end.t ......... ok
t/same_name.t ............ ok
t/server.t ............... ok
t/server_mail.t .......... ok
t/server_transfer.t ...... ok
t/session.t .............. ok
t/session_events.t ....... ok
t/session_query_parse.t .. ok
t/session_serialize.t .... ok
t/share.t ................ ok
t/stat_inc.t ............. ok
t/strict_error.t ......... ok
t/taint_check.t .......... ok
t/unique_packages.t ...... ok
t/xmlsubs.t .............. ok
t/xmlsubs_aspargs.t ...... ok
t/xmlsubs_perlargs.t ..... ok
t/xmlsubsmatch.t ......... ok
All tests successful.
Files=47, Tests=341,  8 wallclock secs ( 0.16 usr  0.08 sys +  2.75 cusr  0.63 csys =  3.62 CPU)
Result: PASS

------------------------------
PREREQUISITES
------------------------------

Prerequisite modules loaded:

requires:

    Module              Need Have 
    ------------------- ---- -----
    Carp                0    1.10 
    Class::Struct       0    0.63 
    Data::Dumper        0    2.131
    Digest::MD5         0    2.37 
    Fcntl               0    1.06 
    File::Basename      0    2.77 
    MLDBM               0    2.04 
    MLDBM::Sync         0    0.30 
    SDBM_File           0    1.06 

build_requires:

    Module              Need Have 
    ------------------- ---- -----
    ExtUtils::MakeMaker 0    6.58 


------------------------------
ENVIRONMENT AND OTHER CONTEXT
------------------------------

Environment variables:

    AUTOMATED_TESTING = 1
    LANG = en_US.UTF-8
    LANGUAGE = en
    LC_COLLATE = C
    LC_MONETARY = C
    LC_NUMERIC = C
    LC_TIME = C
    PATH = /usr/local/sbin:/usr/local/bin:/usr/sbin:/usr/bin:/sbin:/bin
    PERL5LIB = 
    PERL5OPT = 
    PERL5_CPANPLUS_IS_RUNNING = 7725
    PERL5_CPAN_IS_RUNNING = 7725
    PERL5_CPAN_IS_RUNNING_IN_RECURSION = 22238,7725
    PERL_CR_SMOKER_CURRENT = PowerTools-Upload-Blob-0.03
    PERL_EXTUTILS_AUTOINSTALL = --defaultdeps
    PERL_MM_USE_DEFAULT = 1
    SHELL = /bin/bash
    TERM = xterm

Perl special variables (and OS-specific diagnostics, for MSWin32):

    $^X = /home/trushel/perl/perl589th/bin/perl
    $UID/$EUID = 138375 / 138375
    $GID = 5762 4 20 21 24 25 26 30 44 46 104 105 119 122 431 5762
    $EGID = 5762 4 20 21 24 25 26 30 44 46 104 105 119 122 431 5762

Perl module toolchain versions installed:

    Module              Have    
    ------------------- --------
    CPAN                1.97_51 
    Cwd                 3.33    
    ExtUtils::CBuilder  0.280202
    ExtUtils::Command   1.16    
    ExtUtils::Install   1.52    
    ExtUtils::MakeMaker 6.58    
    ExtUtils::Manifest  1.58    
    ExtUtils::ParseXS   2.2206  
    File::Spec          3.33    
    Module::Build       0.3800  
    Module::Signature   n/a     
    Test::Harness       3.23    
    Test::More          0.98    
    YAML                0.73    
    YAML::Syck          1.17    
    version             0.93    


--

Summary of my perl5 (revision 5 version 8 subversion 9) configuration:
  Platform:
    osname=linux, osvers=2.6.32-33-generic, archname=x86_64-linux-thread-multi
    uname='linux trushel-glaptop 2.6.32-33-generic #70-ubuntu smp thu jul 7 21:13:52 utc 2011 x86_64 gnulinux '
    config_args=''
    hint=recommended, useposix=true, d_sigaction=define
    usethreads=define use5005threads=undef useithreads=define usemultiplicity=define
    useperlio=define d_sfio=undef uselargefiles=define usesocks=undef
    use64bitint=define use64bitall=define uselongdouble=undef
    usemymalloc=n, bincompat5005=undef
  Compiler:
    cc='cc', ccflags ='-D_REENTRANT -D_GNU_SOURCE -DTHREADS_HAVE_PIDS -fno-strict-aliasing -pipe -I/usr/local/include -D_LARGEFILE_SOURCE -D_FILE_OFFSET_BITS=64',
    optimize='-O2',
    cppflags='-D_REENTRANT -D_GNU_SOURCE -DTHREADS_HAVE_PIDS -fno-strict-aliasing -pipe -I/usr/local/include'
    ccversion='', gccversion='4.4.3', gccosandvers=''
    intsize=4, longsize=8, ptrsize=8, doublesize=8, byteorder=12345678
    d_longlong=define, longlongsize=8, d_longdbl=define, longdblsize=16
    ivtype='long', ivsize=8, nvtype='double', nvsize=8, Off_t='off_t', lseeksize=8
    alignbytes=8, prototype=define
  Linker and Libraries:
    ld='cc', ldflags =' -L/usr/local/lib'
    libpth=/usr/local/lib /lib /usr/lib /lib64 /usr/lib64
    libs=-lnsl -ldb -ldl -lm -lcrypt -lutil -lpthread -lc
    perllibs=-lnsl -ldl -lm -lcrypt -lutil -lpthread -lc
    libc=/lib/libc-2.11.1.so, so=so, useshrplib=false, libperl=libperl.a
    gnulibc_version='2.11.1'
  Dynamic Linking:
    dlsrc=dl_dlopen.xs, dlext=so, d_dlsymun=undef, ccdlflags='-Wl,-E'
    cccdlflags='-fPIC', lddlflags='-shared -O2 -L/usr/local/lib'


Characteristics of this binary (from libperl): 
  Compile-time options: MULTIPLICITY PERL_IMPLICIT_CONTEXT PERL_MALLOC_WRAP
                        THREADS_HAVE_PIDS USE_64_BIT_ALL USE_64_BIT_INT
                        USE_FAST_STDIO USE_ITHREADS USE_LARGE_FILES
                        USE_PERLIO USE_REENTRANT_API
  Built under linux
  Compiled at Aug  1 2011 07:25:20
  %ENV:
    PERL5LIB=""
    PERL5OPT=""
    PERL5_CPANPLUS_IS_RUNNING="7725"
    PERL5_CPAN_IS_RUNNING="7725"
    PERL5_CPAN_IS_RUNNING_IN_RECURSION="22238,7725"
    PERL_CR_SMOKER_CURRENT="PowerTools-Upload-Blob-0.03"
    PERL_EXTUTILS_AUTOINSTALL="--defaultdeps"
    PERL_MM_USE_DEFAULT="1"
  @INC:
    /home/trushel/perl/perl589th/lib/5.8.9/x86_64-linux-thread-multi
    /home/trushel/perl/perl589th/lib/5.8.9
    /home/trushel/perl/perl589th/lib/site_perl/5.8.9/x86_64-linux-thread-multi
    /home/trushel/perl/perl589th/lib/site_perl/5.8.9
    .