Module-Metadata v1.000033 Perl 5 v5.27.6 MSWin32-x86-multi-thread-64int

Status
Pass
From
Alexandr Ciornii (CHORNY)
Dist
Module-Metadata v1.000033
Platform
Perl 5 v5.27.6 MSWin32-x86-multi-thread-64int
Date
2018-02-11 23:44:01
ID
73a69eb2-6cdf-1014-8da5-4e4b2bca6ee2
This distribution has been tested as part of the CPAN Testers
project, supporting the Perl programming language.  See
http://wiki.cpantesters.org/ for more information or email
questions to cpan-testers-discuss@perl.org


--
Dear Karen Etheridge,

This is a computer-generated report for Module-Metadata-1.000033
on perl 5.27.6, created by CPAN-Reporter-1.2018.

Thank you for uploading your work to CPAN.  Congratulations!
All tests were successful.

Sections of this report:

    * Tester comments
    * Program output
    * Prerequisites
    * Environment and other context

------------------------------
TESTER COMMENTS
------------------------------

Additional comments from tester:

this report is from an automated smoke testing program
and was not reviewed by a human for accuracy

------------------------------
PROGRAM OUTPUT
------------------------------

Output from 'C:\STRAWB~1\c\bin\gmake.exe test':

"C:\Strawberry276\perl\bin\perl.exe" "-MExtUtils::Command::MM" "-MTest::Harness" "-e" "undef *Test::Harness::Switches; test_harness(0, 'blib\lib', 'blib\arch')" t/*.t
# 
# Versions for all modules listed in MYMETA.json (including optional ones):
# 
# === Configure Requires ===
# 
#     Module              Want Have
#     ------------------- ---- ----
#     ExtUtils::MakeMaker  any 7.30
# 
# === Build Requires ===
# 
#     Module              Want Have
#     ------------------- ---- ----
#     ExtUtils::MakeMaker  any 7.30
# 
# === Test Requires ===
# 
#     Module              Want     Have
#     ------------------- ---- --------
#     Cwd                  any     3.70
#     Exporter             any     5.72
#     ExtUtils::MakeMaker  any     7.30
#     File::Basename       any     2.85
#     File::Path           any     2.15
#     File::Spec           any     3.69
#     File::Temp           any   0.2304
#     IO::File             any     1.16
#     Test::More          0.82 1.302120
#     base                 any     2.27
#     lib                  any     0.64
# 
# === Test Recommends ===
# 
#     Module         Want     Have
#     ---------- -------- --------
#     CPAN::Meta 2.120900 2.150010
# 
# === Runtime Requires ===
# 
#     Module     Want   Have
#     ---------- ---- ------
#     Carp        any   1.44
#     Fcntl       any   1.13
#     File::Find  any   1.34
#     File::Spec  any   3.69
#     strict      any   1.11
#     version    0.87 0.9918
#     warnings    any   1.38
# 
# === Other Modules ===
# 
#     Module        Have
#     ------------- ----
#     Pod::Coverage 0.23
# 
t/00-report-prereqs.t .. ok
t/contains_pod.t ....... ok
t/encoding.t ........... ok
t/endpod.t ............. ok
# Got: '_private'
# Module contents:
# package _private;
# $::VERSION = 0.01;
# $VERSION = '999';
# Got: '_private'
# Module contents:
# package _private;
# $VERSION = '999';
# $::VERSION = 0.01;
t/extract-package.t .... ok
# parsed module: bless( {
#   'collect_pod' => undef,
#   'filename' => 'C:\\DOCUME~1\\a\\LOCALS~1\\Temp\\MMD-zCmbjVcv\\Simple51\\Simple.pm',
#   'inc' => undef,
#   'module' => 'Simple',
#   'packages' => [
#     'Simple'
#   ],
#   'pod' => {},
#   'pod_headings' => [],
#   'version' => bless( {
#     'original' => '0',
#     'version' => [
#       0
#     ]
#   }, 'version' ),
#   'versions' => {
#     'Simple' => $VAR1->{'version'}
#   }
# }, 'Module::Metadata' )
# parsed module: bless( {
#   'collect_pod' => undef,
#   'filename' => 'C:\\DOCUME~1\\a\\LOCALS~1\\Temp\\MMD-zCmbjVcv\\Simple52\\Simple.pm',
#   'inc' => undef,
#   'module' => 'Simple',
#   'packages' => [
#     'main',
#     'Simple'
#   ],
#   'pod' => {},
#   'pod_headings' => [],
#   'version' => bless( {
#     'original' => '0',
#     'version' => [
#       0
#     ]
#   }, 'version' ),
#   'versions' => {
#     'Simple' => $VAR1->{'version'},
#     'main' => ''
#   }
# }, 'Module::Metadata' )
# parsed module: bless( {
#   'collect_pod' => undef,
#   'filename' => 'C:\\DOCUME~1\\a\\LOCALS~1\\Temp\\MMD-zCmbjVcv\\Simple54\\Simple.pm',
#   'inc' => undef,
#   'module' => undef,
#   'packages' => [
#     'main'
#   ],
#   'pod' => {},
#   'pod_headings' => [],
#   'version' => undef,
#   'versions' => {
#     'main' => bless( {
#       'original' => '1.23',
#       'version' => [
#         1,
#         230
#       ]
#     }, 'version' )
#   }
# }, 'Module::Metadata' )
# parsed module: bless( {
#   'collect_pod' => undef,
#   'filename' => 'C:\\DOCUME~1\\a\\LOCALS~1\\Temp\\MMD-zCmbjVcv\\Simple55\\Simple.pm',
#   'inc' => undef,
#   'module' => undef,
#   'packages' => [
#     'main'
#   ],
#   'pod' => {},
#   'pod_headings' => [],
#   'version' => undef,
#   'versions' => {
#     'main' => bless( {
#       'original' => '1.23',
#       'version' => [
#         1,
#         230
#       ]
#     }, 'version' )
#   }
# }, 'Module::Metadata' )
t/extract-version.t .... ok
t/metadata.t ........... ok
t/taint.t .............. ok
t/version.t ............ ok
All tests successful.
Files=9, Tests=348,  3 wallclock secs ( 0.17 usr +  0.03 sys =  0.20 CPU)
Result: PASS

------------------------------
PREREQUISITES
------------------------------

Prerequisite modules loaded:

requires:

    Module              Need  Have    
    ------------------- ----- --------
    Carp                0     1.44    
    Fcntl               0     1.13    
    File::Find          0     1.34    
    File::Spec          0     3.69    
    perl                5.006 5.027006
    strict              0     1.11    
    version             0.87  0.9918  
    warnings            0     1.38    

build_requires:

    Module              Need  Have    
    ------------------- ----- --------
    base                0     2.27    
    Cwd                 0     3.70    
    Exporter            0     5.72    
    ExtUtils::MakeMaker 0     7.30    
    File::Basename      0     2.85    
    File::Path          0     2.15    
    File::Spec          0     3.69    
    File::Temp          0     0.2304  
    IO::File            0     1.16    
    lib                 0     0.64    
    Test::More          0.82  1.302120

configure_requires:

    Module              Need  Have    
    ------------------- ----- --------
    ExtUtils::MakeMaker 0     7.30    
    perl                5.006 5.027006


------------------------------
ENVIRONMENT AND OTHER CONTEXT
------------------------------

Environment variables:

    AUTOMATED_TESTING = 1
    COMSPEC = C:\WINDOWS\system32\cmd.exe
    NUMBER_OF_PROCESSORS = 1
    PATH = C:\WINDOWS\system32;C:\WINDOWS;C:\WINDOWS\System32\Wbem;C:\Git\cmd;C:\Strawberry276\c\bin;C:\Strawberry276\perl\site\bin;C:\Strawberry276\perl\bin
    PERL5LIB = 
    PERL5OPT = 
    PERL5_CPANPLUS_IS_RUNNING = 221364
    PERL5_CPAN_IS_RUNNING = 221364
    PERL5_CPAN_IS_RUNNING_IN_RECURSION = 180628,221364
    PERL_CR_SMOKER_CURRENT = Module-Metadata-1.000033
    PERL_CR_SMOKER_RUNONCE = 1
    PERL_EXTUTILS_AUTOINSTALL = --defaultdeps
    PERL_MM_USE_DEFAULT = 1
    PERL_USE_UNSAFE_INC = 1
    PROCESSOR_IDENTIFIER = x86 Family 18 Model 1 Stepping 0, AuthenticAMD
    TEMP = C:\DOCUME~1\a\LOCALS~1\Temp

Perl special variables (and OS-specific diagnostics, for MSWin32):

    $^X = C:\Strawberry276\perl\bin\perl.exe
    $UID/$EUID = 0 / 0
    $GID = 0
    $EGID = 0
    Win32::GetOSName = WinXP/.Net
    Win32::GetOSVersion = Service Pack 3, 5, 1, 2600, 2, 3, 0, 256, 1
    Win32::FsType = NTFS
    Win32::IsAdminUser = 1

Perl module toolchain versions installed:

    Module              Have    
    ------------------- --------
    CPAN                2.18    
    CPAN::Meta          2.150010
    Cwd                 3.70    
    ExtUtils::CBuilder  0.280230
    ExtUtils::Command   7.30    
    ExtUtils::Install   2.14    
    ExtUtils::MakeMaker 7.30    
    ExtUtils::Manifest  1.70    
    ExtUtils::ParseXS   3.36    
    File::Spec          3.69    
    JSON                2.97001 
    JSON::PP            2.97001 
    Module::Build       0.4224  
    Module::Signature   0.81    
    Parse::CPAN::Meta   2.150010
    Test::Harness       3.39    
    Test::More          1.302120
    YAML                1.24    
    YAML::Syck          1.30    
    version             0.9918  


--

Summary of my perl5 (revision 5 version 27 subversion 6) configuration:
   
  Platform:
    osname=MSWin32
    osvers=5.1.2600
    archname=MSWin32-x86-multi-thread-64int
    uname='Win32 strawberry-perl 5.27.6.1-beta1 #1 Fri Jan 26 07:14:15 2018 i386'
    config_args='undef'
    hint=recommended
    useposix=true
    d_sigaction=undef
    useithreads=define
    usemultiplicity=define
    use64bitint=define
    use64bitall=undef
    uselongdouble=undef
    usemymalloc=n
    default_inc_excludes_dot=define
    bincompat5005=undef
  Compiler:
    cc='gcc'
    ccflags =' -s -O2 -DWIN32 -D__USE_MINGW_ANSI_STDIO -DPERL_TEXTMODE_SCRIPTS -DPERL_IMPLICIT_CONTEXT -DPERL_IMPLICIT_SYS -DUSE_PERLIO -fwrapv -fno-strict-aliasing -mms-bitfields'
    optimize='-s -O2'
    cppflags='-DWIN32'
    ccversion=''
    gccversion='7.1.0'
    gccosandvers=''
    intsize=4
    longsize=4
    ptrsize=4
    doublesize=8
    byteorder=12345678
    doublekind=3
    d_longlong=define
    longlongsize=8
    d_longdbl=define
    longdblsize=12
    longdblkind=3
    ivtype='long long'
    ivsize=8
    nvtype='double'
    nvsize=8
    Off_t='long long'
    lseeksize=8
    alignbytes=8
    prototype=define
  Linker and Libraries:
    ld='g++'
    ldflags ='-s -L"C:\STRAWB~1\perl\lib\CORE" -L"C:\STRAWB~1\c\lib"'
    libpth=C:\STRAWB~1\c\lib C:\STRAWB~1\c\i686-w64-mingw32\lib C:\STRAWB~1\c\lib\gcc\i686-w64-mingw32\7.1.0
    libs= -lmoldname -lkernel32 -luser32 -lgdi32 -lwinspool -lcomdlg32 -ladvapi32 -lshell32 -lole32 -loleaut32 -lnetapi32 -luuid -lws2_32 -lmpr -lwinmm -lversion -lodbc32 -lodbccp32 -lcomctl32
    perllibs= -lmoldname -lkernel32 -luser32 -lgdi32 -lwinspool -lcomdlg32 -ladvapi32 -lshell32 -lole32 -loleaut32 -lnetapi32 -luuid -lws2_32 -lmpr -lwinmm -lversion -lodbc32 -lodbccp32 -lcomctl32
    libc=
    so=dll
    useshrplib=true
    libperl=libperl527.a
    gnulibc_version=''
  Dynamic Linking:
    dlsrc=dl_win32.xs
    dlext=xs.dll
    d_dlsymun=undef
    ccdlflags=' '
    cccdlflags=' '
    lddlflags='-mdll -s -L"C:\STRAWB~1\perl\lib\CORE" -L"C:\STRAWB~1\c\lib"'


Characteristics of this binary (from libperl): 
  Compile-time options:
    HAS_TIMES
    HAVE_INTERP_INTERN
    MULTIPLICITY
    PERLIO_LAYERS
    PERL_COPY_ON_WRITE
    PERL_DONT_CREATE_GVSV
    PERL_IMPLICIT_CONTEXT
    PERL_IMPLICIT_SYS
    PERL_MALLOC_WRAP
    PERL_OP_PARENT
    PERL_PRESERVE_IVUV
    USE_64_BIT_INT
    USE_ITHREADS
    USE_LARGE_FILES
    USE_LOCALE
    USE_LOCALE_COLLATE
    USE_LOCALE_CTYPE
    USE_LOCALE_NUMERIC
    USE_LOCALE_TIME
    USE_PERLIO
    USE_PERL_ATOF
  Built under MSWin32
  Compiled at Jan 26 2018 07:24:09
  %ENV:
    PERL5_CPANPLUS_IS_RUNNING="221364"
    PERL5_CPAN_IS_RUNNING="221364"
    PERL5_CPAN_IS_RUNNING_IN_RECURSION="180628,221364"
    PERL_CR_SMOKER_CURRENT="Module-Metadata-1.000033"
    PERL_CR_SMOKER_RUNONCE="1"
    PERL_EXTUTILS_AUTOINSTALL="--defaultdeps"
    PERL_MM_USE_DEFAULT="1"
    PERL_USE_UNSAFE_INC="1"
  @INC:
    C:/Strawberry276/perl/site/lib
    C:/Strawberry276/perl/vendor/lib
    C:/Strawberry276/perl/lib
    .