Report for POE-Loop-Glib-0.038

Back
From: metabase:user:0d96120c-29e2-11e5-b049-ede3035d37de
Subject: PASS POE-Loop-Glib-0.038 v5.18.4 GNU/Linux
Date: 2015-07-23T04:15:29Z

This distribution has been tested as part of the CPAN Testers
project, supporting the Perl programming language.  See
http://wiki.cpantesters.org/ for more information or email
questions to cpan-testers-discuss@perl.org


--
Dear Apocalypse,

This is a computer-generated report for POE-Loop-Glib-0.038
on perl 5.18.4, created by CPAN-Reporter-1.2014.

Thank you for uploading your work to CPAN.  Congratulations!
All tests were successful.

Sections of this report:

    * Tester comments
    * Program output
    * Prerequisites
    * Environment and other context

------------------------------
TESTER COMMENTS
------------------------------

Additional comments from tester:

this report is from an automated smoke testing program
and was not reviewed by a human for accuracy

------------------------------
PROGRAM OUTPUT
------------------------------

Output from './Build test':

t/1_load.t ............................. ok
t/apocalypse.t ......................... skipped: Test::Apocalypse required for validating the distribution
# Testing POE 1.367, POE::Test::Loops 1.360, Using Loop(POE::Loop::Glib), Perl 5.018004, /data/perl5/perlbrew/perls/perl-5.18.4-thread-multi-ld/bin/perl on linux
t/glib/00_info.t ....................... ok
t/glib/all_errors.t .................... skipped: most of these should move into other test files
GLib-CRITICAL **: Source ID 4 was not found when attempting to remove it at /data/.cpan/build/POE-Loop-Glib-0.038-RsLSZH/blib/lib/POE/Loop/Glib.pm line 53.
GLib-CRITICAL **: Source ID 10 was not found when attempting to remove it at /data/.cpan/build/POE-Loop-Glib-0.038-RsLSZH/blib/lib/POE/Loop/Glib.pm line 53.
t/glib/comp_tcp.t ...................... ok
# You might see a 'disconnect' error during this test.
# It may be ignored.
GLib-CRITICAL **: Source ID 4 was not found when attempting to remove it at /data/.cpan/build/POE-Loop-Glib-0.038-RsLSZH/blib/lib/POE/Loop/Glib.pm line 53.
GLib-CRITICAL **: Source ID 26 was not found when attempting to remove it at /data/.cpan/build/POE-Loop-Glib-0.038-RsLSZH/blib/lib/POE/Loop/Glib.pm line 53.
GLib-CRITICAL **: Source ID 87 was not found when attempting to remove it at /data/.cpan/build/POE-Loop-Glib-0.038-RsLSZH/blib/lib/POE/Loop/Glib.pm line 53.
GLib-CRITICAL **: Source ID 94 was not found when attempting to remove it at /data/.cpan/build/POE-Loop-Glib-0.038-RsLSZH/blib/lib/POE/Loop/Glib.pm line 53.
GLib-CRITICAL **: Source ID 96 was not found when attempting to remove it at /data/.cpan/build/POE-Loop-Glib-0.038-RsLSZH/blib/lib/POE/Loop/Glib.pm line 53.
GLib-CRITICAL **: Source ID 99 was not found when attempting to remove it at /data/.cpan/build/POE-Loop-Glib-0.038-RsLSZH/blib/lib/POE/Loop/Glib.pm line 53.
GLib-CRITICAL **: Source ID 110 was not found when attempting to remove it at /data/.cpan/build/POE-Loop-Glib-0.038-RsLSZH/blib/lib/POE/Loop/Glib.pm line 53.
GLib-CRITICAL **: Source ID 115 was not found when attempting to remove it at /data/.cpan/build/POE-Loop-Glib-0.038-RsLSZH/blib/lib/POE/Loop/Glib.pm line 53.
GLib-CRITICAL **: Source ID 119 was not found when attempting to remove it at /data/.cpan/build/POE-Loop-Glib-0.038-RsLSZH/blib/lib/POE/Loop/Glib.pm line 53.
GLib-CRITICAL **: Source ID 127 was not found when attempting to remove it at /data/.cpan/build/POE-Loop-Glib-0.038-RsLSZH/blib/lib/POE/Loop/Glib.pm line 53.
GLib-CRITICAL **: Source ID 129 was not found when attempting to remove it at /data/.cpan/build/POE-Loop-Glib-0.038-RsLSZH/blib/lib/POE/Loop/Glib.pm line 53.
GLib-CRITICAL **: Source ID 131 was not found when attempting to remove it at /data/.cpan/build/POE-Loop-Glib-0.038-RsLSZH/blib/lib/POE/Loop/Glib.pm line 53.
GLib-CRITICAL **: Source ID 135 was not found when attempting to remove it at /data/.cpan/build/POE-Loop-Glib-0.038-RsLSZH/blib/lib/POE/Loop/Glib.pm line 53.
GLib-CRITICAL **: Source ID 136 was not found when attempting to remove it at /data/.cpan/build/POE-Loop-Glib-0.038-RsLSZH/blib/lib/POE/Loop/Glib.pm line 53.
GLib-CRITICAL **: Source ID 140 was not found when attempting to remove it at /data/.cpan/build/POE-Loop-Glib-0.038-RsLSZH/blib/lib/POE/Loop/Glib.pm line 53.
GLib-CRITICAL **: Source ID 142 was not found when attempting to remove it at /data/.cpan/build/POE-Loop-Glib-0.038-RsLSZH/blib/lib/POE/Loop/Glib.pm line 53.
GLib-CRITICAL **: Source ID 143 was not found when attempting to remove it at /data/.cpan/build/POE-Loop-Glib-0.038-RsLSZH/blib/lib/POE/Loop/Glib.pm line 53.
GLib-CRITICAL **: Source ID 147 was not found when attempting to remove it at /data/.cpan/build/POE-Loop-Glib-0.038-RsLSZH/blib/lib/POE/Loop/Glib.pm line 53.
GLib-CRITICAL **: Source ID 149 was not found when attempting to remove it at /data/.cpan/build/POE-Loop-Glib-0.038-RsLSZH/blib/lib/POE/Loop/Glib.pm line 53.
GLib-CRITICAL **: Source ID 150 was not found when attempting to remove it at /data/.cpan/build/POE-Loop-Glib-0.038-RsLSZH/blib/lib/POE/Loop/Glib.pm line 53.
GLib-CRITICAL **: Source ID 154 was not found when attempting to remove it at /data/.cpan/build/POE-Loop-Glib-0.038-RsLSZH/blib/lib/POE/Loop/Glib.pm line 53.
GLib-CRITICAL **: Source ID 156 was not found when attempting to remove it at /data/.cpan/build/POE-Loop-Glib-0.038-RsLSZH/blib/lib/POE/Loop/Glib.pm line 53.
GLib-CRITICAL **: Source ID 157 was not found when attempting to remove it at /data/.cpan/build/POE-Loop-Glib-0.038-RsLSZH/blib/lib/POE/Loop/Glib.pm line 53.
GLib-CRITICAL **: Source ID 161 was not found when attempting to remove it at /data/.cpan/build/POE-Loop-Glib-0.038-RsLSZH/blib/lib/POE/Loop/Glib.pm line 53.
GLib-CRITICAL **: Source ID 163 was not found when attempting to remove it at /data/.cpan/build/POE-Loop-Glib-0.038-RsLSZH/blib/lib/POE/Loop/Glib.pm line 53.
GLib-CRITICAL **: Source ID 164 was not found when attempting to remove it at /data/.cpan/build/POE-Loop-Glib-0.038-RsLSZH/blib/lib/POE/Loop/Glib.pm line 53.
GLib-CRITICAL **: Source ID 168 was not found when attempting to remove it at /data/.cpan/build/POE-Loop-Glib-0.038-RsLSZH/blib/lib/POE/Loop/Glib.pm line 53.
GLib-CRITICAL **: Source ID 171 was not found when attempting to remove it at /data/.cpan/build/POE-Loop-Glib-0.038-RsLSZH/blib/lib/POE/Loop/Glib.pm line 53.
t/glib/comp_tcp_concurrent.t ........... ok
t/glib/connect_errors.t ................ ok
t/glib/k_alarms.t ...................... ok
t/glib/k_aliases.t ..................... ok
t/glib/k_detach.t ...................... ok
t/glib/k_run_returns.t ................. ok
GLib-CRITICAL **: Source ID 6 was not found when attempting to remove it at /data/.cpan/build/POE-Loop-Glib-0.038-RsLSZH/blib/lib/POE/Loop/Glib.pm line 53.
GLib-CRITICAL **: Source ID 173 was not found when attempting to remove it at /data/.cpan/build/POE-Loop-Glib-0.038-RsLSZH/blib/lib/POE/Loop/Glib.pm line 53.
t/glib/k_selects.t ..................... ok
t/glib/k_sig_child.t ................... ok
t/glib/k_signals.t ..................... ok
GLib-CRITICAL **: Source ID 3 was not found when attempting to remove it at /data/.cpan/build/POE-Loop-Glib-0.038-RsLSZH/blib/lib/POE/Loop/Glib.pm line 53.
GLib-CRITICAL **: Source ID 14 was not found when attempting to remove it at /data/.cpan/build/POE-Loop-Glib-0.038-RsLSZH/blib/lib/POE/Loop/Glib.pm line 53.
GLib-CRITICAL **: Source ID 25 was not found when attempting to remove it at /data/.cpan/build/POE-Loop-Glib-0.038-RsLSZH/blib/lib/POE/Loop/Glib.pm line 53.
GLib-CRITICAL **: Source ID 36 was not found when attempting to remove it at /data/.cpan/build/POE-Loop-Glib-0.038-RsLSZH/blib/lib/POE/Loop/Glib.pm line 53.
GLib-CRITICAL **: Source ID 47 was not found when attempting to remove it at /data/.cpan/build/POE-Loop-Glib-0.038-RsLSZH/blib/lib/POE/Loop/Glib.pm line 53.
GLib-CRITICAL **: Source ID 58 was not found when attempting to remove it at /data/.cpan/build/POE-Loop-Glib-0.038-RsLSZH/blib/lib/POE/Loop/Glib.pm line 53.
GLib-CRITICAL **: Source ID 69 was not found when attempting to remove it at /data/.cpan/build/POE-Loop-Glib-0.038-RsLSZH/blib/lib/POE/Loop/Glib.pm line 53.
GLib-CRITICAL **: Source ID 80 was not found when attempting to remove it at /data/.cpan/build/POE-Loop-Glib-0.038-RsLSZH/blib/lib/POE/Loop/Glib.pm line 53.
t/glib/k_signals_rerun.t ............... ok
t/glib/sbk_signal_init.t ............... ok
t/glib/ses_nfa.t ....................... ok
# This test generates some STDERR during trace testing.
=== 29515 === 23 -> _start (from /home/perltest/.cpan/build/POE-1.367-wXBsIx/blib/lib/POE/Kernel.pm at 1497)
=== 29515 === 23 -> woot (from /home/perltest/.cpan/build/POE-Test-Loops-1.360-FwEqyo/blib/lib/POE/Test/Loops/ses_session.pm at 691)
=== 29515 === 23 -> narf (from /home/perltest/.cpan/build/POE-Test-Loops-1.360-FwEqyo/blib/lib/POE/Test/Loops/ses_session.pm at 692)
=== 29515 === 23 -> _stop (from /home/perltest/.cpan/build/POE-1.367-wXBsIx/blib/lib/POE/Resource/Sessions.pm at 571)
t/glib/ses_session.t ................... ok
t/glib/wheel_accept.t .................. ok
t/glib/wheel_curses.t .................. skipped: Curses not available
t/glib/wheel_readline.t ................ ok
GLib-CRITICAL **: Source ID 82 was not found when attempting to remove it at /data/.cpan/build/POE-Loop-Glib-0.038-RsLSZH/blib/lib/POE/Loop/Glib.pm line 53.
t/glib/wheel_readwrite.t ............... ok
t/glib/wheel_run.t ..................... ok
t/glib/wheel_run_size.t ................ skipped: This test requires Term::Size
t/glib/wheel_sf_ipv6.t ................. skipped: Socket::GetAddrInfo is needed for IPv6 tests
GLib-CRITICAL **: Source ID 4 was not found when attempting to remove it at /data/.cpan/build/POE-Loop-Glib-0.038-RsLSZH/blib/lib/POE/Loop/Glib.pm line 53.
t/glib/wheel_sf_tcp.t .................. ok
t/glib/wheel_sf_udp.t .................. ok
GLib-CRITICAL **: Source ID 4 was not found when attempting to remove it at /data/.cpan/build/POE-Loop-Glib-0.038-RsLSZH/blib/lib/POE/Loop/Glib.pm line 53.
t/glib/wheel_sf_unix.t ................. ok
t/glib/wheel_tail.t .................... ok
t/glib/z_kogman_sig_order.t ............ ok
t/glib/z_leolo_wheel_run.t ............. ok
# Using '/bin/true' as our thing to run under system()
t/glib/z_merijn_sigchld_system.t ....... ok
GLib-CRITICAL **: Source ID 6 was not found when attempting to remove it at /data/.cpan/build/POE-Loop-Glib-0.038-RsLSZH/blib/lib/POE/Loop/Glib.pm line 53.
GLib-CRITICAL **: Source ID 78 was not found when attempting to remove it at /data/.cpan/build/POE-Loop-Glib-0.038-RsLSZH/blib/lib/POE/Loop/Glib.pm line 53.
t/glib/z_rt39872_sigchld.t ............. ok
# Parent 31237 waiting 3sec for slow systems to settle.
# sending sigusr1
# sent sigusr1
31248: GLib-CRITICAL **: Source ID 5 was not found when attempting to remove it at /data/.cpan/build/POE-Loop-Glib-0.038-RsLSZH/blib/lib/POE/Loop/Glib.pm line 53.
31237: GLib-CRITICAL **: Source ID 8 was not found when attempting to remove it at /data/.cpan/build/POE-Loop-Glib-0.038-RsLSZH/blib/lib/POE/Loop/Glib.pm line 53.
31249: GLib-CRITICAL **: Source ID 5 was not found when attempting to remove it at /data/.cpan/build/POE-Loop-Glib-0.038-RsLSZH/blib/lib/POE/Loop/Glib.pm line 53.
31237: GLib-CRITICAL **: Source ID 13 was not found when attempting to remove it at /data/.cpan/build/POE-Loop-Glib-0.038-RsLSZH/blib/lib/POE/Loop/Glib.pm line 53.
t/glib/z_rt39872_sigchld_stop.t ........ ok
GLib-CRITICAL **: Source ID 14 was not found when attempting to remove it at /data/.cpan/build/POE-Loop-Glib-0.038-RsLSZH/blib/lib/POE/Loop/Glib.pm line 53.
GLib-CRITICAL **: Source ID 34 was not found when attempting to remove it at /data/.cpan/build/POE-Loop-Glib-0.038-RsLSZH/blib/lib/POE/Loop/Glib.pm line 53.
t/glib/z_rt53302_fh_watchers.t ......... ok
t/glib/z_rt54319_bazerka_followtail.t .. ok
t/glib/z_steinert_signal_integrity.t ... ok
All tests successful.
Files=37, Tests=487, 28 wallclock secs ( 0.15 usr  0.03 sys +  3.07 cusr  0.34 csys =  3.59 CPU)
Result: PASS

------------------------------
PREREQUISITES
------------------------------

Prerequisite modules loaded:

requires:

    Module           Need  Have    
    ---------------- ----- --------
    Glib             1.222 1.307   
    perl             5.006 5.018004
    POE              1.288 1.367   

configure_requires:

    Module           Need  Have    
    ---------------- ----- --------
    Module::Build    0.36  0.4214  
    POE::Test::Loops 1.034 1.360   


------------------------------
ENVIRONMENT AND OTHER CONTEXT
------------------------------

Environment variables:

    AUTOMATED_TESTING = 1
    LANG = en_US.UTF-8
    NONINTERACTIVE_TESTING = 1
    PATH = /home/perltest/sysperl/bin:/home/perltest/perl5/perlbrew/bin:/home/perltest/perl5/perlbrew/perls/perl-5.18.4-thread-multi-ld/bin:/home/perltest/perltest/bin:/home/perltest/perltest/bin:/home/perltest/perltest/bin:/home/perltest/perl5/perlbrew/bin:/home/perltest/perl5/perlbrew/perls/perl-5.23.0/bin:/usr/local/sbin:/usr/local/bin:/usr/sbin:/usr/bin:/sbin:/bin:/usr/games:/usr/local/games:/home/perltest/perltest/bin
    PERL5LIB = /home/perltest/.cpan/build/Glib-1.307-j7yJRG/blib/arch:/home/perltest/.cpan/build/Glib-1.307-j7yJRG/blib/lib:/home/perltest/.cpan/build/ExtUtils-PkgConfig-1.15-M3YfAT/blib/arch:/home/perltest/.cpan/build/ExtUtils-PkgConfig-1.15-M3YfAT/blib/lib:/home/perltest/.cpan/build/POE-1.367-wXBsIx/blib/arch:/home/perltest/.cpan/build/POE-1.367-wXBsIx/blib/lib:/home/perltest/.cpan/build/IO-Pipely-0.005-kLElen/blib/arch:/home/perltest/.cpan/build/IO-Pipely-0.005-kLElen/blib/lib:/home/perltest/.cpan/build/IO-Tty-1.12-MNGDeg/blib/arch:/home/perltest/.cpan/build/IO-Tty-1.12-MNGDeg/blib/lib:/home/perltest/.cpan/build/POE-Test-Loops-1.360-FwEqyo/blib/arch:/home/perltest/.cpan/build/POE-Test-Loops-1.360-FwEqyo/blib/lib:/home/perltest/sysperl/lib/perl5
    PERL5OPT = 
    PERL5_CPANPLUS_IS_RUNNING = 9389
    PERL5_CPAN_IS_RUNNING = 9389
    PERL5_CPAN_IS_RUNNING_IN_RECURSION = 3966,9389
    PERLBREW_BASHRC_VERSION = 0.73
    PERLBREW_HOME = /home/perltest/.perlbrew
    PERLBREW_LIB = 
    PERLBREW_MANPATH = /home/perltest/perl5/perlbrew/perls/perl-5.18.4-thread-multi-ld/man
    PERLBREW_PATH = /home/perltest/perl5/perlbrew/bin:/home/perltest/perl5/perlbrew/perls/perl-5.18.4-thread-multi-ld/bin
    PERLBREW_PERL = perl-5.18.4-thread-multi-ld
    PERLBREW_ROOT = /home/perltest/perl5/perlbrew
    PERLBREW_VERSION = 0.73
    PERL_CR_SMOKER_CURRENT = Glade2-Widget-0.1
    PERL_EXTUTILS_AUTOINSTALL = --defaultdeps
    PERL_LOCAL_LIB_ROOT = /home/perltest/sysperl:
    PERL_MB_OPT = --install_base "//home/perltest/sysperl"
    PERL_MM_OPT = INSTALL_BASE=/home/perltest/sysperl
    PERL_MM_USE_DEFAULT = 1
    SHELL = /bin/bash
    TERM = screen

Perl special variables (and OS-specific diagnostics, for MSWin32):

    $^X = /data/perl5/perlbrew/perls/perl-5.18.4-thread-multi-ld/bin/perl
    $UID/$EUID = 2000 / 2000
    $GID = 2000 2000
    $EGID = 2000 2000

Perl module toolchain versions installed:

    Module              Have    
    ------------------- --------
    CPAN                2.00    
    CPAN::Meta          2.150005
    Cwd                 3.40    
    ExtUtils::CBuilder  0.280210
    ExtUtils::Command   1.17    
    ExtUtils::Install   1.59    
    ExtUtils::MakeMaker 6.66    
    ExtUtils::Manifest  1.70    
    ExtUtils::ParseXS   3.18    
    File::Spec          3.40    
    JSON                2.90    
    JSON::PP            2.27202 
    Module::Build       0.4214  
    Module::Signature   n/a     
    Parse::CPAN::Meta   1.4417  
    Test::Harness       3.35    
    Test::More          1.001014
    YAML                1.15    
    YAML::Syck          n/a     
    version             0.9912  


--

Summary of my perl5 (revision 5 version 18 subversion 4) configuration:
   
  Platform:
    osname=linux, osvers=3.19.0-18-generic, archname=x86_64-linux-thread-multi-ld
    uname='linux perltest.antelope.net 3.19.0-18-generic #18-ubuntu smp tue may 19 18:31:35 utc 2015 x86_64 x86_64 x86_64 gnulinux '
    config_args='-de -Dprefix=/home/perltest/perl5/perlbrew/perls/perl-5.18.4-thread-multi-ld -Dusemultiplicity -Duselongdouble -Dusethreads -Aeval:scriptdir=/home/perltest/perl5/perlbrew/perls/perl-5.18.4-thread-multi-ld/bin'
    hint=recommended, useposix=true, d_sigaction=define
    useithreads=define, usemultiplicity=define
    useperlio=define, d_sfio=undef, uselargefiles=define, usesocks=undef
    use64bitint=define, use64bitall=define, uselongdouble=define
    usemymalloc=n, bincompat5005=undef
  Compiler:
    cc='cc', ccflags ='-D_REENTRANT -D_GNU_SOURCE -fno-strict-aliasing -pipe -fstack-protector -I/usr/local/include -D_LARGEFILE_SOURCE -D_FILE_OFFSET_BITS=64',
    optimize='-O2',
    cppflags='-D_REENTRANT -D_GNU_SOURCE -fno-strict-aliasing -pipe -fstack-protector -I/usr/local/include'
    ccversion='', gccversion='4.9.2', gccosandvers=''
    intsize=4, longsize=8, ptrsize=8, doublesize=8, byteorder=12345678
    d_longlong=define, longlongsize=8, d_longdbl=define, longdblsize=16
    ivtype='long', ivsize=8, nvtype='long double', nvsize=16, Off_t='off_t', lseeksize=8
    alignbytes=16, prototype=define
  Linker and Libraries:
    ld='cc', ldflags =' -fstack-protector -L/usr/local/lib'
    libpth=/usr/local/lib /lib/x86_64-linux-gnu /lib/../lib /usr/lib/x86_64-linux-gnu /usr/lib/../lib /lib /usr/lib
    libs=-lnsl -ldb -ldl -lm -lcrypt -lutil -lpthread -lc
    perllibs=-lnsl -ldl -lm -lcrypt -lutil -lpthread -lc
    libc=libc-2.21.so, so=so, useshrplib=false, libperl=libperl.a
    gnulibc_version='2.21'
  Dynamic Linking:
    dlsrc=dl_dlopen.xs, dlext=so, d_dlsymun=undef, ccdlflags='-Wl,-E'
    cccdlflags='-fPIC', lddlflags='-shared -O2 -L/usr/local/lib -fstack-protector'


Characteristics of this binary (from libperl): 
  Compile-time options: HAS_TIMES MULTIPLICITY PERLIO_LAYERS
                        PERL_DONT_CREATE_GVSV
                        PERL_HASH_FUNC_ONE_AT_A_TIME_HARD
                        PERL_IMPLICIT_CONTEXT PERL_MALLOC_WRAP
                        PERL_PRESERVE_IVUV PERL_SAWAMPERSAND USE_64_BIT_ALL
                        USE_64_BIT_INT USE_ITHREADS USE_LARGE_FILES
                        USE_LOCALE USE_LOCALE_COLLATE USE_LOCALE_CTYPE
                        USE_LOCALE_NUMERIC USE_LONG_DOUBLE USE_PERLIO
                        USE_PERL_ATOF USE_REENTRANT_API
  Locally applied patches:
	Devel::PatchPerl 1.38
  Built under linux
  Compiled at Jul 19 2015 23:12:48
  %ENV:
    PERL5LIB="/home/perltest/.cpan/build/Glib-1.307-j7yJRG/blib/arch:/home/perltest/.cpan/build/Glib-1.307-j7yJRG/blib/lib:/home/perltest/.cpan/build/ExtUtils-PkgConfig-1.15-M3YfAT/blib/arch:/home/perltest/.cpan/build/ExtUtils-PkgConfig-1.15-M3YfAT/blib/lib:/home/perltest/.cpan/build/POE-1.367-wXBsIx/blib/arch:/home/perltest/.cpan/build/POE-1.367-wXBsIx/blib/lib:/home/perltest/.cpan/build/IO-Pipely-0.005-kLElen/blib/arch:/home/perltest/.cpan/build/IO-Pipely-0.005-kLElen/blib/lib:/home/perltest/.cpan/build/IO-Tty-1.12-MNGDeg/blib/arch:/home/perltest/.cpan/build/IO-Tty-1.12-MNGDeg/blib/lib:/home/perltest/.cpan/build/POE-Test-Loops-1.360-FwEqyo/blib/arch:/home/perltest/.cpan/build/POE-Test-Loops-1.360-FwEqyo/blib/lib:/home/perltest/sysperl/lib/perl5"
    PERL5OPT=""
    PERL5_CPANPLUS_IS_RUNNING="9389"
    PERL5_CPAN_IS_RUNNING="9389"
    PERL5_CPAN_IS_RUNNING_IN_RECURSION="3966,9389"
    PERLBREW_BASHRC_VERSION="0.73"
    PERLBREW_HOME="/home/perltest/.perlbrew"
    PERLBREW_LIB=""
    PERLBREW_MANPATH="/home/perltest/perl5/perlbrew/perls/perl-5.18.4-thread-multi-ld/man"
    PERLBREW_PATH="/home/perltest/perl5/perlbrew/bin:/home/perltest/perl5/perlbrew/perls/perl-5.18.4-thread-multi-ld/bin"
    PERLBREW_PERL="perl-5.18.4-thread-multi-ld"
    PERLBREW_ROOT="/home/perltest/perl5/perlbrew"
    PERLBREW_VERSION="0.73"
    PERL_CR_SMOKER_CURRENT="Glade2-Widget-0.1"
    PERL_EXTUTILS_AUTOINSTALL="--defaultdeps"
    PERL_LOCAL_LIB_ROOT="/home/perltest/sysperl:"
    PERL_MB_OPT="--install_base "//home/perltest/sysperl""
    PERL_MM_OPT="INSTALL_BASE=/home/perltest/sysperl"
    PERL_MM_USE_DEFAULT="1"
  @INC:
    /home/perltest/.cpan/build/Glib-1.307-j7yJRG/blib/arch
    /home/perltest/.cpan/build/Glib-1.307-j7yJRG/blib/lib
    /home/perltest/.cpan/build/ExtUtils-PkgConfig-1.15-M3YfAT/blib/arch
    /home/perltest/.cpan/build/ExtUtils-PkgConfig-1.15-M3YfAT/blib/lib
    /home/perltest/.cpan/build/POE-1.367-wXBsIx/blib/arch
    /home/perltest/.cpan/build/POE-1.367-wXBsIx/blib/lib
    /home/perltest/.cpan/build/IO-Pipely-0.005-kLElen/blib/arch
    /home/perltest/.cpan/build/IO-Pipely-0.005-kLElen/blib/lib
    /home/perltest/.cpan/build/IO-Tty-1.12-MNGDeg/blib/arch
    /home/perltest/.cpan/build/IO-Tty-1.12-MNGDeg/blib/lib
    /home/perltest/.cpan/build/POE-Test-Loops-1.360-FwEqyo/blib/arch
    /home/perltest/.cpan/build/POE-Test-Loops-1.360-FwEqyo/blib/lib
    /home/perltest/sysperl/lib/perl5/x86_64-linux-thread-multi-ld
    /home/perltest/sysperl/lib/perl5
    /home/perltest/perl5/perlbrew/perls/perl-5.18.4-thread-multi-ld/lib/site_perl/5.18.4/x86_64-linux-thread-multi-ld
    /home/perltest/perl5/perlbrew/perls/perl-5.18.4-thread-multi-ld/lib/site_perl/5.18.4
    /home/perltest/perl5/perlbrew/perls/perl-5.18.4-thread-multi-ld/lib/5.18.4/x86_64-linux-thread-multi-ld
    /home/perltest/perl5/perlbrew/perls/perl-5.18.4-thread-multi-ld/lib/5.18.4
    .