HTML-HTML5-Parser v0.992 Perl 5 v5.39.8 amd64-freebsd-thread-multi

Status
Pass
From
Carlos Guevara
Dist
HTML-HTML5-Parser v0.992
Platform
Perl 5 v5.39.8 amd64-freebsd-thread-multi
Date
2024-02-03 14:06:40
ID
73a8b376-c29d-11ee-a76a-e1561b0918c6
This distribution has been tested as part of the CPAN Testers
project, supporting the Perl programming language.  See
http://wiki.cpantesters.org/ for more information or email
questions to cpan-testers-discuss@perl.org


--
Dear Toby Inkster,

This is a computer-generated report for HTML-HTML5-Parser-0.992
on perl 5.39.8, created by CPAN-Reporter-1.2019.

Thank you for uploading your work to CPAN.  Congratulations!
All tests were successful.

Sections of this report:

    * Tester comments
    * Program output
    * Prerequisites
    * Environment and other context

------------------------------
TESTER COMMENTS
------------------------------

Additional comments from tester:

this report is from an automated smoke testing program
and was not reviewed by a human for accuracy

------------------------------
PROGRAM OUTPUT
------------------------------

Output from '/usr/bin/make test':

PERL_DL_NONLAZY=1 "/home/cpan/bin/perl/bin/perl5.39.8" "-MExtUtils::Command::MM" "-MTest::Harness" "-e" "undef *Test::Harness::Switches; test_harness(0, 'blib/lib', 'blib/arch')" t/*.t
t/01basic.t ...... ok
t/02html5.t ...... ok
t/03html4.t ...... ok
t/04fragments.t .. ok
t/05origins.t .... ok
t/06xlxdsln.t .... skipped: Need XML::LibXML::Devel::SetLineNumber
t/07ua.t ......... ok
t/08ua-lwp.t ..... ok
# PASSED:
#   t/html5lib-pass/adoption01.dat [13/13]
#   t/html5lib-pass/adoption02.dat [2/2]
#   t/html5lib-pass/comments01.dat [13/13]
#   t/html5lib-pass/doctype01.dat [37/37]
#   t/html5lib-pass/entities01.dat [67/67]
#   t/html5lib-pass/html5test-com.dat [20/24]
#   t/html5lib-pass/inbody01.dat [4/4]
#   t/html5lib-pass/isindex.dat [3/3]
#   t/html5lib-pass/pending-spec-changes-plain-text-unsafe.dat [1/1]
#   t/html5lib-pass/pending-spec-changes.dat [3/3]
#   t/html5lib-pass/scriptdata01.dat [26/26]
#   t/html5lib-pass/tables01.dat [17/17]
#   t/html5lib-pass/tests10.dat [54/54]
#   t/html5lib-pass/tests12.dat [2/2]
#   t/html5lib-pass/tests15.dat [14/14]
#   t/html5lib-pass/tests17.dat [13/13]
#   t/html5lib-pass/tests18.dat [20/20]
#   t/html5lib-pass/tests19.dat [104/104]
#   t/html5lib-pass/tests2.dat [61/61]
#   t/html5lib-pass/tests20.dat [39/39]
#   t/html5lib-pass/tests24.dat [8/8]
#   t/html5lib-pass/tests25.dat [20/20]
#   t/html5lib-pass/tests26.dat [14/15]
#   t/html5lib-pass/tests3.dat [24/24]
#   t/html5lib-pass/tests4.dat [7/7]
#   t/html5lib-pass/tests7.dat [30/30]
#   t/html5lib-pass/tests8.dat [9/9]
#   t/html5lib-pass/tricky01.dat [9/9]
#   t/html5lib-pass/webkit01.dat [46/48]
#   t/html5lib-pass/webkit02.dat [7/8]
t/99html5lib.t ... ok
t/rt-79019.t ..... ok
t/rt-96399.t ..... ok
All tests successful.
Files=11, Tests=81,  2 wallclock secs ( 0.07 usr  0.01 sys +  2.21 cusr  0.19 csys =  2.48 CPU)
Result: PASS

------------------------------
PREREQUISITES
------------------------------

Prerequisite modules loaded:

requires:

    Module                Need     Have    
    --------------------- -------- --------
    HTML::HTML5::Entities 0.002    0.004   
    HTTP::Tiny            0        0.088   
    IO::HTML              0        1.004   
    perl                  5.008001 5.039008
    Scalar::Util          0        1.63    
    Try::Tiny             0        0.31    
    URI::file             0        5.26    
    XML::LibXML           1.94     2.0210  
    XML::LibXML::Devel    0        2.0210  

build_requires:

    Module                Need     Have    
    --------------------- -------- --------
    FindBin               0        1.54    
    Test::More            0.61     1.302198
    Test::Requires        0        0.11    

configure_requires:

    Module                Need     Have    
    --------------------- -------- --------
    ExtUtils::MakeMaker   6.17     7.70    


------------------------------
ENVIRONMENT AND OTHER CONTEXT
------------------------------

Environment variables:

    AUTOMATED_TESTING = 1
    DATE_MANIP_TEST_DM5 = 1
    LANG = C.UTF-8
    LC_ALL = C
    NONINTERACTIVE_TESTING = 1
    NO_NETWORK_TESTING = 1
    PATH = /home/cpan/bin/perl/bin:/home/cpan/bin:/sbin:/bin:/usr/sbin:/usr/bin:/usr/local/sbin:/usr/local/bin:/home/cpan/bin
    PERL5LIB = 
    PERL5OPT = 
    PERL5_CPANPLUS_IS_RUNNING = 63682
    PERL5_CPAN_IS_RUNNING = 63682
    PERL_MM_USE_DEFAULT = 1
    PERL_USE_UNSAFE_INC = 1
    SHELL = /usr/local/bin/bash
    TERM = screen
    TMPDIR = /home/cpan/tmp

Perl special variables (and OS-specific diagnostics, for MSWin32):

    $^X = /home/cpan/bin/perl/bin/perl5.39.8
    $UID/$EUID = 1002 / 1002
    $GID = 1002 1002
    $EGID = 1002 1002

Perl module toolchain versions installed:

    Module              Have    
    ------------------- --------
    CPAN                2.36    
    CPAN::Meta          2.150010
    Cwd                 3.90    
    ExtUtils::CBuilder  0.280240
    ExtUtils::Command   7.70    
    ExtUtils::Install   2.22    
    ExtUtils::MakeMaker 7.70    
    ExtUtils::Manifest  1.75    
    ExtUtils::ParseXS   3.51    
    File::Spec          3.90    
    JSON                4.10    
    JSON::PP            4.16    
    Module::Build       0.4234  
    Module::Signature   n/a     
    Parse::CPAN::Meta   2.150010
    Test2               1.302198
    Test::Harness       3.48    
    Test::More          1.302198
    YAML                1.31    
    YAML::Syck          1.34    
    version             0.9930  


--

Summary of my perl5 (revision 5 version 39 subversion 8) configuration:
  Commit id: 4f449b11929d79ca3211119e865cf541798a09d4
  Platform:
    osname=freebsd
    osvers=14.0-release-p3
    archname=amd64-freebsd-thread-multi
    uname='freebsd cjg-freebsd14 14.0-release-p3 freebsd 14.0-release-p3 #0: mon dec 11 04:56:01 utc 2023 root@amd64-builder.daemonology.net:usrobjusrsrcamd64.amd64sysgeneric amd64 '
    config_args='-des -Dprefix=/home/cpan/bin/perl -Dscriptdir=/home/cpan/bin/perl/bin -Dusedevel -Duse64bitall -Duseithreads'
    hint=recommended
    useposix=true
    d_sigaction=define
    useithreads=define
    usemultiplicity=define
    use64bitint=define
    use64bitall=define
    uselongdouble=undef
    usemymalloc=n
    default_inc_excludes_dot=define
  Compiler:
    cc='cc'
    ccflags ='-DHAS_FPSETMASK -DHAS_FLOATINGPOINT_H -DNO_POSIX_2008_LOCALE -fno-strict-aliasing -pipe -fstack-protector-strong -I/usr/local/include'
    optimize='-O2'
    cppflags='-DHAS_FPSETMASK -DHAS_FLOATINGPOINT_H -DNO_POSIX_2008_LOCALE -fno-strict-aliasing -pipe -fstack-protector-strong -I/usr/local/include'
    ccversion=''
    gccversion='FreeBSD Clang 16.0.6 (https://github.com/llvm/llvm-project.git llvmorg-16.0.6-0-g7cbf1a259152)'
    gccosandvers=''
    intsize=4
    longsize=8
    ptrsize=8
    doublesize=8
    byteorder=12345678
    doublekind=3
    d_longlong=define
    longlongsize=8
    d_longdbl=define
    longdblsize=16
    longdblkind=3
    ivtype='long'
    ivsize=8
    nvtype='double'
    nvsize=8
    Off_t='off_t'
    lseeksize=8
    alignbytes=8
    prototype=define
  Linker and Libraries:
    ld='cc'
    ldflags ='-pthread -Wl,-E  -fstack-protector-strong -L/usr/local/lib'
    libpth=/usr/lib /usr/local/lib /usr/lib/clang/16/lib
    libs=-lpthread -ldl -lm -lcrypt -lutil
    perllibs=-lpthread -ldl -lm -lcrypt -lutil
    libc=
    so=so
    useshrplib=false
    libperl=libperl.a
    gnulibc_version=''
  Dynamic Linking:
    dlsrc=dl_dlopen.xs
    dlext=so
    d_dlsymun=undef
    ccdlflags=' '
    cccdlflags='-DPIC -fPIC'
    lddlflags='-shared  -L/usr/local/lib -fstack-protector-strong'


Characteristics of this binary (from libperl): 
  Compile-time options:
    HAS_LONG_DOUBLE
    HAS_STRTOLD
    HAS_TIMES
    MULTIPLICITY
    PERLIO_LAYERS
    PERL_COPY_ON_WRITE
    PERL_DONT_CREATE_GVSV
    PERL_HASH_FUNC_SIPHASH13
    PERL_HASH_USE_SBOX32
    PERL_MALLOC_WRAP
    PERL_OP_PARENT
    PERL_PRESERVE_IVUV
    PERL_USE_DEVEL
    PERL_USE_SAFE_PUTENV
    USE_64_BIT_ALL
    USE_64_BIT_INT
    USE_ITHREADS
    USE_LARGE_FILES
    USE_LOCALE
    USE_LOCALE_COLLATE
    USE_LOCALE_CTYPE
    USE_LOCALE_NUMERIC
    USE_LOCALE_TIME
    USE_PERLIO
    USE_PERL_ATOF
    USE_REENTRANT_API
  Built under freebsd
  Compiled at Feb  3 2024 01:44:22
  %ENV:
    PERL5LIB=""
    PERL5OPT=""
    PERL5_CPANPLUS_IS_RUNNING="63682"
    PERL5_CPAN_IS_RUNNING="63682"
    PERL_MM_USE_DEFAULT="1"
    PERL_USE_UNSAFE_INC="1"
  @INC:
    /home/cpan/bin/perl/lib/site_perl/5.39.8/amd64-freebsd-thread-multi
    /home/cpan/bin/perl/lib/site_perl/5.39.8
    /home/cpan/bin/perl/lib/5.39.8/amd64-freebsd-thread-multi
    /home/cpan/bin/perl/lib/5.39.8
    .