Report for WebAPI-DBIC-0.004002

Back
From: metabase:user:320bfe00-2aae-11df-837a-5e0a49663a4f
Subject: PASS WebAPI-DBIC-0.004002 v5.21.6 GNU/Linux
Date: 2015-03-22T23:59:19Z

This distribution has been tested as part of the CPAN Testers
project, supporting the Perl programming language.  See
http://wiki.cpantesters.org/ for more information or email
questions to cpan-testers-discuss@perl.org


--
Dear Tim Bunce,

This is a computer-generated report for WebAPI-DBIC-0.004002
on perl 5.21.6, created by CPAN-Reporter-1.2011.

Thank you for uploading your work to CPAN.  Congratulations!
All tests were successful.

Sections of this report:

    * Tester comments
    * Program output
    * Prerequisites
    * Environment and other context

------------------------------
TESTER COMMENTS
------------------------------

Additional comments from tester:

this report is from an automated smoke testing program
and was not reviewed by a human for accuracy

------------------------------
PROGRAM OUTPUT
------------------------------

Output from '/usr/bin/make test':

PERL_DL_NONLAZY=1 "/home/sand/src/perl/repoperls/installed-perls/perl/v5.21.6/9980/bin/perl" "-MExtUtils::Command::MM" "-MTest::Harness" "-e" "undef *Test::Harness::Switches; test_harness(0, 'blib/lib', 'blib/arch')" t/*.t t/media-active-model/*.t t/media-hal/*.t t/media-jsonapi/*.t
Can't locate Alien/Web/HalBrowser.pm in @INC (you may need to install the Alien::Web::HalBrowser module) (@INC contains: blib/lib /tmp/loop_over_bdir-25175-8pJeWe/WebAPI-DBIC-0.004002-lycDZd/blib/lib /tmp/loop_over_bdir-25175-8pJeWe/WebAPI-DBIC-0.004002-lycDZd/blib/arch /home/sand/src/perl/repoperls/installed-perls/perl/v5.21.6/9980/lib/site_perl/5.21.6/x86_64-linux-thread-multi /home/sand/src/perl/repoperls/installed-perls/perl/v5.21.6/9980/lib/site_perl/5.21.6/x86_64-linux-thread-multi /home/sand/src/perl/repoperls/installed-perls/perl/v5.21.6/9980/lib/site_perl/5.21.6 /home/sand/src/perl/repoperls/installed-perls/perl/v5.21.6/9980/lib/5.21.6/x86_64-linux-thread-multi /home/sand/src/perl/repoperls/installed-perls/perl/v5.21.6/9980/lib/5.21.6/x86_64-linux-thread-multi /home/sand/src/perl/repoperls/installed-perls/perl/v5.21.6/9980/lib/5.21.6 . /tmp/loop_over_bdir-25175-8pJeWe/WebAPI-DBIC-0.004002-lycDZd/blib/lib /tmp/loop_over_bdir-25175-8pJeWe/WebAPI-DBIC-0.004002-lycDZd/blib/arch /home/sand/src/perl/repoperls/installed-perls/perl/v5.21.6/9980/lib/site_perl/5.21.6/x86_64-linux-thread-multi /home/sand/src/perl/repoperls/installed-perls/perl/v5.21.6/9980/lib/site_perl/5.21.6 /home/sand/src/perl/repoperls/installed-perls/perl/v5.21.6/9980/lib/5.21.6/x86_64-linux-thread-multi /home/sand/src/perl/repoperls/installed-perls/perl/v5.21.6/9980/lib/5.21.6 .) at webapi-dbic-any.psgi line 29.
BEGIN failed--compilation aborted at webapi-dbic-any.psgi line 29.
Subroutine B::OP::parent redefined at /home/sand/src/perl/repoperls/installed-perls/perl/v5.21.6/9980/lib/site_perl/5.21.6/x86_64-linux-thread-multi/B/Utils.pm line 188.
Can't locate Alien/Web/HalBrowser.pm in @INC (you may need to install the Alien::Web::HalBrowser module) (@INC contains: t/lib blib/lib /tmp/loop_over_bdir-25175-8pJeWe/WebAPI-DBIC-0.004002-lycDZd/blib/lib /tmp/loop_over_bdir-25175-8pJeWe/WebAPI-DBIC-0.004002-lycDZd/blib/arch /home/sand/src/perl/repoperls/installed-perls/perl/v5.21.6/9980/lib/site_perl/5.21.6/x86_64-linux-thread-multi /home/sand/src/perl/repoperls/installed-perls/perl/v5.21.6/9980/lib/site_perl/5.21.6 /home/sand/src/perl/repoperls/installed-perls/perl/v5.21.6/9980/lib/5.21.6/x86_64-linux-thread-multi /home/sand/src/perl/repoperls/installed-perls/perl/v5.21.6/9980/lib/5.21.6 .) at webapi-dbic-demo.psgi line 18.
BEGIN failed--compilation aborted at webapi-dbic-demo.psgi line 18.
t/00-compile.t .......................... ok
Subroutine B::OP::parent redefined at /home/sand/src/perl/repoperls/installed-perls/perl/v5.21.6/9980/lib/site_perl/5.21.6/x86_64-linux-thread-multi/B/Utils.pm line 188.
t/10-basics-req.t ....................... ok
Subroutine B::OP::parent redefined at /home/sand/src/perl/repoperls/installed-perls/perl/v5.21.6/9980/lib/site_perl/5.21.6/x86_64-linux-thread-multi/B/Utils.pm line 188.
t/11-paging-req.t ....................... ok
Subroutine B::OP::parent redefined at /home/sand/src/perl/repoperls/installed-perls/perl/v5.21.6/9980/lib/site_perl/5.21.6/x86_64-linux-thread-multi/B/Utils.pm line 188.
t/12-searching-req.t .................... ok
Subroutine B::OP::parent redefined at /home/sand/src/perl/repoperls/installed-perls/perl/v5.21.6/9980/lib/site_perl/5.21.6/x86_64-linux-thread-multi/B/Utils.pm line 188.
t/13-fields-req.t ....................... ok
Subroutine B::OP::parent redefined at /home/sand/src/perl/repoperls/installed-perls/perl/v5.21.6/9980/lib/site_perl/5.21.6/x86_64-linux-thread-multi/B/Utils.pm line 188.
t/14-distinct-req.t ..................... ok
Subroutine B::OP::parent redefined at /home/sand/src/perl/repoperls/installed-perls/perl/v5.21.6/9980/lib/site_perl/5.21.6/x86_64-linux-thread-multi/B/Utils.pm line 188.
t/30-ordering-req.t ..................... ok
Subroutine B::OP::parent redefined at /home/sand/src/perl/repoperls/installed-perls/perl/v5.21.6/9980/lib/site_perl/5.21.6/x86_64-linux-thread-multi/B/Utils.pm line 188.
t/50-modify-req.t ....................... ok
Subroutine B::OP::parent redefined at /home/sand/src/perl/repoperls/installed-perls/perl/v5.21.6/9980/lib/site_perl/5.21.6/x86_64-linux-thread-multi/B/Utils.pm line 188.
t/53-put_rel-req.t ...................... ok
Subroutine B::OP::parent redefined at /home/sand/src/perl/repoperls/installed-perls/perl/v5.21.6/9980/lib/site_perl/5.21.6/x86_64-linux-thread-multi/B/Utils.pm line 188.
Exception: DBIx::Class::Row::get_column(): No such column 'nonesuch' on TestSchema::Result::Artist at /tmp/loop_over_bdir-25175-8pJeWe/WebAPI-DBIC-0.004002-lycDZd/blib/lib/WebAPI/DBIC/Resource/Role/ItemInvoke.pm line 57
t/60-invoke-req.t ....................... ok
Subroutine B::OP::parent redefined at /home/sand/src/perl/repoperls/installed-perls/perl/v5.21.6/9980/lib/site_perl/5.21.6/x86_64-linux-thread-multi/B/Utils.pm line 188.
t/90-root-req.t ......................... ok
Subroutine B::OP::parent redefined at /home/sand/src/perl/repoperls/installed-perls/perl/v5.21.6/9980/lib/site_perl/5.21.6/x86_64-linux-thread-multi/B/Utils.pm line 188.
t/media-active-model/10-basics-req.t .... ok
Subroutine B::OP::parent redefined at /home/sand/src/perl/repoperls/installed-perls/perl/v5.21.6/9980/lib/site_perl/5.21.6/x86_64-linux-thread-multi/B/Utils.pm line 188.
Child result class TestSchema::Result::CD_to_Producer has multiple keys (cd producer) so relations like cd_to_producer won't have links generated.
t/media-active-model/40-prefetch-req.t .. ok
Subroutine B::OP::parent redefined at /home/sand/src/perl/repoperls/installed-perls/perl/v5.21.6/9980/lib/site_perl/5.21.6/x86_64-linux-thread-multi/B/Utils.pm line 188.
TestSchema::Result::Artist relationship cds_90s has coderef-based condition which is not handled yet - unknown crosstable_cond_key
t/media-hal/10-basics-req.t ............. ok
Subroutine B::OP::parent redefined at /home/sand/src/perl/repoperls/installed-perls/perl/v5.21.6/9980/lib/site_perl/5.21.6/x86_64-linux-thread-multi/B/Utils.pm line 188.
TestSchema::Result::Artist relationship cds_90s has coderef-based condition which is not handled yet - unknown crosstable_cond_key
t/media-hal/11-paging-req.t ............. ok
Subroutine B::OP::parent redefined at /home/sand/src/perl/repoperls/installed-perls/perl/v5.21.6/9980/lib/site_perl/5.21.6/x86_64-linux-thread-multi/B/Utils.pm line 188.
TestSchema::Result::Artist relationship cds_90s has coderef-based condition which is not handled yet - unknown crosstable_cond_key
t/media-hal/12-searching-req.t .......... ok
Subroutine B::OP::parent redefined at /home/sand/src/perl/repoperls/installed-perls/perl/v5.21.6/9980/lib/site_perl/5.21.6/x86_64-linux-thread-multi/B/Utils.pm line 188.
TestSchema::Result::Artist relationship cds_90s has coderef-based condition which is not handled yet - unknown crosstable_cond_key
t/media-hal/13-fields-req.t ............. ok
Subroutine B::OP::parent redefined at /home/sand/src/perl/repoperls/installed-perls/perl/v5.21.6/9980/lib/site_perl/5.21.6/x86_64-linux-thread-multi/B/Utils.pm line 188.
t/media-hal/14-distinct-req.t ........... ok
Subroutine B::OP::parent redefined at /home/sand/src/perl/repoperls/installed-perls/perl/v5.21.6/9980/lib/site_perl/5.21.6/x86_64-linux-thread-multi/B/Utils.pm line 188.
t/media-hal/30-ordering-req.t ........... ok
Subroutine B::OP::parent redefined at /home/sand/src/perl/repoperls/installed-perls/perl/v5.21.6/9980/lib/site_perl/5.21.6/x86_64-linux-thread-multi/B/Utils.pm line 188.
TestSchema::Result::Artist relationship cds_90s has coderef-based condition which is not handled yet - unknown crosstable_cond_key
t/media-hal/40-prefetch-req.t ........... ok
Subroutine B::OP::parent redefined at /home/sand/src/perl/repoperls/installed-perls/perl/v5.21.6/9980/lib/site_perl/5.21.6/x86_64-linux-thread-multi/B/Utils.pm line 188.
TestSchema::Result::Artist relationship cds_90s has coderef-based condition which is not handled yet - unknown crosstable_cond_key
t/media-hal/50-modify-req.t ............. ok
Subroutine B::OP::parent redefined at /home/sand/src/perl/repoperls/installed-perls/perl/v5.21.6/9980/lib/site_perl/5.21.6/x86_64-linux-thread-multi/B/Utils.pm line 188.
TestSchema::Result::Track relationship next_tracks has coderef-based condition which is not handled yet - unknown crosstable_cond_key
t/media-hal/52-post_rel-req.t ........... ok
Subroutine B::OP::parent redefined at /home/sand/src/perl/repoperls/installed-perls/perl/v5.21.6/9980/lib/site_perl/5.21.6/x86_64-linux-thread-multi/B/Utils.pm line 188.
TestSchema::Result::Track relationship next_tracks has coderef-based condition which is not handled yet - unknown crosstable_cond_key
t/media-hal/53-put_rel-req.t ............ ok
Subroutine B::OP::parent redefined at /home/sand/src/perl/repoperls/installed-perls/perl/v5.21.6/9980/lib/site_perl/5.21.6/x86_64-linux-thread-multi/B/Utils.pm line 188.
t/media-hal/90-root-req.t ............... ok
Subroutine B::OP::parent redefined at /home/sand/src/perl/repoperls/installed-perls/perl/v5.21.6/9980/lib/site_perl/5.21.6/x86_64-linux-thread-multi/B/Utils.pm line 188.
t/media-jsonapi/10-basics-req.t ......... ok
Subroutine B::OP::parent redefined at /home/sand/src/perl/repoperls/installed-perls/perl/v5.21.6/9980/lib/site_perl/5.21.6/x86_64-linux-thread-multi/B/Utils.pm line 188.
Result class TestSchema::Result::CD_to_Producer has multiple keys (cd producer) so relations like cd_to_producer won't have links generated.
t/media-jsonapi/40-prefetch-req.t ....... ok
t/release-pod-syntax.t .................. skipped: these tests are for release candidate testing
All tests successful.
Files=27, Tests=151, 95 wallclock secs ( 0.21 usr  0.19 sys + 54.36 cusr  7.38 csys = 62.14 CPU)
Result: PASS

------------------------------
PREREQUISITES
------------------------------

Prerequisite modules loaded:

requires:

    Module                      Need     Have     
    --------------------------- -------- ---------
  ! Alien::Web::HalBrowser      0        n/a      
    Data::Dumper::Concise       0        2.022    
    DBD::SQLite                 1.46     1.46     
    DBIx::Class                 0.08250  0.082820 
    HTTP::Headers::ActionPack   0        0.09     
    HTTP::Throwable             0        0.019    
    JSON::MaybeXS               0        1.003005 
    Lingua::EN::Inflect         1.894    1.895    
    Lingua::EN::Inflect::Number 1.11     1.11     
    List::MoreUtils             0.408    0.409_001
    List::Util                  0        1.41     
    Module::Runtime             0        0.014    
    Moo                         1.001000 2.000001 
    MooX::StrictConstructor     0.006    0.006    
    namespace::clean            0.25     0.25     
    parent                      0        0.232    
    Path::Router                0.14     0.14     
    perl                        5.010    5.021006 
    Plack                       1.0033   1.0034   
    Plack::App::File            0        0        
    Plack::App::Path::Router    0.08     0.08     
    Safe::Isa                   0        1.000005 
    Scalar::Util                0        1.41     
    SQL::Translator             0.11018  0.11021  
    String::CamelCase           0        0.02     
    Sub::Exporter               0        0.987    
    Sub::Quote                  0        2.000001 
    Sub::Util                   0        1.41     
    Try::Tiny                   0        0.22     
    URI                         0        1.67     
    Web::Machine                0.15     0.15     

build_requires:

    Module                      Need     Have     
    --------------------------- -------- ---------
    autodie                     0        2.25     
    Cpanel::JSON::XS            0        3.0115   
    Data::Printer               0        0.35     
    DBIx::Class::Fixtures       1.001025 1.001028 
    ExtUtils::MakeMaker         0        7.04     
    Module::Pluggable           0        5.1      
    Sort::Key                   0        1.33     
    Test::Compile               v1.1.0   v1.2.1   
    Test::DBIx::Class           0.43     0.43     
    Test::HTTP::Response        0        0.06     
    Test::More                  0.98     1.001014 
    Test::Most                  0        0.34     
    Test::Pod                   0        1.48     
    ToolSet                     0        1.01     

configure_requires:

    Module                      Need     Have     
    --------------------------- -------- ---------
    ExtUtils::MakeMaker         0        7.04     


------------------------------
ENVIRONMENT AND OTHER CONTEXT
------------------------------

Environment variables:

    AUTOMATED_TESTING = 1
    LANG = en_US.UTF-8
    LANGUAGE = en_US:en
    PATH = /home/sand/bin:/usr/local/bin:/usr/bin:/bin:/usr/games:/usr/local/perl/bin:/usr/X11/bin:/sbin:/usr/sbin
    PERL5LIB = 
    PERL5OPT = 
    PERL5_CPANPLUS_IS_RUNNING = 25176
    PERL5_CPAN_IS_RUNNING = 25176
    PERL_MM_USE_DEFAULT = 1
    SHELL = /usr/bin/zsh
    TERM = screen

Perl special variables (and OS-specific diagnostics, for MSWin32):

    $^X = /home/sand/src/perl/repoperls/installed-perls/perl/v5.21.6/9980/bin/perl
    $UID/$EUID = 1005 / 1005
    $GID = 1005 1005
    $EGID = 1005 1005

Perl module toolchain versions installed:

    Module              Have    
    ------------------- --------
    CPAN                2.10    
    CPAN::Meta          2.150001
    Cwd                 3.51    
    ExtUtils::CBuilder  0.280220
    ExtUtils::Command   1.18    
    ExtUtils::Install   2.04    
    ExtUtils::MakeMaker 7.04    
    ExtUtils::Manifest  1.69    
    ExtUtils::ParseXS   3.26    
    File::Spec          3.51    
    JSON                2.90    
    JSON::PP            2.27300 
    Module::Build       0.4211  
    Module::Signature   0.73    
    Parse::CPAN::Meta   1.4414  
    Test::Harness       3.35    
    Test::More          1.001014
    YAML                1.14    
    YAML::Syck          1.29    
    version             0.9912  


--

Summary of my perl5 (revision 5 version 21 subversion 6) configuration:
  Commit id: 6ed80d55657304061a4d51a3aa68a5ec84f59881
  Platform:
    osname=linux, osvers=3.16.0-4-amd64, archname=x86_64-linux-thread-multi
    uname='linux k83 3.16.0-4-amd64 #1 smp debian 3.16.7-ckt7-1 (2015-03-01) x86_64 gnulinux '
    config_args='-Dprefix=/home/sand/src/perl/repoperls/installed-perls/perl/v5.21.6/9980 -Dmyhostname=k83 -Dinstallusrbinperl=n -Uversiononly -Dusedevel -des -Ui_db -Duseithreads -Uuselongdouble -DDEBUGGING=-g'
    hint=recommended, useposix=true, d_sigaction=define
    useithreads=define, usemultiplicity=define
    use64bitint=define, use64bitall=define, uselongdouble=undef
    usemymalloc=n, bincompat5005=undef
  Compiler:
    cc='cc', ccflags ='-D_REENTRANT -D_GNU_SOURCE -fwrapv -fno-strict-aliasing -pipe -fstack-protector-strong -I/usr/local/include -D_LARGEFILE_SOURCE -D_FILE_OFFSET_BITS=64 -D_FORTIFY_SOURCE=2',
    optimize='-O2 -g',
    cppflags='-D_REENTRANT -D_GNU_SOURCE -fwrapv -fno-strict-aliasing -pipe -fstack-protector-strong -I/usr/local/include'
    ccversion='', gccversion='4.9.2', gccosandvers=''
    intsize=4, longsize=8, ptrsize=8, doublesize=8, byteorder=12345678, doublekind=3
    d_longlong=define, longlongsize=8, d_longdbl=define, longdblsize=16, longdblkind=3
    ivtype='long', ivsize=8, nvtype='double', nvsize=8, Off_t='off_t', lseeksize=8
    alignbytes=8, prototype=define
  Linker and Libraries:
    ld='cc', ldflags =' -fstack-protector-strong -L/usr/local/lib'
    libpth=/usr/local/lib /usr/lib/gcc/x86_64-linux-gnu/4.9/include-fixed /usr/include/x86_64-linux-gnu /usr/lib /lib/x86_64-linux-gnu /lib/../lib /usr/lib/x86_64-linux-gnu /usr/lib/../lib /lib
    libs=-lnsl -lgdbm -ldb -ldl -lm -lcrypt -lutil -lpthread -lc -lgdbm_compat
    perllibs=-lnsl -ldl -lm -lcrypt -lutil -lpthread -lc
    libc=libc-2.19.so, so=so, useshrplib=false, libperl=libperl.a
    gnulibc_version='2.19'
  Dynamic Linking:
    dlsrc=dl_dlopen.xs, dlext=so, d_dlsymun=undef, ccdlflags='-Wl,-E'
    cccdlflags='-fPIC', lddlflags='-shared -O2 -g -L/usr/local/lib -fstack-protector-strong'


Characteristics of this binary (from libperl): 
  Compile-time options: HAS_TIMES MULTIPLICITY PERLIO_LAYERS
                        PERL_DONT_CREATE_GVSV
                        PERL_HASH_FUNC_ONE_AT_A_TIME_HARD
                        PERL_IMPLICIT_CONTEXT PERL_MALLOC_WRAP
                        PERL_NEW_COPY_ON_WRITE PERL_PRESERVE_IVUV
                        PERL_USE_DEVEL USE_64_BIT_ALL USE_64_BIT_INT
                        USE_ITHREADS USE_LARGE_FILES USE_LOCALE
                        USE_LOCALE_COLLATE USE_LOCALE_CTYPE
                        USE_LOCALE_NUMERIC USE_LOCALE_TIME USE_PERLIO
                        USE_PERL_ATOF USE_REENTRANT_API
  Built under linux
  Compiled at Mar 15 2015 04:44:51
  %ENV:
    PERL5LIB=""
    PERL5OPT=""
    PERL5_CPANPLUS_IS_RUNNING="25176"
    PERL5_CPAN_IS_RUNNING="25176"
    PERL_MM_USE_DEFAULT="1"
  @INC:
    /home/sand/src/perl/repoperls/installed-perls/perl/v5.21.6/9980/lib/site_perl/5.21.6/x86_64-linux-thread-multi
    /home/sand/src/perl/repoperls/installed-perls/perl/v5.21.6/9980/lib/site_perl/5.21.6
    /home/sand/src/perl/repoperls/installed-perls/perl/v5.21.6/9980/lib/5.21.6/x86_64-linux-thread-multi
    /home/sand/src/perl/repoperls/installed-perls/perl/v5.21.6/9980/lib/5.21.6
    .