Report for Data-Rebuilder-0.01

Back
From: metabase:user:d2c9f356-b46f-11df-9a90-20a83c0b7757
Subject: PASS Data-Rebuilder-0.01 v5.15.4 SunOS/Solaris
Date: 2011-11-15T10:06:16Z

This distribution has been tested as part of the CPAN Testers
project, supporting the Perl programming language.  See
http://wiki.cpantesters.org/ for more information or email
questions to cpan-testers-discuss@perl.org


--
Dear lieutar,

This is a computer-generated report for Data-Rebuilder-0.01
on perl 5.15.4, created by CPAN-Reporter-1.2002.

Thank you for uploading your work to CPAN.  Congratulations!
All tests were successful.

Sections of this report:

    * Tester comments
    * Program output
    * Prerequisites
    * Environment and other context

------------------------------
TESTER COMMENTS
------------------------------

Additional comments from tester:

this report is from an automated smoke testing program
and was not reviewed by a human for accuracy

------------------------------
PROGRAM OUTPUT
------------------------------

Output from '/usr/local/bin/make test':

/export/home/cpant4/perl5/bin/perl5.15.4 "-Iinc" Makefile.PL --config= --installdeps=Data::Polymorph,0,Lexical::Alias,0,PadWalker,0
Cannot determine perl version info from lib/Data/Rebuilder.pm
WARNING: 'All rights reserved' in copyright may invalidate Open Source license.
UNIVERSAL->import is deprecated and will be removed in a future perl at /export/home/cpant4/.cpan/build/Data-Polymorph-0.01-wmEBJb/blib/lib/Data/Polymorph.pm line 9
PERL_DL_NONLAZY=1 /export/home/cpant4/perl5/bin/perl5.15.4 "-MExtUtils::Command::MM" "-e" "test_harness(0, 'inc', 'blib/lib', 'blib/arch')" t/00-load.t t/10-simple.t t/20-object.t t/30-cycle.t t/40-weak.t t/50-tied.t
UNIVERSAL->import is deprecated and will be removed in a future perl at /export/home/cpant4/.cpan/build/Data-Rebuilder-0.01-oA9loK/blib/lib/Data/Rebuilder.pm line 52
UNIVERSAL->import is deprecated and will be removed in a future perl at /export/home/cpant4/.cpan/build/Data-Polymorph-0.01-wmEBJb/blib/lib/Data/Polymorph.pm line 9
# Testing Data::Rebuilder 0.01, Perl 5.015004, /export/home/cpant4/perl5/bin/perl5.15.4
t/00-load.t .... ok
UNIVERSAL->import is deprecated and will be removed in a future perl at /export/home/cpant4/.cpan/build/Data-Rebuilder-0.01-oA9loK/blib/lib/Data/Rebuilder.pm line 52
UNIVERSAL->import is deprecated and will be removed in a future perl at /export/home/cpant4/.cpan/build/Data-Polymorph-0.01-wmEBJb/blib/lib/Data/Polymorph.pm line 9
t/10-simple.t .. ok
UNIVERSAL->import is deprecated and will be removed in a future perl at /export/home/cpant4/.cpan/build/Data-Rebuilder-0.01-oA9loK/blib/lib/Data/Rebuilder.pm line 52
UNIVERSAL->import is deprecated and will be removed in a future perl at /export/home/cpant4/.cpan/build/Data-Polymorph-0.01-wmEBJb/blib/lib/Data/Polymorph.pm line 9
t/20-object.t .. ok
UNIVERSAL->import is deprecated and will be removed in a future perl at /export/home/cpant4/.cpan/build/Data-Rebuilder-0.01-oA9loK/blib/lib/Data/Rebuilder.pm line 52
UNIVERSAL->import is deprecated and will be removed in a future perl at /export/home/cpant4/.cpan/build/Data-Polymorph-0.01-wmEBJb/blib/lib/Data/Polymorph.pm line 9
t/30-cycle.t ... ok
UNIVERSAL->import is deprecated and will be removed in a future perl at /export/home/cpant4/.cpan/build/Data-Rebuilder-0.01-oA9loK/blib/lib/Data/Rebuilder.pm line 52
UNIVERSAL->import is deprecated and will be removed in a future perl at /export/home/cpant4/.cpan/build/Data-Polymorph-0.01-wmEBJb/blib/lib/Data/Polymorph.pm line 9
t/40-weak.t .... ok
UNIVERSAL->import is deprecated and will be removed in a future perl at /export/home/cpant4/.cpan/build/Data-Rebuilder-0.01-oA9loK/blib/lib/Data/Rebuilder.pm line 52
UNIVERSAL->import is deprecated and will be removed in a future perl at /export/home/cpant4/.cpan/build/Data-Polymorph-0.01-wmEBJb/blib/lib/Data/Polymorph.pm line 9
t/50-tied.t .... ok
All tests successful.
Files=6, Tests=45,  1 wallclock secs ( 0.07 usr  0.02 sys +  0.70 cusr  0.12 csys =  0.91 CPU)
Result: PASS

------------------------------
PREREQUISITES
------------------------------

Prerequisite modules loaded:

requires:

    Module              Need Have
    ------------------- ---- ----
    B                   0    1.32
    B::Deparse          0    1.08
    Carp                0    1.23
    Data::Polymorph     0    0.01
    ExtUtils::MakeMaker 6.62 6.62
    IO::String          0    1.08
    Lexical::Alias      0    0.04
    PadWalker           0    1.92
    Path::Class         0    0.24
    Scalar::Util        0    1.23
    Sub::Name           0    0.05
    Test::More          0    0.98
    UNIVERSAL           0    1.09

build_requires:

    Module              Need Have
    ------------------- ---- ----
    ExtUtils::MakeMaker 0    6.62


------------------------------
ENVIRONMENT AND OTHER CONTEXT
------------------------------

Environment variables:

    AUTOMATED_TESTING = 1
    LANG = C
    LD_LIBRARY_PATH = /usr/local/lib:
    PATH = /export/home/cpant4/perl5/bin:/usr/local/bin:/usr/bin
    PERL5LIB = /export/home/cpant4/.cpan/build/Data-Polymorph-0.01-wmEBJb/blib/arch:/export/home/cpant4/.cpan/build/Data-Polymorph-0.01-wmEBJb/blib/lib:/export/home/cpant4/.cpan/build/Lexical-Alias-0.04-1u7BqD/blib/arch:/export/home/cpant4/.cpan/build/Lexical-Alias-0.04-1u7BqD/blib/lib:/export/home/cpant4/.cpan/build/PadWalker-1.92-ukK57I/blib/arch:/export/home/cpant4/.cpan/build/PadWalker-1.92-ukK57I/blib/lib
    PERL5OPT = 
    PERL5_CPANPLUS_IS_RUNNING = 12177
    PERL5_CPAN_IS_RUNNING = 12177
    PERL5_CPAN_IS_RUNNING_IN_RECURSION = 8306,12177
    PERL_CR_SMOKER_CURRENT = Data-Rebuilder-0.01
    PERL_EXTUTILS_AUTOINSTALL = --defaultdeps
    PERL_MM_USE_DEFAULT = 1
    SHELL = /bin/bash
    TERM = xterm

Perl special variables (and OS-specific diagnostics, for MSWin32):

    $^X = /export/home/cpant4/perl5/bin/perl5.15.4
    $UID/$EUID = 104 / 104
    $GID = 1 1
    $EGID = 1 1

Perl module toolchain versions installed:

    Module              Have    
    ------------------- --------
    CPAN                1.9800  
    CPAN::Meta          2.112621
    Cwd                 3.37    
    ExtUtils::CBuilder  0.280204
    ExtUtils::Command   1.17    
    ExtUtils::Install   1.57    
    ExtUtils::MakeMaker 6.62    
    ExtUtils::Manifest  1.60    
    ExtUtils::ParseXS   3.05    
    File::Spec          3.34    
    JSON                2.53    
    JSON::PP            2.27200 
    Module::Build       0.39_01 
    Module::Signature   n/a     
    Parse::CPAN::Meta   1.4401  
    Test::Harness       3.23    
    Test::More          0.98    
    YAML                0.77    
    YAML::Syck          n/a     
    version             0.94    


--

Summary of my perl5 (revision 5 version 15 subversion 4) configuration:
   
  Platform:
    osname=solaris, osvers=2.10, archname=i86pc-solaris-64int
    uname='sunos vmrz0046 5.10 generic_141445-09 i86pc i386 i86pc solaris '
    config_args='-Dcc=gcc -Dprefix=~/perl5 -Duse64bitint -Dusedevel -d'
    hint=recommended, useposix=true, d_sigaction=define
    useithreads=undef, usemultiplicity=undef
    useperlio=define, d_sfio=undef, uselargefiles=define, usesocks=undef
    use64bitint=define, use64bitall=undef, uselongdouble=undef
    usemymalloc=n, bincompat5005=undef
  Compiler:
    cc='gcc', ccflags ='-DPTR_IS_LONG -fno-strict-aliasing -pipe -I/usr/local/include -D_LARGEFILE_SOURCE -D_FILE_OFFSET_BITS=64 -DPERL_USE_SAFE_PUTENV',
    optimize='-O',
    cppflags='-DPTR_IS_LONG -fno-strict-aliasing -pipe -I/usr/local/include'
    ccversion='', gccversion='3.4.6', gccosandvers='solaris2.10'
    intsize=4, longsize=4, ptrsize=4, doublesize=8, byteorder=12345678
    d_longlong=define, longlongsize=8, d_longdbl=define, longdblsize=12
    ivtype='long long', ivsize=8, nvtype='double', nvsize=8, Off_t='off_t', lseeksize=8
    alignbytes=4, prototype=define
  Linker and Libraries:
    ld='gcc', ldflags =' -L/usr/local/lib '
    libpth=/usr/local/lib /usr/lib /usr/ccs/lib
    libs=-lsocket -lnsl -lgdbm -ldl -lm -lc
    perllibs=-lsocket -lnsl -ldl -lm -lc
    libc=/lib/libc.so, so=so, useshrplib=false, libperl=libperl.a
    gnulibc_version=''
  Dynamic Linking:
    dlsrc=dl_dlopen.xs, dlext=so, d_dlsymun=undef, ccdlflags=' '
    cccdlflags='-fPIC', lddlflags='-G -L/usr/local/lib'


Characteristics of this binary (from libperl): 
  Compile-time options: HAS_TIMES PERLIO_LAYERS PERL_DONT_CREATE_GVSV
                        PERL_MALLOC_WRAP PERL_PRESERVE_IVUV PERL_USE_DEVEL
                        PERL_USE_SAFE_PUTENV USE_64_BIT_INT USE_LARGE_FILES
                        USE_LOCALE USE_LOCALE_COLLATE USE_LOCALE_CTYPE
                        USE_LOCALE_NUMERIC USE_PERLIO USE_PERL_ATOF
  Built under solaris
  Compiled at Oct 24 2011 11:26:38
  %ENV:
    PERL5LIB="/export/home/cpant4/.cpan/build/Data-Polymorph-0.01-wmEBJb/blib/arch:/export/home/cpant4/.cpan/build/Data-Polymorph-0.01-wmEBJb/blib/lib:/export/home/cpant4/.cpan/build/Lexical-Alias-0.04-1u7BqD/blib/arch:/export/home/cpant4/.cpan/build/Lexical-Alias-0.04-1u7BqD/blib/lib:/export/home/cpant4/.cpan/build/PadWalker-1.92-ukK57I/blib/arch:/export/home/cpant4/.cpan/build/PadWalker-1.92-ukK57I/blib/lib"
    PERL5OPT=""
    PERL5_CPANPLUS_IS_RUNNING="12177"
    PERL5_CPAN_IS_RUNNING="12177"
    PERL5_CPAN_IS_RUNNING_IN_RECURSION="8306,12177"
    PERL_CR_SMOKER_CURRENT="Data-Rebuilder-0.01"
    PERL_EXTUTILS_AUTOINSTALL="--defaultdeps"
    PERL_MM_USE_DEFAULT="1"
  @INC:
    /export/home/cpant4/.cpan/build/Data-Polymorph-0.01-wmEBJb/blib/arch
    /export/home/cpant4/.cpan/build/Data-Polymorph-0.01-wmEBJb/blib/lib
    /export/home/cpant4/.cpan/build/Lexical-Alias-0.04-1u7BqD/blib/arch
    /export/home/cpant4/.cpan/build/Lexical-Alias-0.04-1u7BqD/blib/lib
    /export/home/cpant4/.cpan/build/PadWalker-1.92-ukK57I/blib/arch
    /export/home/cpant4/.cpan/build/PadWalker-1.92-ukK57I/blib/lib
    /export/home/cpant4/perl5/lib/site_perl/5.15.4/i86pc-solaris-64int
    /export/home/cpant4/perl5/lib/site_perl/5.15.4
    /export/home/cpant4/perl5/lib/5.15.4/i86pc-solaris-64int
    /export/home/cpant4/perl5/lib/5.15.4
    /export/home/cpant4/perl5/lib/site_perl
    .