Report for Catalyst-View-Email-0.33

Back
From: metabase:user:5548a95e-9505-11e1-83e2-588633192929
Subject: PASS Catalyst-View-Email-0.33 v5.16.0 GNU/Linux
Date: 2014-03-03T08:47:30Z

This distribution has been tested as part of the CPAN Testers
project, supporting the Perl programming language.  See
http://wiki.cpantesters.org/ for more information or email
questions to cpan-testers-discuss@perl.org


--
Dear Devin Austin,

This is a computer-generated report for Catalyst-View-Email-0.33
on perl 5.16.0, created by CPAN-Reporter-1.2010.

Thank you for uploading your work to CPAN.  Congratulations!
All tests were successful.

Sections of this report:

    * Tester comments
    * Program output
    * Prerequisites
    * Environment and other context

------------------------------
TESTER COMMENTS
------------------------------

Additional comments from tester:

none provided

------------------------------
PROGRAM OUTPUT
------------------------------

Output from '/usr/bin/make test':

PERL_DL_NONLAZY=1 /usr/bin/perl "-MExtUtils::Command::MM" "-MTest::Harness" "-e" "undef *Test::Harness::Switches; test_harness(0, 'inc', 'blib/lib', 'blib/arch')" t/01use.t t/02pod.t t/04basic.t t/05template.t t/06config.t t/07mason.t
t/01use.t ....... ok
t/02pod.t ....... skipped: set TEST_POD to enable this test
require TestApp::View::TT was successful but the package is not defined. at /usr/lib/perl5/site_perl/5.16.0/Catalyst/Utils.pm line 314.
require TestApp::View::Mason was successful but the package is not defined. at /usr/lib/perl5/site_perl/5.16.0/Catalyst/Utils.pm line 314.
Class::MOP::load_class is deprecated at /usr/lib/perl5/site_perl/5.16.0/x86_64-linux-thread-multi/Class/MOP.pm line 73.
	Class::MOP::load_class("Email::Sender::Transport::Test") called at /root/.cpan/build/Catalyst-View-Email-0.33-W6NINe/blib/lib/Catalyst/View/Email.pm line 226
	Catalyst::View::Email::_build_mailer_obj(TestApp::View::Email=HASH(0x36538c8)) called at accessor Catalyst::View::Email::_mailer_obj (defined at /root/.cpan/build/Catalyst-View-Email-0.33-W6NINe/blib/lib/Catalyst/View/Email.pm line 21) line 10
	Catalyst::View::Email::_mailer_obj(TestApp::View::Email=HASH(0x36538c8)) called at /root/.cpan/build/Catalyst-View-Email-0.33-W6NINe/blib/lib/Catalyst/View/Email.pm line 299
	Catalyst::View::Email::process(TestApp::View::Email=HASH(0x36538c8), TestApp=HASH(0x3756d60)) called at /usr/lib/perl5/site_perl/5.16.0/Catalyst/Action.pm line 65
	Catalyst::Action::execute(Catalyst::Action=HASH(0x37656c8), TestApp::View::Email=HASH(0x36538c8), TestApp=HASH(0x3756d60)) called at /usr/lib/perl5/site_perl/5.16.0/Catalyst.pm line 1733
	eval {...} called at /usr/lib/perl5/site_perl/5.16.0/Catalyst.pm line 1733
	Catalyst::execute(TestApp=HASH(0x3756d60), "TestApp::View::Email", Catalyst::Action=HASH(0x37656c8)) called at /usr/lib/perl5/site_perl/5.16.0/Catalyst/Action.pm line 60
	Catalyst::Action::dispatch(Catalyst::Action=HASH(0x37656c8), TestApp=HASH(0x3756d60)) called at /usr/lib/perl5/site_perl/5.16.0/Catalyst/Dispatcher.pm line 258
	Catalyst::Dispatcher::_do_forward(Catalyst::Dispatcher=HASH(0x3133488), "forward", TestApp=HASH(0x3756d60), "TestApp::View::Email") called at /usr/lib/perl5/site_perl/5.16.0/Catalyst/Dispatcher.pm line 238
	Catalyst::Dispatcher::forward(Catalyst::Dispatcher=HASH(0x3133488), TestApp=HASH(0x3756d60), "TestApp::View::Email") called at /usr/lib/perl5/site_perl/5.16.0/Catalyst.pm line 397
	Catalyst::forward(TestApp=HASH(0x3756d60), "TestApp::View::Email") called at /root/.cpan/build/Catalyst-View-Email-0.33-W6NINe/t/lib/TestApp/Controller/Root.pm line 26
	TestApp::Controller::Root::email(TestApp::Controller::Root=HASH(0x36725e0), TestApp=HASH(0x3756d60)) called at /usr/lib/perl5/site_perl/5.16.0/Catalyst/Action.pm line 65
	Catalyst::Action::execute(Catalyst::Action=HASH(0x36cc1c0), TestApp::Controller::Root=HASH(0x36725e0), TestApp=HASH(0x3756d60)) called at /usr/lib/perl5/site_perl/5.16.0/Catalyst.pm line 1733
	eval {...} called at /usr/lib/perl5/site_perl/5.16.0/Catalyst.pm line 1733
	Catalyst::execute(TestApp=HASH(0x3756d60), "TestApp::Controller::Root", Catalyst::Action=HASH(0x36cc1c0)) called at /usr/lib/perl5/site_perl/5.16.0/Catalyst/Action.pm line 60
	Catalyst::Action::dispatch(Catalyst::Action=HASH(0x36cc1c0), TestApp=HASH(0x3756d60)) called at /usr/lib/perl5/site_perl/5.16.0/Catalyst/Controller.pm line 161
	Catalyst::Controller::_ACTION(TestApp::Controller::Root=HASH(0x36725e0), TestApp=HASH(0x3756d60)) called at /usr/lib/perl5/site_perl/5.16.0/Catalyst/Action.pm line 65
	Catalyst::Action::execute(Catalyst::Action=HASH(0x36cbc80), TestApp::Controller::Root=HASH(0x36725e0), TestApp=HASH(0x3756d60)) called at /usr/lib/perl5/site_perl/5.16.0/Catalyst.pm line 1733
	eval {...} called at /usr/lib/perl5/site_perl/5.16.0/Catalyst.pm line 1733
	Catalyst::execute(TestApp=HASH(0x3756d60), "TestApp::Controller::Root", Catalyst::Action=HASH(0x36cbc80)) called at /usr/lib/perl5/site_perl/5.16.0/Catalyst/Action.pm line 60
	Catalyst::Action::dispatch(Catalyst::Action=HASH(0x36cbc80), TestApp=HASH(0x3756d60)) called at /usr/lib/perl5/site_perl/5.16.0/Catalyst/Dispatcher.pm line 258
	Catalyst::Dispatcher::_do_forward(Catalyst::Dispatcher=HASH(0x3133488), "forward", TestApp=HASH(0x3756d60), "_ACTION") called at /usr/lib/perl5/site_perl/5.16.0/Catalyst/Dispatcher.pm line 238
	Catalyst::Dispatcher::forward(Catalyst::Dispatcher=HASH(0x3133488), TestApp=HASH(0x3756d60), "_ACTION") called at /usr/lib/perl5/site_perl/5.16.0/Catalyst.pm line 397
	Catalyst::forward(TestApp=HASH(0x3756d60), "_ACTION") called at /usr/lib/perl5/site_perl/5.16.0/Catalyst/Controller.pm line 135
	Catalyst::Controller::_DISPATCH(TestApp::Controller::Root=HASH(0x36725e0), TestApp=HASH(0x3756d60)) called at /usr/lib/perl5/site_perl/5.16.0/Catalyst/Action.pm line 65
	Catalyst::Action::execute(Catalyst::Action=HASH(0x36c7dc8), TestApp::Controller::Root=HASH(0x36725e0), TestApp=HASH(0x3756d60)) called at /usr/lib/perl5/site_perl/5.16.0/Catalyst.pm line 1733
	eval {...} called at /usr/lib/perl5/site_perl/5.16.0/Catalyst.pm line 1733
	Catalyst::execute(TestApp=HASH(0x3756d60), "TestApp::Controller::Root", Catalyst::Action=HASH(0x36c7dc8)) called at /usr/lib/perl5/site_perl/5.16.0/Catalyst/Action.pm line 60
	Catalyst::Action::dispatch(Catalyst::Action=HASH(0x36c7dc8), TestApp=HASH(0x3756d60)) called at /usr/lib/perl5/site_perl/5.16.0/Catalyst/Dispatcher.pm line 258
	Catalyst::Dispatcher::_do_forward(Catalyst::Dispatcher=HASH(0x3133488), "forward", TestApp=HASH(0x3756d60), "/root/_DISPATCH") called at /usr/lib/perl5/site_perl/5.16.0/Catalyst/Dispatcher.pm line 238
	Catalyst::Dispatcher::forward(Catalyst::Dispatcher=HASH(0x3133488), TestApp=HASH(0x3756d60), "/root/_DISPATCH") called at /usr/lib/perl5/site_perl/5.16.0/Catalyst.pm line 397
	Catalyst::forward(TestApp=HASH(0x3756d60), "/root/_DISPATCH") called at /usr/lib/perl5/site_perl/5.16.0/Catalyst/Dispatcher.pm line 106
	Catalyst::Dispatcher::dispatch(Catalyst::Dispatcher=HASH(0x3133488), TestApp=HASH(0x3756d60)) called at /usr/lib/perl5/site_perl/5.16.0/Catalyst.pm line 1679
	Catalyst::dispatch(TestApp=HASH(0x3756d60)) called at /usr/lib/perl5/site_perl/5.16.0/Catalyst.pm line 2014
	Catalyst::try {...} () called at /usr/lib/perl5/site_perl/5.16.0/Try/Tiny.pm line 81
	eval {...} called at /usr/lib/perl5/site_perl/5.16.0/Try/Tiny.pm line 72
	Try::Tiny::try(CODE(0x3756628), Try::Tiny::Catch=REF(0x3756490)) called at /usr/lib/perl5/site_perl/5.16.0/Catalyst.pm line 2023
	Catalyst::handle_request("TestApp", "env", HASH(0x35526c0), "response_cb", CODE(0x37564f0)) called at /usr/lib/perl5/site_perl/5.16.0/Catalyst/Engine.pm line 797
	Catalyst::Engine::__ANON__(CODE(0x37564f0)) called at /usr/lib/perl5/site_perl/5.16.0/Plack/Middleware/HTTPExceptions.pm line 32
	Plack::Middleware::HTTPExceptions::try {...} () called at /usr/lib/perl5/site_perl/5.16.0/Try/Tiny.pm line 81
	eval {...} called at /usr/lib/perl5/site_perl/5.16.0/Try/Tiny.pm line 72
	Try::Tiny::try(CODE(0x37562c8), Try::Tiny::Catch=REF(0x37097e8)) called at /usr/lib/perl5/site_perl/5.16.0/Plack/Middleware/HTTPExceptions.pm line 41
	Plack::Middleware::HTTPExceptions::__ANON__(CODE(0x3756190)) called at /usr/lib/perl5/site_perl/5.16.0/Plack/Util.pm line 301
	Plack::Util::__ANON__(CODE(0x3756058)) called at /usr/lib/perl5/site_perl/5.16.0/Plack/Util.pm line 301
	Plack::Util::__ANON__(CODE(0x3709f98)) called at /usr/lib/perl5/site_perl/5.16.0/Plack/Util.pm line 301
	Plack::Util::__ANON__(CODE(0x3709ef0)) called at /usr/lib/perl5/site_perl/5.16.0/HTTP/Message/PSGI.pm line 100
	HTTP::Message::PSGI::res_from_psgi(CODE(0x3709650)) called at /usr/lib/perl5/site_perl/5.16.0/HTTP/Message/PSGI.pm line 155
	HTTP::Response::from_psgi("HTTP::Response", CODE(0x3709650)) called at /usr/lib/perl5/site_perl/5.16.0/Plack/Test/MockHTTP.pm line 24
	Plack::Test::MockHTTP::try {...} () called at /usr/lib/perl5/site_perl/5.16.0/Try/Tiny.pm line 76
	eval {...} called at /usr/lib/perl5/site_perl/5.16.0/Try/Tiny.pm line 72
	Try::Tiny::try(CODE(0x359af50), Try::Tiny::Catch=REF(0x36a54a8)) called at /usr/lib/perl5/site_perl/5.16.0/Plack/Test/MockHTTP.pm line 27
	Plack::Test::MockHTTP::request(Plack::Test::MockHTTP=HASH(0x3705b10), HTTP::Request=HASH(0x3705618)) called at /usr/lib/perl5/site_perl/5.16.0/Plack/Test.pm line 38
	Plack::Test::__ANON__(HTTP::Request=HASH(0x3705618)) called at /usr/lib/perl5/site_perl/5.16.0/Catalyst/Test.pm line 281
	Catalyst::Test::__ANON__(CODE(0x3705978)) called at /usr/lib/perl5/site_perl/5.16.0/Plack/Test.pm line 38
	Plack::Test::test_psgi("app", CODE(0x36dee40), "mangle_response", CODE(0x29119a0), "app", CODE(0x3705750), "client", CODE(0x3705828)) called at /usr/lib/perl5/site_perl/5.16.0/Catalyst/Test.pm line 284
	Catalyst::Test::_request(HASH(0xe5bc80), "/email?time=1393836447") called at /usr/lib/perl5/site_perl/5.16.0/Catalyst/Test.pm line 327
	Catalyst::Test::_local_request("TestApp", "/email?time=1393836447") called at /usr/lib/perl5/site_perl/5.16.0/Catalyst/Test.pm line 32
	Catalyst::Test::__ANON__("/email?time=1393836447") called at t/04basic.t line 14
t/04basic.t ..... ok
t/05template.t .. skipped: Test requires module 'Catalyst::View::TT' but it's not found
t/06config.t .... skipped: Test requires module 'Catalyst::View::TT' but it's not found
t/07mason.t ..... skipped: Test requires module 'Catalyst::View::Mason' but it's not found
All tests successful.
Files=6, Tests=6,  2 wallclock secs ( 0.06 usr  0.02 sys +  2.27 cusr  0.17 csys =  2.52 CPU)
Result: PASS

------------------------------
PREREQUISITES
------------------------------

Prerequisite modules loaded:

requires:

    Module                Need     Have    
    --------------------- -------- --------
    Authen::SASL          2.13     2.16    
    Catalyst              5.7      5.90060 
    Email::MIME           1.859    1.926   
    Email::MIME::Creator  1.455    1.926   
    Email::Sender::Simple 0.100110 1.300011
    MIME::Base64          3.08     3.14    
    Moose                 0.93     2.1204  
    parent                0.223    0.228   
    Test::More            0.88     1.001002
    Test::Requires        0        0.07    

build_requires:

    Module                Need     Have    
    --------------------- -------- --------
    ExtUtils::MakeMaker   6.36     6.90    
    Test::More            0        1.001002
    Test::Requires        0        0.07    

configure_requires:

    Module                Need     Have    
    --------------------- -------- --------
    ExtUtils::MakeMaker   6.36     6.90    


------------------------------
ENVIRONMENT AND OTHER CONTEXT
------------------------------

Environment variables:

    LANG = POSIX
    LC_CTYPE = ru_RU.UTF-8
    LD_LIBRARY_PATH = /usr/lib64/mpi/gcc/openmpi/lib64
    PATH = /usr/lib64/mpi/gcc/openmpi/bin:/sbin:/usr/sbin:/usr/local/sbin:/root/bin:/usr/local/bin:/usr/bin:/bin:/usr/bin/X11:/usr/X11R6/bin:/usr/games:/opt/kde3/bin
    PERL5LIB = 
    PERL5OPT = 
    PERL5_CPANPLUS_IS_RUNNING = 21050
    PERL5_CPAN_IS_RUNNING = 21050
    SHELL = /bin/bash
    TERM = xterm

Perl special variables (and OS-specific diagnostics, for MSWin32):

    $^X = /usr/bin/perl
    $UID/$EUID = 0 / 0
    $GID = 0 0
    $EGID = 0 0

Perl module toolchain versions installed:

    Module              Have    
    ------------------- --------
    CPAN                2.00    
    CPAN::Meta          2.133380
    Cwd                 3.33    
    ExtUtils::CBuilder  0.280212
    ExtUtils::Command   1.18    
    ExtUtils::Install   1.58    
    ExtUtils::MakeMaker 6.90    
    ExtUtils::Manifest  1.63    
    ExtUtils::ParseXS   3.22    
    File::Spec          3.33    
    JSON                2.61    
    JSON::PP            2.27203 
    Module::Build       0.4205  
    Module::Signature   n/a     
    Parse::CPAN::Meta   1.4413  
    Test::Harness       3.30    
    Test::More          1.001002
    YAML                0.90    
    YAML::Syck          n/a     
    version             0.9908  


--

Summary of my perl5 (revision 5 version 16 subversion 0) configuration:
   
  Platform:
    osname=linux, osvers=3.4.6-2.10-default, archname=x86_64-linux-thread-multi
    uname='linux build30 3.4.6-2.10-default #1 smp thu jul 26 09:36:26 utc 2012 (641c197) x86_64 x86_64 x86_64 gnulinux '
    config_args='-ds -e -Dprefix=/usr -Dvendorprefix=/usr -Dinstallusrbinperl -Dusethreads -Di_db -Di_dbm -Di_ndbm -Di_gdbm -Dd_dbm_open -Duseshrplib=true -Doptimize=-fmessage-length=0 -O2 -Wall -D_FORTIFY_SOURCE=2 -fstack-protector -funwind-tables -fasynchronous-unwind-tables -g -Wall -pipe -Accflags=-DPERL_USE_SAFE_PUTENV -Dotherlibdirs=/usr/lib/perl5/site_perl'
    hint=recommended, useposix=true, d_sigaction=define
    useithreads=define, usemultiplicity=define
    useperlio=define, d_sfio=undef, uselargefiles=define, usesocks=undef
    use64bitint=define, use64bitall=define, uselongdouble=undef
    usemymalloc=n, bincompat5005=undef
  Compiler:
    cc='cc', ccflags ='-D_REENTRANT -D_GNU_SOURCE -DPERL_USE_SAFE_PUTENV -fno-strict-aliasing -pipe -fstack-protector -D_LARGEFILE_SOURCE -D_FILE_OFFSET_BITS=64',
    optimize='-fmessage-length=0 -O2 -Wall -D_FORTIFY_SOURCE=2 -fstack-protector -funwind-tables -fasynchronous-unwind-tables -g -Wall -pipe',
    cppflags='-D_REENTRANT -D_GNU_SOURCE -DPERL_USE_SAFE_PUTENV -fno-strict-aliasing -pipe -fstack-protector'
    ccversion='', gccversion='4.7.1 20120723 [gcc-4_7-branch revision 189773]', gccosandvers=''
    intsize=4, longsize=8, ptrsize=8, doublesize=8, byteorder=12345678
    d_longlong=define, longlongsize=8, d_longdbl=define, longdblsize=16
    ivtype='long', ivsize=8, nvtype='double', nvsize=8, Off_t='off_t', lseeksize=8
    alignbytes=8, prototype=define
  Linker and Libraries:
    ld='cc', ldflags =' -L/usr/local/lib64 -fstack-protector'
    libpth=/lib64 /usr/lib64 /usr/local/lib64
    libs=-lm -ldl -lcrypt -lpthread
    perllibs=-lm -ldl -lcrypt -lpthread
    libc=/lib64/libc-2.15.so, so=so, useshrplib=true, libperl=libperl.so
    gnulibc_version='2.15'
  Dynamic Linking:
    dlsrc=dl_dlopen.xs, dlext=so, d_dlsymun=undef, ccdlflags='-Wl,-E -Wl,-rpath,/usr/lib/perl5/5.16.0/x86_64-linux-thread-multi/CORE'
    cccdlflags='-fPIC', lddlflags='-shared -L/usr/local/lib64 -fstack-protector'


Characteristics of this binary (from libperl): 
  Compile-time options: HAS_TIMES MULTIPLICITY PERLIO_LAYERS
                        PERL_DONT_CREATE_GVSV PERL_IMPLICIT_CONTEXT
                        PERL_MALLOC_WRAP PERL_PRESERVE_IVUV
                        PERL_USE_SAFE_PUTENV USE_64_BIT_ALL USE_64_BIT_INT
                        USE_ITHREADS USE_LARGE_FILES USE_LOCALE
                        USE_LOCALE_COLLATE USE_LOCALE_CTYPE
                        USE_LOCALE_NUMERIC USE_PERLIO USE_PERL_ATOF
                        USE_REENTRANT_API
  Built under linux
  Compiled at Mar 11 2013 10:59:30
  %ENV:
    PERL5LIB=""
    PERL5OPT=""
    PERL5_CPANPLUS_IS_RUNNING="21050"
    PERL5_CPAN_IS_RUNNING="21050"
  @INC:
    /usr/lib/perl5/site_perl/5.16.0/x86_64-linux-thread-multi
    /usr/lib/perl5/site_perl/5.16.0
    /usr/lib/perl5/vendor_perl/5.16.0/x86_64-linux-thread-multi
    /usr/lib/perl5/vendor_perl/5.16.0
    /usr/lib/perl5/5.16.0/x86_64-linux-thread-multi
    /usr/lib/perl5/5.16.0
    /usr/lib/perl5/site_perl/5.16.0/x86_64-linux-thread-multi
    /usr/lib/perl5/site_perl/5.16.0
    /usr/lib/perl5/site_perl
    .