Report for WWW-Curl-Simple-0.100191

Back
From: metabase:user:e099aa30-bf4f-11e0-b0bb-a7aeb748a6a7
Subject: PASS WWW-Curl-Simple-0.100191 v5.21.1 Mac OS X
Date: 2014-06-26T07:14:04Z

This distribution has been tested as part of the CPAN Testers
project, supporting the Perl programming language.  See
http://wiki.cpantesters.org/ for more information or email
questions to cpan-testers-discuss@perl.org


--
Dear Andreas Marienborg,

This is a computer-generated report for WWW-Curl-Simple-0.100191
on perl 5.21.1, created by CPAN-Reporter-1.2011.

Thank you for uploading your work to CPAN.  Congratulations!
All tests were successful.

Sections of this report:

    * Tester comments
    * Program output
    * Prerequisites
    * Environment and other context

------------------------------
TESTER COMMENTS
------------------------------

Additional comments from tester:

none provided

------------------------------
PROGRAM OUTPUT
------------------------------

Output from '/usr/bin/make test':

PERL_DL_NONLAZY=1 /usr/local/perl/5211/bin/perl "-MExtUtils::Command::MM" "-MTest::Harness" "-e" "undef *Test::Harness::Switches; test_harness(0, 'blib/lib', 'blib/arch')" t/*.t
t/00-compile.t ................... ok
# Testing WWW::Curl::Simple 0.100191, Perl 5.021001, /usr/local/perl/5211/bin/perl
t/00.load.t ...................... ok
# 
# 
# Generated by Dist::Zilla::Plugin::ReportVersions::Tiny v1.10
# perl: 5.021001 (wanted any version) on darwin from /usr/local/perl/5211/bin/perl
# 
# Carp                                          => 1.34       (want any version)
# ExtUtils::MakeMaker                           => 6.98       (want 6.30)   
# File::Spec                                    => 3.48       (want any version)
# HTTP::Request                                 => 6.00       (want any version)
# HTTP::Response                                => 6.04       (want any version)
# IO::Handle                                    => 1.35       (want any version)
# IPC::Open3                                    => 1.16       (want any version)
# Moose                                         => 2.1209     (want any version)
# Scalar::Util                                  => 1.39       (want any version)
# Test::Exception                               => 0.32       (want any version)
# Test::More                                    => 1.001003   (want 0.96)   
# Time::HiRes                                   => 1.9726     (want 1.9705) 
# WWW::Curl::Easy                               => 4.17       (want any version)
# WWW::Curl::Multi                              => <undef>    (want any version)
# base                                          => 2.22       (want any version)
# namespace::clean                              => 0.25       (want any version)
# strict                                        => 1.08       (want any version)
# warnings                                      => 1.24       (want any version)
# 
# Thanks for using my code.  I hope it works for you.
# If not, please try and include this output in the bug report.
# That will help me reproduce the issue and solve your problem.
# 
t/000-report-versions-tiny.t ..... ok
t/10.simple.t .................... skipped: Net::Server::Single is required for this test
t/20.timeout.t ................... skipped: Net::Server::Single is required for this test
t/author-10.usage.multi.t ........ skipped: these tests are for testing by the author
t/author-10.usage.single.t ....... skipped: these tests are for testing by the author
t/author-20.non-fatal.t .......... skipped: these tests are for testing by the author
t/author-20.timeout-old.t ........ skipped: these tests are for testing by the author
t/author-30.max-redirects.t ...... skipped: these tests are for testing by the author
t/author-31.check-ssl-certs.t .... skipped: these tests are for testing by the author
t/author-99.pua-compat.t ......... skipped: these tests are for testing by the author
t/release-changes_has_content.t .. skipped: these tests are for release candidate testing
t/release-cpan-changes.t ......... skipped: these tests are for release candidate testing
t/release-pod-coverage.t ......... skipped: these tests are for release candidate testing
t/release-pod-syntax.t ........... skipped: these tests are for release candidate testing
t/release-synopsis.t ............. skipped: these tests are for release candidate testing
All tests successful.
Files=17, Tests=4,  3 wallclock secs ( 0.09 usr  0.04 sys +  2.58 cusr  0.23 csys =  2.94 CPU)
Result: PASS

------------------------------
PREREQUISITES
------------------------------

Prerequisite modules loaded:

requires:

    Module              Need   Have    
    ------------------- ------ --------
    Carp                0      1.34    
    HTTP::Request       0      6.00    
    HTTP::Response      0      6.04    
    Moose               0      2.1209  
    namespace::clean    0      0.25    
    Scalar::Util        0      1.39    
    Time::HiRes         1.9705 1.9726  
    WWW::Curl::Easy     0      4.17    
    WWW::Curl::Multi    0      0       

build_requires:

    Module              Need   Have    
    ------------------- ------ --------
    base                0      2.22    
    File::Spec          0      3.48    
    IO::Handle          0      1.35    
    IPC::Open3          0      1.16    
    strict              0      1.08    
    Test::Exception     0      0.32    
    Test::More          0.96   1.001003
    warnings            0      1.24    

configure_requires:

    Module              Need   Have    
    ------------------- ------ --------
    ExtUtils::MakeMaker 6.30   6.98    


------------------------------
ENVIRONMENT AND OTHER CONTEXT
------------------------------

Environment variables:

    PATH = /usr/local/apache/bin:/usr/local/bin:/Developer/usr/bin:/usr/bin:/bin:/usr/sbin:/sbin:/usr/local/bin:/opt/X11/bin
    PERL5LIB = 
    PERL5OPT = 
    PERL5_CPANPLUS_IS_RUNNING = 94223
    PERL5_CPAN_IS_RUNNING = 94223
    SHELL = /bin/tcsh
    TERM = xterm

Perl special variables (and OS-specific diagnostics, for MSWin32):

    $^X = /usr/local/perl/5211/bin/perl
    $UID/$EUID = 0 / 0
    $GID = 0 0 1 2 3 4 5 8 9 12 20 29 61 80
    $EGID = 0 0 1 2 3 4 5 8 9 12 20 29 61 80

Perl module toolchain versions installed:

    Module              Have    
    ------------------- --------
    CPAN                2.05    
    CPAN::Meta          2.141520
    Cwd                 3.48    
    ExtUtils::CBuilder  0.280216
    ExtUtils::Command   1.18    
    ExtUtils::Install   1.68    
    ExtUtils::MakeMaker 6.98    
    ExtUtils::Manifest  1.63    
    ExtUtils::ParseXS   3.25    
    File::Spec          3.48    
    JSON                2.90    
    JSON::PP            2.27203 
    Module::Build       0.4205  
    Module::Signature   n/a     
    Parse::CPAN::Meta   1.4414  
    Test::Harness       3.32    
    Test::More          1.001003
    YAML                0.95    
    YAML::Syck          n/a     
    version             0.9908  


--

Summary of my perl5 (revision 5 version 21 subversion 1) configuration:
   
  Platform:
    osname=darwin, osvers=12.5.0, archname=darwin-2level
    uname='darwin tucumcari.home 12.5.0 darwin kernel version 12.5.0: sun sep 29 13:33:47 pdt 2013; root:xnu-2050.48.12~1release_x86_64 x86_64 '
    config_args='-Dprefix=/usr/local/perl/5211'
    hint=recommended, useposix=true, d_sigaction=define
    useithreads=undef, usemultiplicity=undef
    use64bitint=define, use64bitall=define, uselongdouble=undef
    usemymalloc=n, bincompat5005=undef
  Compiler:
    cc='gcc', ccflags ='-fno-common -DPERL_DARWIN -fno-strict-aliasing -pipe -fstack-protector -I/usr/local/include -I/opt/local/include',
    optimize='-O3',
    cppflags='-fno-common -DPERL_DARWIN -fno-strict-aliasing -pipe -fstack-protector -I/usr/local/include -I/opt/local/include'
    ccversion='', gccversion='4.2.1 (Based on Apple Inc. build 5658) (LLVM build 2336.11.00)', gccosandvers=''
    intsize=4, longsize=8, ptrsize=8, doublesize=8, byteorder=12345678
    d_longlong=define, longlongsize=8, d_longdbl=define, longdblsize=16
    ivtype='long', ivsize=8, nvtype='double', nvsize=8, Off_t='off_t', lseeksize=8
    alignbytes=8, prototype=define
  Linker and Libraries:
    ld='env MACOSX_DEPLOYMENT_TARGET=10.3 gcc', ldflags =' -fstack-protector -L/usr/local/lib -L/opt/local/lib'
    libpth=/usr/local/lib /usr/lib /opt/local/lib
    libs=-lgdbm -ldbm -ldl -lm -lutil -lc
    perllibs=-ldl -lm -lutil -lc
    libc=, so=dylib, useshrplib=false, libperl=libperl.a
    gnulibc_version=''
  Dynamic Linking:
    dlsrc=dl_dlopen.xs, dlext=bundle, d_dlsymun=undef, ccdlflags=' '
    cccdlflags=' ', lddlflags=' -bundle -undefined dynamic_lookup -L/usr/local/lib -L/opt/local/lib -fstack-protector'


Characteristics of this binary (from libperl): 
  Compile-time options: HAS_TIMES PERLIO_LAYERS PERL_DONT_CREATE_GVSV
                        PERL_HASH_FUNC_ONE_AT_A_TIME_HARD PERL_MALLOC_WRAP
                        PERL_NEW_COPY_ON_WRITE PERL_PRESERVE_IVUV
                        USE_64_BIT_ALL USE_64_BIT_INT USE_LARGE_FILES
                        USE_LOCALE USE_LOCALE_COLLATE USE_LOCALE_CTYPE
                        USE_LOCALE_NUMERIC USE_PERLIO USE_PERL_ATOF
  Built under darwin
  Compiled at Jun 25 2014 21:51:50
  %ENV:
    PERL5LIB=""
    PERL5OPT=""
    PERL5_CPANPLUS_IS_RUNNING="94223"
    PERL5_CPAN_IS_RUNNING="94223"
  @INC:
    /usr/local/perl/5211/lib/site_perl/5.21.1/darwin-2level
    /usr/local/perl/5211/lib/site_perl/5.21.1
    /usr/local/perl/5211/lib/5.21.1/darwin-2level
    /usr/local/perl/5211/lib/5.21.1
    .