Report for Apache-Test-1.36

Back
From: metabase:user:30dda8bc-2aae-11df-837a-5e0a49663a4f
Subject: PASS Apache-Test-1.36 v5.10.0 Mac OS X
Date: 2011-02-03T13:49:44Z

This distribution has been tested as part of the CPAN Testers
project, supporting the Perl programming language.  See
http://wiki.cpantesters.org/ for more information or email
questions to cpan-testers-discuss@perl.org


--
Dear Fred Moyer,

This is a computer-generated report for Apache-Test-1.36
on perl 5.10.0, created by CPAN-Reporter-1.1902.

Thank you for uploading your work to CPAN.  Congratulations!
All tests were successful.

Sections of this report:

    * Tester comments
    * Program output
    * Prerequisites
    * Environment and other context

------------------------------
TESTER COMMENTS
------------------------------

Additional comments from tester:

this report is from an automated smoke testing program
and was not reviewed by a human for accuracy

------------------------------
PROGRAM OUTPUT
------------------------------

Output from '/usr/bin/make test':

/usr/bin/perl -Iblib/arch -Iblib/lib \
	t/TEST  -clean
[warning] setting ulimit to allow core files
ulimit -c unlimited; /usr/bin/perl /Users/bq_cdavis/.cpan/build/Apache-Test-1.36-1rf6n9/t/TEST -clean
APACHE_TEST_GROUP= APACHE_TEST_HTTPD= APACHE_TEST_PORT= APACHE_TEST_USER= APACHE_TEST_APXS= \
	/usr/bin/perl -Iblib/arch -Iblib/lib \
	t/TEST  -bugreport -verbose=0 
[warning] setting ulimit to allow core files
ulimit -c unlimited; /usr/bin/perl /Users/bq_cdavis/.cpan/build/Apache-Test-1.36-1rf6n9/t/TEST -bugreport -verbose=0
/usr/sbin/httpd  -d /Users/bq_cdavis/.cpan/build/Apache-Test-1.36-1rf6n9/t -f /Users/bq_cdavis/.cpan/build/Apache-Test-1.36-1rf6n9/t/conf/httpd.conf -D APACHE2 -D PERL_USEITHREADS
using Apache/2.2.15 (prefork MPM)

waiting 60 seconds for server to start: .
waiting 60 seconds for server to start: ok (waited 0 secs)
server localhost:8529 started
[   info] adding source lib /Users/bq_cdavis/.cpan/build/Apache-Test-1.36-1rf6n9/lib to @INC
[warning] Using random number seed: 464068505 (autogenerated)
t/request.t .............. ok
Use of uninitialized value $Testout in open at /Volumes/ag-russell/perl/MacOSX-10.6.6-i386/lib/perl5/Test/Builder.pm line 1880.
t/import.t ............... ok
t/redirect.t ............. ok
t/sok.t .................. ok
t/log_watch.t ............ ok
t/next_available_port.t .. ok
t/more/all.t ............. skipped: cannot find module 'mod_perl.c'
t/bad_coding.t ........... ok
t/alltest/all.t .......... skipped: testing all.t
t/cookies.t .............. ok
t/alltest2/all.t ......... skipped: testing more than one all.t
t/ping.t ................. ok
All tests successful.
Files=12, Tests=88, 20 wallclock secs ( 0.09 usr  0.06 sys +  3.64 cusr  0.97 csys =  4.76 CPU)
Result: PASS
[warning] server localhost:8529 shutdown

------------------------------
PREREQUISITES
------------------------------

Prerequisite modules loaded:

requires:

    Module              Need Have
    ------------------- ---- ----
    Cwd                 2.06 3.33
    File::Spec          0.8  3.33

configure_requires:

    Module              Need Have
    ------------------- ---- ----
    ExtUtils::MakeMaker 0    6.56


------------------------------
ENVIRONMENT AND OTHER CONTEXT
------------------------------

Environment variables:

    AUTOMATED_TESTING = 1
    LANG = C
    LC_COLLATE = de_DE.utf-8
    LC_CTYPE = de_DE.utf-8
    LC_MESSAGES = de_DE.utf-8
    LC_MONETARY = de_DE.utf-8
    LC_NUMERIC = de_DE.utf-8
    LC_TIME = de_DE.utf-8
    LD_LIBRARY_PATH = :/usr/lib/jni:/Volumes/ag-russell/install/MacOSX-10.6.6-i386/lib:/Volumes/ag-russell/install/MacOSX-10.6.6-i386/lib64:/usr/lib/mysql:/Volumes/ag-russell/install/MacOSX-10.6.6-i386/lib:/Volumes/ag-russell/install/MacOSX-10.6.6-i386/lib64:/usr/lib/mysql
    PATH = /usr/java/jdk1.6.0_22/bin:/usr/java/jdk1.6.0_21/bin:/Volumes/ag-russell/perl/MacOSX-10.6.6-i386/bin:/usr/java/jdk1.6.0_22/bin:/usr/java/jdk1.6.0_21/bin:/Volumes/ag-russell/perl/MacOSX-10.6.6-i386/bin:/sw/bin:/sw/sbin:/Users/bq_cdavis/scripts:/Users/bq_cdavis/admin:/Users/bq_cdavis/usr/bin:/Users/bq_cdavis/bin:/usr/local/bin:/usr/local/sbin:/bin:/sbin:/usr/bin:/usr/sbin:/usr/X11R6/bin:/usr/bin:/bin:/usr/sbin:/sbin:/usr/local/bin:/usr/local/ncbi/blast/bin:/usr/X11/bin:/Users/bq_cdavis/.eclipse/org.eclipse.platform*/plugins/com.google.appengine.eclipse.sdkbundle*/appengine-java-sdk*/bin:/sbin:/Volumes/ag-russell/admin:/Volumes/ag-russell/admin/data:/Volumes/ag-russell/install/MacOSX-10.6.6-i386/bin:/Volumes/ag-russell/code/misc/bin:/opt/pbs/bin:/usr/pbs/bin:/Volumes/ag-russell/lbin:/usr/local/ncbi/blast/bin:/sbin:/Volumes/ag-russell/admin:/Volumes/ag-russell/admin/data:/Volumes/ag-russell/install/MacOSX-10.6.6-i386/bin:/Volumes/ag-russell/code/misc/bin:/opt/pbs/bin:/usr/pbs/bin:/Volumes/ag-russell/lbin:/usr/local/ncbi/blast/bin
    PERL5LIB = /Volumes/ag-russell/perl/MacOSX-10.6.6-i386/lib/perl5/darwin-thread-multi-2level:/Volumes/ag-russell/perl/MacOSX-10.6.6-i386/lib/perl5:/Volumes/ag-russell/perl/MacOSX-10.6.6-i386/lib/perl5/darwin-thread-multi-2level:/Volumes/ag-russell/perl/MacOSX-10.6.6-i386/lib/perl5:/sw/lib/perl5:/sw/lib/perl5/darwin:/Users/bq_cdavis/scripts:/Users/bq_cdavis/scrap/perl::/Volumes/ag-russell/install/MacOSX-10.6.6-i386/lib/perl5:/Volumes/ag-russell/code/misc/lib:/Volumes/ag-russell/install/MacOSX-10.6.6-i386/lib/perl5:/Volumes/ag-russell/code/misc/lib
    PERL5OPT = 
    PERL5_CPANPLUS_IS_RUNNING = 43925
    PERL5_CPAN_IS_RUNNING = 43925
    PERL5_CPAN_IS_RUNNING_IN_RECURSION = 27788,43925
    PERL_CR_SMOKER_CURRENT = Apache-Test-1.36
    PERL_EXTUTILS_AUTOINSTALL = --defaultdeps
    PERL_LOCAL_LIB_ROOT = /Volumes/ag-russell/perl/MacOSX-10.6.6-i386
    PERL_MB_OPT = --install_base /Volumes/ag-russell/perl/MacOSX-10.6.6-i386
    PERL_MM_OPT = INSTALL_BASE=/Volumes/ag-russell/perl/MacOSX-10.6.6-i386
    PERL_MM_USE_DEFAULT = 1
    SHELL = /bin/bash
    TERM = xterm
    TMPDIR = /var/folders/VR/VRWUPh9XEZSNg38Es5zg+++++TI/-Tmp-/
    VERSIONER_PERL_PREFER_32_BIT = yes
    VERSIONER_PERL_VERSION = 5.10.0
    ac_cv_path_INTLTOOL_PERL = /usr/bin/perl

Perl special variables (and OS-specific diagnostics, for MSWin32):

    $^X = /usr/bin/perl
    $UID/$EUID = 501 / 501
    $GID = 20 20 402 401 204 100 98 81 80 79 61 12 403
    $EGID = 20 20 402 401 204 100 98 81 80 79 61 12 403

Perl module toolchain versions installed:

    Module              Have    
    ------------------- --------
    CPAN                1.9402  
    Cwd                 3.33    
    ExtUtils::CBuilder  0.280202
    ExtUtils::Command   1.16    
    ExtUtils::Install   1.54    
    ExtUtils::MakeMaker 6.56    
    ExtUtils::Manifest  1.56    
    ExtUtils::ParseXS   2.2206  
    File::Spec          3.33    
    Module::Build       0.3624  
    Module::Signature   0.66    
    Test::Harness       3.22    
    Test::More          0.96    
    YAML                0.72    
    YAML::Syck          1.05    
    version             0.88    


--

Summary of my perl5 (revision 5 version 10 subversion 0) configuration:
  Platform:
    osname=darwin, osvers=10.0, archname=darwin-thread-multi-2level
    uname='darwin neige.apple.com 10.0 darwin kernel version 10.0.0d8: tue may 5 19:29:59 pdt 2009; root:xnu-1437.2~2release_i386 i386 '
    config_args='-ds -e -Dprefix=/usr -Dccflags=-g  -pipe  -Dldflags= -Dman3ext=3pm -Duseithreads -Duseshrplib -Dinc_version_list=none -Dcc=gcc-4.2'
    hint=recommended, useposix=true, d_sigaction=define
    useithreads=define, usemultiplicity=define
    useperlio=define, d_sfio=undef, uselargefiles=define, usesocks=undef
    use64bitint=define, use64bitall=define, uselongdouble=undef
    usemymalloc=n, bincompat5005=undef
  Compiler:
    cc='gcc-4.2', ccflags ='-arch x86_64 -arch i386 -arch ppc -g -pipe -fno-common -DPERL_DARWIN -fno-strict-aliasing -I/usr/local/include',
    optimize='-Os',
    cppflags='-g -pipe -fno-common -DPERL_DARWIN -fno-strict-aliasing -I/usr/local/include'
    ccversion='', gccversion='4.2.1 (Apple Inc. build 5646)', gccosandvers=''
    intsize=4, longsize=4, ptrsize=4, doublesize=8, byteorder=1234
    d_longlong=define, longlongsize=8, d_longdbl=define, longdblsize=16
    ivtype='long', ivsize=4, nvtype='double', nvsize=8, Off_t='off_t', lseeksize=8
    alignbytes=8, prototype=define
  Linker and Libraries:
    ld='gcc-4.2 -mmacosx-version-min=10.6', ldflags ='-arch x86_64 -arch i386 -arch ppc -L/usr/local/lib'
    libpth=/usr/local/lib /usr/lib
    libs=-ldbm -ldl -lm -lutil -lc
    perllibs=-ldl -lm -lutil -lc
    libc=/usr/lib/libc.dylib, so=dylib, useshrplib=true, libperl=libperl.dylib
    gnulibc_version=''
  Dynamic Linking:
    dlsrc=dl_dlopen.xs, dlext=bundle, d_dlsymun=undef, ccdlflags=' '
    cccdlflags=' ', lddlflags='-arch x86_64 -arch i386 -arch ppc -bundle -undefined dynamic_lookup -L/usr/local/lib'


Characteristics of this binary (from libperl): 
  Compile-time options: MULTIPLICITY PERL_DONT_CREATE_GVSV
                        PERL_IMPLICIT_CONTEXT PERL_MALLOC_WRAP USE_ITHREADS
                        USE_LARGE_FILES USE_PERLIO USE_REENTRANT_API
  Locally applied patches:
	/Library/Perl/Updates/<version> comes before system perl directories
	installprivlib and installarchlib points to the Updates directory
  Built under darwin
  Compiled at Jun 24 2009 00:35:28
  %ENV:
    PERL5LIB="/Volumes/ag-russell/perl/MacOSX-10.6.6-i386/lib/perl5/darwin-thread-multi-2level:/Volumes/ag-russell/perl/MacOSX-10.6.6-i386/lib/perl5:/Volumes/ag-russell/perl/MacOSX-10.6.6-i386/lib/perl5/darwin-thread-multi-2level:/Volumes/ag-russell/perl/MacOSX-10.6.6-i386/lib/perl5:/sw/lib/perl5:/sw/lib/perl5/darwin:/Users/bq_cdavis/scripts:/Users/bq_cdavis/scrap/perl::/Volumes/ag-russell/install/MacOSX-10.6.6-i386/lib/perl5:/Volumes/ag-russell/code/misc/lib:/Volumes/ag-russell/install/MacOSX-10.6.6-i386/lib/perl5:/Volumes/ag-russell/code/misc/lib"
    PERL5OPT=""
    PERL5_CPANPLUS_IS_RUNNING="43925"
    PERL5_CPAN_IS_RUNNING="43925"
    PERL5_CPAN_IS_RUNNING_IN_RECURSION="27788,43925"
    PERL_CR_SMOKER_CURRENT="Apache-Test-1.36"
    PERL_EXTUTILS_AUTOINSTALL="--defaultdeps"
    PERL_LOCAL_LIB_ROOT="/Volumes/ag-russell/perl/MacOSX-10.6.6-i386"
    PERL_MB_OPT="--install_base /Volumes/ag-russell/perl/MacOSX-10.6.6-i386"
    PERL_MM_OPT="INSTALL_BASE=/Volumes/ag-russell/perl/MacOSX-10.6.6-i386"
    PERL_MM_USE_DEFAULT="1"
  @INC:
    /Volumes/ag-russell/perl/MacOSX-10.6.6-i386/lib/perl5/darwin-thread-multi-2level
    /Volumes/ag-russell/perl/MacOSX-10.6.6-i386/lib/perl5/darwin-thread-multi-2level
    /Volumes/ag-russell/perl/MacOSX-10.6.6-i386/lib/perl5
    /Volumes/ag-russell/perl/MacOSX-10.6.6-i386/lib/perl5/darwin-thread-multi-2level
    /Volumes/ag-russell/perl/MacOSX-10.6.6-i386/lib/perl5/darwin-thread-multi-2level
    /Volumes/ag-russell/perl/MacOSX-10.6.6-i386/lib/perl5
    /sw/lib/perl5/5.10.0/darwin-thread-multi-2level
    /sw/lib/perl5/5.10.0
    /sw/lib/perl5/darwin-thread-multi-2level
    /sw/lib/perl5
    /sw/lib/perl5/darwin
    /Users/bq_cdavis/scripts
    /Users/bq_cdavis/scrap/perl
    /Volumes/ag-russell/install/MacOSX-10.6.6-i386/lib/perl5
    /Volumes/ag-russell/code/misc/lib
    /Volumes/ag-russell/install/MacOSX-10.6.6-i386/lib/perl5
    /Volumes/ag-russell/code/misc/lib
    /Library/Perl/Updates/5.10.0/darwin-thread-multi-2level
    /Library/Perl/Updates/5.10.0
    /System/Library/Perl/5.10.0/darwin-thread-multi-2level
    /System/Library/Perl/5.10.0
    /Library/Perl/5.10.0/darwin-thread-multi-2level
    /Library/Perl/5.10.0
    /Network/Library/Perl/5.10.0/darwin-thread-multi-2level
    /Network/Library/Perl/5.10.0
    /Network/Library/Perl
    /System/Library/Perl/Extras/5.10.0/darwin-thread-multi-2level
    /System/Library/Perl/Extras/5.10.0
    .