Report for Dependencies-Searcher-0.066_005

Back
From: metabase:user:30ae4450-2aae-11df-837a-5e0a49663a4f
Subject: PASS Dependencies-Searcher-0.066_005 v5.12.2 
Date: 2016-05-19T07:27:24Z

This distribution has been tested as part of the CPAN Testers
project, supporting the Perl programming language.  See
http://wiki.cpantesters.org/ for more information or email
questions to cpan-testers-discuss@perl.org


--
Dear Sebastien Feugere,

This is a computer-generated report for Dependencies-Searcher-0.066_005
on perl 5.12.2, created by CPAN-Reporter-1.2014.

Thank you for uploading your work to CPAN.  Congratulations!
All tests were successful.

Sections of this report:

    * Tester comments
    * Program output
    * Prerequisites
    * Environment and other context

------------------------------
TESTER COMMENTS
------------------------------

Additional comments from tester:

this report is from an automated smoke testing program
and was not reviewed by a human for accuracy

------------------------------
PROGRAM OUTPUT
------------------------------

Output from 'C:\strawberry\c\bin\dmake.EXE test':

C:\strawberry\perl\bin\perl.exe "-MExtUtils::Command::MM" "-MTest::Harness" "-e" "undef *Test::Harness::Switches; test_harness(0, 'blib\lib', 'blib\arch')" t/*.t
# Testing Dependencies::Searcher 0.066_005, Perl 5.012002, C:\strawberry\perl\bin\perl.exe
t/00-load.t ............... ok
t/01_corelist.t ........... ok
t/02_get_files.t .......... ok
[
    [0]  "use 5.010;",
    [1]  "use Data::Printer;",
    [2]  "use feature qw(say);",
    [3]  "use Module::CoreList;",
    [4]  "use Module::Version 'get_version';",
    [5]  "use autodie;",
    [6]  "use Moose;",
    [7]  "use IO::File;  ",
    [8]  "use File::HomeDir;",
    [9]  "use Version::Compare;",
    [10] "use Path::Class;",
    [11] "use ExtUtils::Installed;",
    [12] "use File::Next;",
    [13] "use PPI;",
    [14] "use Term::ANSIColor;",
    [15] "use \s",
    [16] "use 5.010;",
    [17] "use strict;",
    [18] "use warnings FATAL => 'all';",
    [19] "use ExtUtils::MakeMaker;"
]
t/03-get_modules.t ........ ok
t/04-avoid-superfluous.t .. ok
t/05-regex-cleaner.t ...... ok
[
    [0]  "use 5.010;",
    [1]  "use Data::Printer;",
    [2]  "use feature qw(say);",
    [3]  "use Module::CoreList;",
    [4]  "use Module::Version 'get_version';",
    [5]  "use autodie;",
    [6]  "use Moose;",
    [7]  "use IO::File;  ",
    [8]  "use File::HomeDir;",
    [9]  "use Version::Compare;",
    [10] "use Path::Class;",
    [11] "use ExtUtils::Installed;",
    [12] "use File::Next;",
    [13] "use PPI;",
    [14] "use Term::ANSIColor;",
    [15] "use \s",
    [16] "use 5.010;",
    [17] "use strict;",
    [18] "use warnings FATAL => 'all';",
    [19] "use ExtUtils::MakeMaker;"
]
[]
t/06-regex-pattern.t ...... ok
t/10-cpanfile.t ........... ok
t/manifest.t .............. skipped: Author tests not required for installation
t/pod-coverage.t .......... ok
t/pod.t ................... ok
All tests successful.
Files=11, Tests=372, 13 wallclock secs ( 0.12 usr +  0.07 sys =  0.19 CPU)
Result: PASS

------------------------------
PREREQUISITES
------------------------------

Prerequisite modules loaded:

requires:

    Module              Need       Have      
    ------------------- ---------- ----------
    Data::Printer       0.35       0.35      
    File::HomeDir       1          1.00      
    File::Next          1.12       1.12      
    Module::CoreList    5.20160429 5.20160507
    Module::Version     0.12       0.12      
    Moose               2.0602     2.1210    
    Path::Class         0.32       0.33      
    perl                5.010      5.012002  
    PPI                 1.22       1.220     
    Version::Compare    0.14       0.14      

build_requires:

    Module              Need       Have      
    ------------------- ---------- ----------
    IO::File            0          1.14      
    Module::Version     0.12       0.12      
    Test::More          0          1.001003  
    Test::Pod           1.48       1.48      
    Test::Pod::Coverage 1.08       1.10      

configure_requires:

    Module              Need       Have      
    ------------------- ---------- ----------
    ExtUtils::MakeMaker 6.74       6.98      


------------------------------
ENVIRONMENT AND OTHER CONTEXT
------------------------------

Environment variables:

    AUTOMATED_TESTING = 1
    COMSPEC = C:\WINDOWS\system32\cmd.exe
    NUMBER_OF_PROCESSORS = 1
    PATH = c:\Windows\system32;c:\Windows\System32\Wbem;C:\Git\cmd;C:\strawberry\c\bin;C:\strawberry\perl\site\bin;C:\strawberry\perl\bin
    PERL5LIB = C:\strawberry\cpan\build\Module-CoreList-5.20160507-glM4mZ/blib/arch;C:\strawberry\cpan\build\Module-CoreList-5.20160507-glM4mZ/blib/lib;C:\strawberry\cpan\build\Version-Compare-0.14-cbNR3T/blib/arch;C:\strawberry\cpan\build\Version-Compare-0.14-cbNR3T/blib/lib;C:\strawberry\cpan\build\PPI-1.220-XvKz_T/blib/arch;C:\strawberry\cpan\build\PPI-1.220-XvKz_T/blib/lib
    PERL5OPT = 
    PERL5_CPANPLUS_IS_RUNNING = 1164
    PERL5_CPAN_IS_RUNNING = 1164
    PERL5_CPAN_IS_RUNNING_IN_RECURSION = 1644,1164
    PERL_CR_SMOKER_CURRENT = Dependencies-Searcher-0.066_005
    PERL_CR_SMOKER_RUNONCE = 1
    PERL_EXTUTILS_AUTOINSTALL = --defaultdeps
    PERL_MM_USE_DEFAULT = 1
    PROCESSOR_IDENTIFIER = x86 Family 16 Model 5 Stepping 3, AuthenticAMD
    TEMP = C:\DOCUME~1\c\LOCALS~1\Temp
    TERM = dumb

Perl special variables (and OS-specific diagnostics, for MSWin32):

    $^X = C:\strawberry\perl\bin\perl.exe
    $UID/$EUID = 0 / 0
    $GID = 0
    $EGID = 0
    Win32::GetOSName = WinXP/.Net
    Win32::GetOSVersion = Service Pack 3, 5, 1, 2600, 2, 3, 0, 256, 1
    Win32::FsType = NTFS
    Win32::IsAdminUser = 1

Perl module toolchain versions installed:

    Module              Have    
    ------------------- --------
    CPAN                2.00    
    CPAN::Meta          2.141520
    Cwd                 3.47    
    ExtUtils::CBuilder  0.280216
    ExtUtils::Command   1.16    
    ExtUtils::Install   1.55    
    ExtUtils::MakeMaker 6.98    
    ExtUtils::Manifest  1.60    
    ExtUtils::ParseXS   3.24    
    File::Spec          3.47    
    JSON                2.90    
    JSON::PP            2.27203 
    Module::Build       0.4206  
    Module::Signature   0.66    
    Parse::CPAN::Meta   1.4414  
    Test::Harness       3.32    
    Test::More          1.001003
    YAML                0.98    
    YAML::Syck          1.27    
    version             0.9908  


--

Summary of my perl5 (revision 5 version 12 subversion 2) configuration:
   
  Platform:
    osname=MSWin32, osvers=5.1, archname=MSWin32-x86-multi-thread
    uname='Win32 strawberryperl 5.12.2.0 #1 Fri Nov  5 05:17:27 2010 i386'
    config_args='undef'
    hint=recommended, useposix=true, d_sigaction=undef
    useithreads=define, usemultiplicity=define
    useperlio=define, d_sfio=undef, uselargefiles=define, usesocks=undef
    use64bitint=undef, use64bitall=undef, uselongdouble=undef
    usemymalloc=n, bincompat5005=undef
  Compiler:
    cc='gcc', ccflags =' -s -O2 -DWIN32 -DHAVE_DES_FCRYPT  -DUSE_SITECUSTOMIZE -DPERL_IMPLICIT_CONTEXT -DPERL_IMPLICIT_SYS -fno-strict-aliasing -mms-bitfields -DPERL_MSVCRT_READFIX',
    optimize='-s -O2',
    cppflags='-DWIN32'
    ccversion='', gccversion='4.4.3', gccosandvers=''
    intsize=4, longsize=4, ptrsize=4, doublesize=8, byteorder=1234
    d_longlong=undef, longlongsize=8, d_longdbl=define, longdblsize=12
    ivtype='long', ivsize=4, nvtype='double', nvsize=8, Off_t='long long', lseeksize=8
    alignbytes=8, prototype=define
  Linker and Libraries:
    ld='g++', ldflags ='-s -L"C:\strawberry\perl\lib\CORE" -L"C:\strawberry\c\lib"'
    libpth=C:\strawberry\c\lib C:\strawberry\c\i686-w64-mingw32\lib
    libs=-lmoldname -lkernel32 -luser32 -lgdi32 -lwinspool -lcomdlg32 -ladvapi32 -lshell32 -lole32 -loleaut32 -lnetapi32 -luuid -lws2_32 -lmpr -lwinmm -lversion -lodbc32 -lodbccp32 -lcomctl32
    perllibs=-lmoldname -lkernel32 -luser32 -lgdi32 -lwinspool -lcomdlg32 -ladvapi32 -lshell32 -lole32 -loleaut32 -lnetapi32 -luuid -lws2_32 -lmpr -lwinmm -lversion -lodbc32 -lodbccp32 -lcomctl32
    libc=, so=dll, useshrplib=true, libperl=libperl512.a
    gnulibc_version=''
  Dynamic Linking:
    dlsrc=dl_win32.xs, dlext=dll, d_dlsymun=undef, ccdlflags=' '
    cccdlflags=' ', lddlflags='-mdll -s -L"C:\strawberry\perl\lib\CORE" -L"C:\strawberry\c\lib"'


Characteristics of this binary (from libperl): 
  Compile-time options: MULTIPLICITY PERL_DONT_CREATE_GVSV
                        PERL_IMPLICIT_CONTEXT PERL_IMPLICIT_SYS
                        PERL_MALLOC_WRAP PL_OP_SLAB_ALLOC USE_ITHREADS
                        USE_LARGE_FILES USE_PERLIO USE_PERL_ATOF
                        USE_SITECUSTOMIZE
  Built under MSWin32
  Compiled at Nov  5 2010 08:39:08
  %ENV:
    PERL5LIB="C:\strawberry\cpan\build\Module-CoreList-5.20160507-glM4mZ/blib/arch;C:\strawberry\cpan\build\Module-CoreList-5.20160507-glM4mZ/blib/lib;C:\strawberry\cpan\build\Version-Compare-0.14-cbNR3T/blib/arch;C:\strawberry\cpan\build\Version-Compare-0.14-cbNR3T/blib/lib;C:\strawberry\cpan\build\PPI-1.220-XvKz_T/blib/arch;C:\strawberry\cpan\build\PPI-1.220-XvKz_T/blib/lib"
    PERL5_CPANPLUS_IS_RUNNING="1164"
    PERL5_CPAN_IS_RUNNING="1164"
    PERL5_CPAN_IS_RUNNING_IN_RECURSION="1644,1164"
    PERL_CR_SMOKER_CURRENT="Dependencies-Searcher-0.066_005"
    PERL_CR_SMOKER_RUNONCE="1"
    PERL_EXTUTILS_AUTOINSTALL="--defaultdeps"
    PERL_MM_USE_DEFAULT="1"
  @INC:
    C:\strawberry\cpan\build\Module-CoreList-5.20160507-glM4mZ/blib/arch
    C:\strawberry\cpan\build\Module-CoreList-5.20160507-glM4mZ/blib/lib
    C:\strawberry\cpan\build\Version-Compare-0.14-cbNR3T/blib/arch
    C:\strawberry\cpan\build\Version-Compare-0.14-cbNR3T/blib/lib
    C:\strawberry\cpan\build\PPI-1.220-XvKz_T/blib/arch
    C:\strawberry\cpan\build\PPI-1.220-XvKz_T/blib/lib
    C:/strawberry/perl/site/lib
    C:/strawberry/perl/vendor/lib
    C:/strawberry/perl/lib
    .