Assert-Refute v0.17 Perl 5 v5.35.4 x86_64-linux
- Status
- Pass
- From
- Andreas J. König (ANDK)
- Dist
-
Assert-Refute v0.17
- Platform
- Perl 5 v5.35.4 x86_64-linux
- Date
- 2021-09-22 06:22:27
- ID
- 75084cba-1b6d-11ec-8f7f-b901b66db04e
This distribution has been tested as part of the CPAN Testers
project, supporting the Perl programming language. See
http://wiki.cpantesters.org/ for more information or email
questions to cpan-testers-discuss@perl.org
--
Dear Konstantin S. Uvarin,
This is a computer-generated report for Assert-Refute-0.17
on perl 5.35.4, created by CPAN-Reporter-1.2018.
Thank you for uploading your work to CPAN. Congratulations!
All tests were successful.
Sections of this report:
* Tester comments
* Program output
* Prerequisites
* Environment and other context
------------------------------
TESTER COMMENTS
------------------------------
Additional comments from tester:
this report is from an automated smoke testing program
and was not reviewed by a human for accuracy
------------------------------
PROGRAM OUTPUT
------------------------------
Output from '/usr/bin/make test':
PERL_DL_NONLAZY=1 "/tmp/basesmoker-reloperl-s0Ou/bin/perl" "-MExtUtils::Command::MM" "-MTest::Harness" "-e" "undef *Test::Harness::Switches; test_harness(0, 'blib/lib', 'blib/arch')" t/*.t
# Testing Assert::Refute 0.17, Perl 5.035004, /tmp/basesmoker-reloperl-s0Ou/bin/perl
t/000-load.t .............................. ok
t/002-try_refute.t ........................ ok
t/101-Report-refute.t ..................... ok
t/102-Contract-apply.t .................... ok
t/103-Report-signature.t .................. ok
t/105-Report-readonly.t ................... ok
t/106-Build-to_scalar.t ................... ok
t/107-Basic-deep_diff.t ................... ok
t/109-Report-do_run.t ..................... ok
t/110-Build-build_refute.t ................ ok
t/111-Contract-adjust.t ................... ok
t/112-Report-refute-multiline.t ........... ok
t/113-Report-plan-tests.t ................. ok
t/114-Report-get_result_details-vs-tap.t .. ok
t/115-T-Tester.t .......................... ok
t/116-Report-context.t .................... ok
t/117-Report-done_testing.t ............... ok
t/118-Report-get_failed_ids.t ............. ok
t/119-get_parent.t ........................ ok
t/120-set_parent.t ........................ ok
t/121-refute_and_report.t ................. ok
t/122-assert_refute.t ..................... ok
t/123-subtest-dies.t ...................... ok
t/124-Report-subcontract-Report.t ......... ok
t/125-Report-get_depth.t .................. ok
t/126-get_title-set_title.t ............... ok
t/127-configure_global.t .................. ok
t/201-current_contract.t .................. ok
t/202-Build-build_refute.t ................ ok
t/203-T-Basic-smoke.t ..................... ok
t/204-T-Basic-all.t ....................... ok
t/205-inspect.t ........................... ok
t/206-signature.t ......................... ok
t/207-subcontract.t ....................... ok
t/208-T-Basic-contract-is.t ............... ok
t/210-T-Basic-cmp_ok.t .................... ok
t/211-Basic-use_ok.t ...................... ok
t/212-get_tap-exact.t ..................... ok
t/213-Report-get_result_details.t ......... ok
t/214-plan-tests.t ........................ ok
t/215-optimize-out.t ...................... ok
t/216-carp-title.t ........................ ok
t/217-refute_invariant.t .................. ok
t/301-dies_like.t ......................... ok
t/302-warns_like.t ........................ ok
t/303-try_refute-callback-carp.t .......... ok
t/304-carp_refute-config.t ................ ok
t/401-minargs.t ........................... ok
t/402-Build-name-clash.t .................. ok
t/404-configure.t ......................... ok
t/405-Report-bad-plan.t ................... ok
t/406-Report-subcontract.t ................ ok
t/407-refute_invariant.t .................. ok
t/503-refute_these-v.0.20.t ............... ok
t/505-contract-block-v.0.20.t ............. ok
t/603-Driver-More-popen.t ................. ok
t/604-Driver-More.t ....................... ok
All tests successful.
Files=57, Tests=283, 3 wallclock secs ( 0.11 usr 0.19 sys + 2.88 cusr 0.76 csys = 3.94 CPU)
Result: PASS
------------------------------
PREREQUISITES
------------------------------
Prerequisite modules loaded:
requires:
Module Need Have
------------------- -------- --------
Data::Dumper 2 2.183
parent 0 0.238
perl 5.006002 5.035004
Scalar::Util 1.14 1.56_001
build_requires:
Module Need Have
------------------- -------- --------
Test::More 0.98 1.302187
configure_requires:
Module Need Have
------------------- -------- --------
ExtUtils::MakeMaker 0 7.62
------------------------------
ENVIRONMENT AND OTHER CONTEXT
------------------------------
Environment variables:
AUTOMATED_TESTING = 1
LANG = en_US.utf8
PATH = /home/sand/bin:/usr/local/bin:/usr/local/sbin:/usr/sbin:/usr/bin:/sbin:/bin:/usr/games:/usr/local/games:/snap/bin:/usr/local/perl/bin:/usr/X11/bin
PERL5LIB =
PERL5OPT =
PERL5_CPANPLUS_IS_RUNNING = 14923
PERL5_CPAN_IS_RUNNING = 14923
PERL_CANARY_STABILITY_NOPROMPT = 1
PERL_MM_USE_DEFAULT = 1
PERL_USE_UNSAFE_INC = 1
SHELL = /usr/bin/zsh
TERM = screen
Perl special variables (and OS-specific diagnostics, for MSWin32):
$^X = /tmp/basesmoker-reloperl-s0Ou/bin/perl
$UID/$EUID = 1005 / 1005
$GID = 1005 1005
$EGID = 1005 1005
Perl module toolchain versions installed:
Module Have
------------------- --------
CPAN 2.28
CPAN::Meta 2.150010
Cwd 3.82
ExtUtils::CBuilder 0.280236
ExtUtils::Command 7.62
ExtUtils::Install 2.20
ExtUtils::MakeMaker 7.62
ExtUtils::Manifest 1.73
ExtUtils::ParseXS 3.44
File::Spec 3.81
JSON 4.03
JSON::PP 4.06
Module::Build 0.4231
Module::Signature 0.87
Parse::CPAN::Meta 2.150010
Test::Harness 3.43
Test::More 1.302187
YAML 1.30
YAML::Syck 1.34
version 0.9929
--
Summary of my perl5 (revision 5 version 35 subversion 4) configuration:
Commit id: 7b983a9b1604cef82fc91266af0d6c35c1f43885
Platform:
osname=linux
osvers=4.15.0-156-generic
archname=x86_64-linux
uname='linux k93bionic 4.15.0-156-generic #163-ubuntu smp thu aug 19 23:31:58 utc 2021 x86_64 x86_64 x86_64 gnulinux '
config_args='-Dprefix=/home/sand/src/perl/repoperls/installed-perls/host/k93bionic/v5.35.4/2aaf -Dmyhostname=k93bionic -Dinstallusrbinperl=n -Uversiononly -Dusedevel -des -Ui_db -Dlibswanted=cl pthread socket inet nsl gdbm dbm malloc dl ld sun m crypt sec util c cposix posix ucb BSD gdbm_compat -Uuseithreads -Uuselongdouble -DEBUGGING=-g'
hint=recommended
useposix=true
d_sigaction=define
useithreads=undef
usemultiplicity=undef
use64bitint=define
use64bitall=define
uselongdouble=undef
usemymalloc=n
default_inc_excludes_dot=define
Compiler:
cc='cc'
ccflags ='-fwrapv -fno-strict-aliasing -pipe -fstack-protector-strong -I/usr/local/include -D_LARGEFILE_SOURCE -D_FILE_OFFSET_BITS=64'
optimize='-O2 -g'
cppflags='-fwrapv -fno-strict-aliasing -pipe -fstack-protector-strong -I/usr/local/include'
ccversion=''
gccversion='7.5.0'
gccosandvers=''
intsize=4
longsize=8
ptrsize=8
doublesize=8
byteorder=12345678
doublekind=3
d_longlong=define
longlongsize=8
d_longdbl=define
longdblsize=16
longdblkind=3
ivtype='long'
ivsize=8
nvtype='double'
nvsize=8
Off_t='off_t'
lseeksize=8
alignbytes=8
prototype=define
Linker and Libraries:
ld='cc'
ldflags =' -fstack-protector-strong -L/usr/local/lib'
libpth=/usr/local/lib /usr/lib/x86_64-linux-gnu /usr/lib /lib/x86_64-linux-gnu /lib
libs=-lpthread -lnsl -ldl -lm -lcrypt -lutil -lc
perllibs=-lpthread -lnsl -ldl -lm -lcrypt -lutil -lc
libc=libc-2.27.so
so=so
useshrplib=false
libperl=libperl.a
gnulibc_version='2.27'
Dynamic Linking:
dlsrc=dl_dlopen.xs
dlext=so
d_dlsymun=undef
ccdlflags='-Wl,-E'
cccdlflags='-fPIC'
lddlflags='-shared -O2 -g -L/usr/local/lib -fstack-protector-strong'
Characteristics of this binary (from libperl):
Compile-time options:
HAS_TIMES
PERLIO_LAYERS
PERL_COPY_ON_WRITE
PERL_DONT_CREATE_GVSV
PERL_MALLOC_WRAP
PERL_OP_PARENT
PERL_PRESERVE_IVUV
PERL_USE_DEVEL
USE_64_BIT_ALL
USE_64_BIT_INT
USE_LARGE_FILES
USE_LOCALE
USE_LOCALE_COLLATE
USE_LOCALE_CTYPE
USE_LOCALE_NUMERIC
USE_LOCALE_TIME
USE_PERLIO
USE_PERL_ATOF
Built under linux
Compiled at Sep 21 2021 17:38:46
%ENV:
PERL5LIB=""
PERL5OPT=""
PERL5_CPANPLUS_IS_RUNNING="14923"
PERL5_CPAN_IS_RUNNING="14923"
PERL_CANARY_STABILITY_NOPROMPT="1"
PERL_MM_USE_DEFAULT="1"
PERL_USE_UNSAFE_INC="1"
@INC:
/home/sand/src/perl/repoperls/installed-perls/host/k93bionic/v5.35.4/2aaf/lib/site_perl/5.35.4/x86_64-linux
/home/sand/src/perl/repoperls/installed-perls/host/k93bionic/v5.35.4/2aaf/lib/site_perl/5.35.4
/home/sand/src/perl/repoperls/installed-perls/host/k93bionic/v5.35.4/2aaf/lib/5.35.4/x86_64-linux
/home/sand/src/perl/repoperls/installed-perls/host/k93bionic/v5.35.4/2aaf/lib/5.35.4
.