Catalyst-Controller-HTML-FormFu v2.04 Perl 5 v5.14.4 amd64-freebsd

Status
Pass
From
Slaven Rezić (SREZIC)
Dist
Catalyst-Controller-HTML-FormFu v2.04
Platform
Perl 5 v5.14.4 amd64-freebsd
Date
2018-04-20 11:39:16
ID
750a6c06-448f-11e8-8011-c14b5ef398b2
This distribution has been tested as part of the CPAN Testers
project, supporting the Perl programming language.  See
http://wiki.cpantesters.org/ for more information or email
questions to cpan-testers-discuss@perl.org


--
Dear Nigel Metheringham,

This is a computer-generated report for Catalyst-Controller-HTML-FormFu-2.04
on perl 5.14.4, created by CPAN-Reporter-1.2018.

Thank you for uploading your work to CPAN.  Congratulations!
All tests were successful.

Sections of this report:

    * Tester comments
    * Program output
    * Prerequisites
    * Environment and other context

------------------------------
TESTER COMMENTS
------------------------------

Additional comments from tester:

none provided

------------------------------
PROGRAM OUTPUT
------------------------------

Output from '/usr/bin/make test':

PERL_DL_NONLAZY=1 "/usr/perl5.14.4/bin/perl" "-MExtUtils::Command::MM" "-MTest::Harness" "-e" "undef *Test::Harness::Switches; test_harness(0, 'blib/lib', 'blib/arch')" t/*.t t/elements/*.t
# 
# Versions for all modules listed in MYMETA.json (including optional ones):
# 
# === Configure Requires ===
# 
#     Module              Want Have
#     ------------------- ---- ----
#     ExtUtils::MakeMaker  any 7.34
# 
# === Build Requires ===
# 
#     Module              Want Have
#     ------------------- ---- ----
#     ExtUtils::MakeMaker  any 7.34
# 
# === Test Requires ===
# 
#     Module                                               Want     Have
#     ------------------------------------------------- ------- --------
#     Catalyst                                              any  5.90115
#     Catalyst::Action::RenderView                          any     0.16
#     Catalyst::Plugin::Session                             any     0.40
#     Catalyst::Plugin::Session::State::Cookie              any     0.17
#     Catalyst::Plugin::Session::Store::File                any     0.18
#     Catalyst::Runtime                                 5.71001  5.90115
#     Catalyst::View::TT                                    any     0.44
#     Code::TidyAll::Plugin::Perl::AlignMooseAttributes     any     0.01
#     Data::Dumper                                          any    2.161
#     ExtUtils::MakeMaker                                   any     7.34
#     File::Spec                                            any     3.74
#     FindBin                                               any     1.50
#     HTML::FormFu::MultiForm                              1.02     1.03
#     Pod::Coverage::TrustPod                               any 0.100005
#     Pod::Tidy                                             any  missing
#     Template                                              any     2.27
#     Test::CPAN::Meta                                      any     0.25
#     Test::Differences                                     any     0.64
#     Test::EOL                                             any     2.00
#     Test::Kwalitee                                       1.21     1.27
#     Test::Memory::Cycle                                   any     1.04
#     Test::More                                           0.92 1.302133
#     Test::NoTabs                                          any     2.00
#     Test::PAUSE::Permissions                              any     0.06
#     Test::Pod                                            1.41     1.51
#     Test::Pod::Coverage                                  1.08     1.10
#     Test::WWW::Mechanize                                 1.16     1.50
#     Test::WWW::Mechanize::Catalyst                        any     0.60
#     base                                                  any     2.23
#     lib                                                   any     0.63
# 
# === Test Recommends ===
# 
#     Module         Want     Have
#     ---------- -------- --------
#     CPAN::Meta 2.120900 2.150010
# 
# === Runtime Requires ===
# 
#     Module                                     Want     Have
#     --------------------------------------- ------- --------
#     Carp                                        any     1.38
#     Catalyst::Action                            any    undef
#     Catalyst::Component::InstancePerContext     any 0.001001
#     Catalyst::Controller                        any    undef
#     Catalyst::Runtime                       5.71001  5.90115
#     Config::Any                                 any     0.28
#     File::Spec                                  any     3.74
#     HTML::FormFu                               2.06     2.06
#     HTML::FormFu::Constraint                    any     2.06
#     HTML::FormFu::Deploy                        any     2.06
#     HTML::FormFu::Element::Text                 any     2.06
#     HTML::FormFu::MultiForm                    1.02     1.03
#     HTML::FormFu::Plugin                        any     2.06
#     HTML::FormFu::Util                          any     2.06
#     Moose                                       any   2.2009
#     MooseX::Attribute::Chained                  any    1.0.2
#     Regexp::Assemble                            any     0.38
#     Scalar::Util                                any     1.50
#     Task::Weaken                                any     1.04
#     namespace::autoclean                        any     0.28
#     strict                                      any     1.04
#     warnings                                    any     1.12
# 
# 
# *** WARNING WARNING WARNING WARNING WARNING WARNING WARNING WARNING ***
# 
# The following REQUIRED prerequisites were not satisfied:
# 
# Pod::Tidy is not installed (any version required)
# 
t/00-report-prereqs.t ............ ok
t/01basic-form.t ................. ok
t/01basic-formconfig.t ........... ok
t/01basic-formconfig_conf_ext.t .. ok
t/01basic-formmethod.t ........... ok
t/01basic-token.t ................ ok
t/02multiform-multiformconfig.t .. ok
t/02multiform-multiformmethod.t .. ok
t/02multiform-token.t ............ skipped: no multi form support yet
t/03instancepercontext.t ......... ok
t/elements/requesttoken.t ........ ok
All tests successful.
Files=11, Tests=127, 16 wallclock secs ( 0.01 usr  0.12 sys + 11.88 cusr  1.25 csys = 13.27 CPU)
Result: PASS

------------------------------
PREREQUISITES
------------------------------

Prerequisite modules loaded:

requires:

    Module                                            Need    Have    
    ------------------------------------------------- ------- --------
    Carp                                              0       1.38    
    Catalyst::Action                                  0       0       
    Catalyst::Component::InstancePerContext           0       0.001001
    Catalyst::Controller                              0       0       
    Catalyst::Runtime                                 5.71001 5.90115 
    Config::Any                                       0       0.28    
    File::Spec                                        0       3.74    
    HTML::FormFu                                      2.06    2.06    
    HTML::FormFu::Constraint                          0       2.06    
    HTML::FormFu::Deploy                              0       2.06    
    HTML::FormFu::Element::Text                       0       2.06    
    HTML::FormFu::MultiForm                           1.02    1.03    
    HTML::FormFu::Plugin                              0       2.06    
    HTML::FormFu::Util                                0       2.06    
    Moose                                             0       2.2009  
    MooseX::Attribute::Chained                        0       1.0.2   
    namespace::autoclean                              0       0.28    
    Regexp::Assemble                                  0       0.38    
    Scalar::Util                                      0       1.50    
    strict                                            0       1.04    
    Task::Weaken                                      0       1.04    
    warnings                                          0       1.12    

build_requires:

    Module                                            Need    Have    
    ------------------------------------------------- ------- --------
    base                                              0       2.23    
    Catalyst                                          0       5.90115 
    Catalyst::Action::RenderView                      0       0.16    
    Catalyst::Plugin::Session                         0       0.40    
    Catalyst::Plugin::Session::State::Cookie          0       0.17    
    Catalyst::Plugin::Session::Store::File            0       0.18    
    Catalyst::Runtime                                 5.71001 5.90115 
    Catalyst::View::TT                                0       0.44    
    Code::TidyAll::Plugin::Perl::AlignMooseAttributes 0       0.01    
    Data::Dumper                                      0       2.161   
    ExtUtils::MakeMaker                               0       7.34    
    File::Spec                                        0       3.74    
    FindBin                                           0       1.50    
    HTML::FormFu::MultiForm                           1.02    1.03    
    lib                                               0       0.63    
    Pod::Coverage::TrustPod                           0       0.100005
  ! Pod::Tidy                                         0       n/a     
    Template                                          0       2.27    
    Test::CPAN::Meta                                  0       0.25    
    Test::Differences                                 0       0.64    
    Test::EOL                                         0       2.00    
    Test::Kwalitee                                    1.21    1.27    
    Test::Memory::Cycle                               0       1.04    
    Test::More                                        0.92    1.302133
    Test::NoTabs                                      0       2.00    
    Test::PAUSE::Permissions                          0       0.06    
    Test::Pod                                         1.41    1.51    
    Test::Pod::Coverage                               1.08    1.10    
    Test::WWW::Mechanize                              1.16    1.50    
    Test::WWW::Mechanize::Catalyst                    0       0.60    

configure_requires:

    Module                                            Need    Have    
    ------------------------------------------------- ------- --------
    ExtUtils::MakeMaker                               0       7.34    


------------------------------
ENVIRONMENT AND OTHER CONTEXT
------------------------------

Environment variables:

    LC_ALL = de_DE.ISO8859-1
    PATH = /usr/local/bin:/usr/bin:/bin:/usr/local/sbin:/usr/sbin:/sbin:/home/cpansand/bin/freebsd9.3:/home/cpansand/bin/sh:/home/cpansand/bin:/usr/games:/home/cpansand/devel:/usr/home/eserte/src/srezic-misc/scripts
    PERL5LIB = 
    PERL5OPT = 
    PERL5_CPANPLUS_IS_RUNNING = 39866
    PERL5_CPAN_IS_RUNNING = 39866
    PERL5_CPAN_IS_RUNNING_IN_RECURSION = 39823,39866
    PERLDOC = -MPod::Perldoc::ToTextOverstrike
    PERL_BATCH = yes
    PERL_CANARY_STABILITY_NOPROMPT = 1
    PERL_CPAN_REPORTER_CONFIG = /var/tmp/cpansmoker-1023/2018042012/cpanreporter_000_config.ini
    PERL_EXTUTILS_AUTOINSTALL = --defaultdeps
    SHELL = /usr/local/bin/zsh
    TERM = screen
    TMPDIR = /var/tmp/cpansmoker-1023/2018042012

Perl special variables (and OS-specific diagnostics, for MSWin32):

    $^X = /usr/perl5.14.4/bin/perl
    $UID/$EUID = 1023 / 1023
    $GID = 1023 1023
    $EGID = 1023 1023

Perl module toolchain versions installed:

    Module              Have    
    ------------------- --------
    CPAN                2.16    
    CPAN::Meta          2.150010
    Cwd                 3.74    
    ExtUtils::CBuilder  0.280230
    ExtUtils::Command   7.34    
    ExtUtils::Install   2.12    
    ExtUtils::MakeMaker 7.34    
    ExtUtils::Manifest  1.70    
    ExtUtils::ParseXS   3.35    
    File::Spec          3.74    
    JSON                2.97001 
    JSON::PP            2.97001 
    Module::Build       0.4224  
    Module::Signature   0.81    
    Parse::CPAN::Meta   2.150010
    Test::Harness       3.41    
    Test::More          1.302133
    YAML                1.24    
    YAML::Syck          1.30    
    version             0.9924  


--

Summary of my perl5 (revision 5 version 14 subversion 4) configuration:
   
  Platform:
    osname=freebsd, osvers=9.2-release-p4, archname=amd64-freebsd
    uname='freebsd cvrsnica-freebsd-92 9.2-release-p4 freebsd 9.2-release-p4 #0: tue apr 8 18:08:22 utc 2014 root@amd64-builder.daemonology.net:usrobjusrsrcsysgeneric amd64 '
    config_args='-ds -e -Dprefix=/usr/perl5.14.4'
    hint=recommended, useposix=true, d_sigaction=define
    useithreads=undef, usemultiplicity=undef
    useperlio=define, d_sfio=undef, uselargefiles=define, usesocks=undef
    use64bitint=define, use64bitall=define, uselongdouble=undef
    usemymalloc=n, bincompat5005=undef
  Compiler:
    cc='cc', ccflags ='-DHAS_FPSETMASK -DHAS_FLOATINGPOINT_H -fno-strict-aliasing -pipe -fstack-protector -I/usr/local/include',
    optimize='-O',
    cppflags='-DHAS_FPSETMASK -DHAS_FLOATINGPOINT_H -fno-strict-aliasing -pipe -fstack-protector -I/usr/local/include'
    ccversion='', gccversion='4.2.1 20070831 patched [FreeBSD]', gccosandvers=''
    intsize=4, longsize=8, ptrsize=8, doublesize=8, byteorder=12345678
    d_longlong=define, longlongsize=8, d_longdbl=define, longdblsize=16
    ivtype='long', ivsize=8, nvtype='double', nvsize=8, Off_t='off_t', lseeksize=8
    alignbytes=8, prototype=define
  Linker and Libraries:
    ld='cc', ldflags ='-Wl,-E  -fstack-protector -L/usr/local/lib'
    libpth=/usr/lib /usr/local/lib
    libs=-lgdbm -lm -lcrypt -lutil -lc
    perllibs=-lm -lcrypt -lutil -lc
    libc=, so=so, useshrplib=false, libperl=libperl.a
    gnulibc_version=''
  Dynamic Linking:
    dlsrc=dl_dlopen.xs, dlext=so, d_dlsymun=undef, ccdlflags=' '
    cccdlflags='-DPIC -fPIC', lddlflags='-shared  -L/usr/local/lib -fstack-protector'


Characteristics of this binary (from libperl): 
  Compile-time options: PERL_DONT_CREATE_GVSV PERL_MALLOC_WRAP
                        PERL_PRESERVE_IVUV USE_64_BIT_ALL USE_64_BIT_INT
                        USE_LARGE_FILES USE_PERLIO USE_PERL_ATOF
  Built under freebsd
  Compiled at May 16 2014 00:20:44
  %ENV:
    PERL5LIB=""
    PERL5OPT=""
    PERL5_CPANPLUS_IS_RUNNING="39866"
    PERL5_CPAN_IS_RUNNING="39866"
    PERL5_CPAN_IS_RUNNING_IN_RECURSION="39823,39866"
    PERLDOC="-MPod::Perldoc::ToTextOverstrike"
    PERL_BATCH="yes"
    PERL_CANARY_STABILITY_NOPROMPT="1"
    PERL_CPAN_REPORTER_CONFIG="/var/tmp/cpansmoker-1023/2018042012/cpanreporter_000_config.ini"
    PERL_EXTUTILS_AUTOINSTALL="--defaultdeps"
  @INC:
    /usr/perl5.14.4/lib/site_perl/5.14.4/amd64-freebsd
    /usr/perl5.14.4/lib/site_perl/5.14.4
    /usr/perl5.14.4/lib/5.14.4/amd64-freebsd
    /usr/perl5.14.4/lib/5.14.4
    .