Statistics-R-IO v1.0002 Perl 5 v5.26.1 amd64-freebsd
- Status
- Pass
- From
- Slaven Rezić (SREZIC)
- Dist
-
Statistics-R-IO v1.0002
- Platform
- Perl 5 v5.26.1 amd64-freebsd
- Date
- 2017-10-25 21:28:35
- ID
- 750d2ec2-b9cb-11e7-b0b0-d3d32a0ebb2f
This distribution has been tested as part of the CPAN Testers
project, supporting the Perl programming language. See
http://wiki.cpantesters.org/ for more information or email
questions to cpan-testers-discuss@perl.org
--
Dear Davor Cubranic,
This is a computer-generated report for Statistics-R-IO-1.0002
on perl 5.26.1, created by CPAN-Reporter-1.2018.
Thank you for uploading your work to CPAN. Congratulations!
All tests were successful.
Sections of this report:
* Tester comments
* Program output
* Prerequisites
* Environment and other context
------------------------------
TESTER COMMENTS
------------------------------
Additional comments from tester:
none provided
------------------------------
PROGRAM OUTPUT
------------------------------
Output from '/usr/bin/make test':
Skip blib/lib/auto/share/dist/Statistics-R-IO/WebWork/RserveClient.pl (unchanged)
PERL_DL_NONLAZY=1 "/usr/perl5.26.1p/bin/perl5.26.1" "-MExtUtils::Command::MM" "-MTest::Harness" "-e" "undef *Test::Harness::Switches; test_harness(0, 'blib/lib', 'blib/arch')" t/*.t
t/author-pod-coverage.t ........ skipped: these tests are for testing by the author
t/author-pod-syntax.t .......... skipped: these tests are for testing by the author
t/io-oo-rdata.t ................ ok
t/io-oo-rds.t .................. ok
t/io-oo-rserve-eval-live.t ..... skipped: Cannot connect to Rserve server at localhost:6311
t/io-oo-rserve-eval-mock.t ..... ok
t/io-oo-rserve-getfile-live.t .. skipped: Cannot connect to Rserve server at localhost:6311
t/io-oo-rserve-sereval-live.t .. skipped: Cannot connect to Rserve server at localhost:6311
t/io-oo-rserve-sereval-mock.t .. ok
t/io-parser.t .................. ok
t/io-parserstate.t ............. ok
t/io-qap.t ..................... ok
t/io-rdata.t ................... ok
t/io-rds.t ..................... ok
t/io-rserve-eval.t ............. skipped: Cannot connect to Rserve server at localhost:6311
t/io-rserve.t .................. ok
t/io-unserialize.t ............. ok
t/rexp-baseenvironment.t ....... ok
t/rexp-character.t ............. ok
t/rexp-closure.t ............... ok
t/rexp-complex.t ............... ok
t/rexp-double.t ................ ok
t/rexp-emptyenvironment.t ...... ok
t/rexp-environment.t ........... ok
t/rexp-expression.t ............ ok
t/rexp-globalenvironment.t ..... ok
t/rexp-integer.t ............... ok
t/rexp-language.t .............. ok
t/rexp-list.t .................. ok
t/rexp-logical.t ............... ok
t/rexp-null.t .................. ok
t/rexp-raw.t ................... ok
t/rexp-s3.t .................... ok
t/rexp-s4.t .................... ok
t/rexp-symbol.t ................ ok
t/rexp-unknown.t ............... ok
t/rexp-vector.t ................ ok
t/rexp.t ....................... ok
All tests successful.
Files=38, Tests=860, 28 wallclock secs ( 0.92 usr 0.53 sys + 24.34 cusr 2.83 csys = 28.62 CPU)
Result: PASS
------------------------------
PREREQUISITES
------------------------------
Prerequisite modules loaded:
requires:
Module Need Have
------------------------- ----- ----------
Carp 0 1.42
Class::Method::Modifiers 0 2.12
Class::Tiny 1.001 1.006
Class::Tiny::Antlers 0.023 0.023
Math::Complex 0 1.5901
namespace::clean 0.24 0.27
perl 5.010 5.026001
Scalar::Util 0 1.49
build_requires:
Module Need Have
------------------------- ----- ----------
ExtUtils::MakeMaker 0 7.24
Test::Fatal 0 0.014
Test::MockObject 0 1.20161202
Test::MockObject::Extends 0 1.20161202
Test::More 0.96 1.302106
configure_requires:
Module Need Have
------------------------- ----- ----------
ExtUtils::MakeMaker 0 7.24
File::ShareDir::Install 0.06 0.11
------------------------------
ENVIRONMENT AND OTHER CONTEXT
------------------------------
Environment variables:
PATH = /usr/local/bin:/usr/bin:/bin:/usr/local/sbin:/usr/sbin:/sbin:/home/cpansand/bin/freebsd12.0:/home/cpansand/bin/sh:/home/cpansand/bin:/usr/games:/home/cpansand/devel:/usr/home/eserte/src/srezic-misc/scripts
PERL5LIB =
PERL5OPT =
PERL5_CPANPLUS_IS_RUNNING = 44171
PERL5_CPAN_IS_RUNNING = 44171
PERL5_CPAN_IS_RUNNING_IN_RECURSION = 90544,44171
PERLDOC = -MPod::Perldoc::ToTextOverstrike
PERL_BATCH = yes
PERL_CANARY_STABILITY_NOPROMPT = 1
PERL_CPAN_REPORTER_CONFIG = /var/tmp/cpansmoker-1023/2017102515/cpanreporter_007_config.ini
PERL_EXTUTILS_AUTOINSTALL = --defaultdeps
PERL_USE_UNSAFE_INC = 1
SHELL = /usr/local/bin/zsh
TERM = screen
TMPDIR = /var/tmp/cpansmoker-1023/2017102515
Perl special variables (and OS-specific diagnostics, for MSWin32):
$^X = /usr/perl5.26.1p/bin/perl5.26.1
$UID/$EUID = 1023 / 1023
$GID = 1023 1023
$EGID = 1023 1023
Perl module toolchain versions installed:
Module Have
------------------- --------
CPAN 2.18
CPAN::Meta 2.150010
Cwd 3.67
ExtUtils::CBuilder 0.280226
ExtUtils::Command 7.24
ExtUtils::Install 2.04
ExtUtils::MakeMaker 7.24
ExtUtils::Manifest 1.70
ExtUtils::ParseXS 3.35
File::Spec 3.67
JSON 2.94
JSON::PP 2.94
Module::Build 0.4224
Module::Signature 0.81
Parse::CPAN::Meta 2.150010
Test::Harness 3.38
Test::More 1.302106
YAML 1.23
YAML::Syck 1.30
version 0.9917
--
Summary of my perl5 (revision 5 version 26 subversion 1) configuration:
Platform:
osname=freebsd
osvers=12.0-current
archname=amd64-freebsd
uname='freebsd freebsd 12.0-current freebsd 12.0-current #1 ff104cc9da3(master)-dirty: thu oct 19 23:44:51 cest 2017 root@freebsd:usrobjusrsrcsysgeneric amd64 '
config_args='-ds -e -Dprefix=/usr/perl5.26.1p -Dcf_email=srezic@cpan.org -Doptimize=-O2 -pipe'
hint=recommended
useposix=true
d_sigaction=define
useithreads=undef
usemultiplicity=undef
use64bitint=define
use64bitall=define
uselongdouble=undef
usemymalloc=n
default_inc_excludes_dot=define
bincompat5005=undef
Compiler:
cc='cc'
ccflags ='-DHAS_FPSETMASK -DHAS_FLOATINGPOINT_H -fno-strict-aliasing -pipe -fstack-protector-strong -I/usr/local/include -D_FORTIFY_SOURCE=2'
optimize='-O2 -pipe'
cppflags='-DHAS_FPSETMASK -DHAS_FLOATINGPOINT_H -fno-strict-aliasing -pipe -fstack-protector-strong -I/usr/local/include'
ccversion=''
gccversion='4.2.1 Compatible FreeBSD Clang 5.0.0 (tags/RELEASE_500/final 312559)'
gccosandvers=''
intsize=4
longsize=8
ptrsize=8
doublesize=8
byteorder=12345678
doublekind=3
d_longlong=define
longlongsize=8
d_longdbl=define
longdblsize=16
longdblkind=3
ivtype='long'
ivsize=8
nvtype='double'
nvsize=8
Off_t='off_t'
lseeksize=8
alignbytes=8
prototype=define
Linker and Libraries:
ld='cc'
ldflags ='-pthread -Wl,-E -fstack-protector-strong -L/usr/local/lib'
libpth=/usr/lib /usr/local/lib /usr/lib/clang/5.0.0/lib /usr/lib
libs=-lpthread -lgdbm -lm -lcrypt -lutil -lc
perllibs=-lpthread -lm -lcrypt -lutil -lc
libc=
so=so
useshrplib=false
libperl=libperl.a
gnulibc_version=''
Dynamic Linking:
dlsrc=dl_dlopen.xs
dlext=so
d_dlsymun=undef
ccdlflags=' '
cccdlflags='-DPIC -fPIC'
lddlflags='-shared -L/usr/local/lib -fstack-protector-strong'
Characteristics of this binary (from libperl):
Compile-time options:
HAS_TIMES
PERLIO_LAYERS
PERL_COPY_ON_WRITE
PERL_DONT_CREATE_GVSV
PERL_MALLOC_WRAP
PERL_OP_PARENT
PERL_PRESERVE_IVUV
USE_64_BIT_ALL
USE_64_BIT_INT
USE_LARGE_FILES
USE_LOCALE
USE_LOCALE_COLLATE
USE_LOCALE_CTYPE
USE_LOCALE_NUMERIC
USE_LOCALE_TIME
USE_PERLIO
USE_PERL_ATOF
Built under freebsd
Compiled at Oct 20 2017 22:57:36
%ENV:
PERL5LIB=""
PERL5OPT=""
PERL5_CPANPLUS_IS_RUNNING="44171"
PERL5_CPAN_IS_RUNNING="44171"
PERL5_CPAN_IS_RUNNING_IN_RECURSION="90544,44171"
PERLDOC="-MPod::Perldoc::ToTextOverstrike"
PERL_BATCH="yes"
PERL_CANARY_STABILITY_NOPROMPT="1"
PERL_CPAN_REPORTER_CONFIG="/var/tmp/cpansmoker-1023/2017102515/cpanreporter_007_config.ini"
PERL_EXTUTILS_AUTOINSTALL="--defaultdeps"
PERL_USE_UNSAFE_INC="1"
@INC:
/usr/perl5.26.1p/lib/site_perl/5.26.1/amd64-freebsd
/usr/perl5.26.1p/lib/site_perl/5.26.1
/usr/perl5.26.1p/lib/5.26.1/amd64-freebsd
/usr/perl5.26.1p/lib/5.26.1
.