MooseX-RemoteHelper v0.001021 Perl 5 v5.24.3 RC1 amd64-freebsd

Status
Pass
From
Slaven Rezić (SREZIC)
Dist
MooseX-RemoteHelper v0.001021
Platform
Perl 5 v5.24.3 RC1 amd64-freebsd
Date
2017-09-13 04:53:17
ID
750ffa74-983f-11e7-8b0a-aa8b51993d50
This distribution has been tested as part of the CPAN Testers
project, supporting the Perl programming language.  See
http://wiki.cpantesters.org/ for more information or email
questions to cpan-testers-discuss@perl.org


--
Dear Caleb Cushing,

This is a computer-generated report for MooseX-RemoteHelper-0.001021
on perl 5.24.3, created by CPAN-Reporter-1.2018.

Thank you for uploading your work to CPAN.  Congratulations!
All tests were successful.

Sections of this report:

    * Tester comments
    * Program output
    * Prerequisites
    * Environment and other context

------------------------------
TESTER COMMENTS
------------------------------

Additional comments from tester:

none provided

------------------------------
PROGRAM OUTPUT
------------------------------

Output from '/usr/bin/make test':

PERL_DL_NONLAZY=1 "/usr/perl5.24.3-RC1p/bin/perl" "-MExtUtils::Command::MM" "-MTest::Harness" "-e" "undef *Test::Harness::Switches; test_harness(0, 'blib/lib', 'blib/arch')" t/*.t
t/00-compile.t .................. ok
# 
# 
# Generated by Dist::Zilla::Plugin::ReportVersions::Tiny v1.10
# perl: 5.024003 (wanted 5.008) on freebsd from /usr/perl5.24.3-RC1p/bin/perl
# 
# ExtUtils::MakeMaker                           => 7.3        (want 6.30)   
# File::Spec                                    => 3.6301     (want any version)
# IO::Handle                                    => 1.36       (want any version)
# IPC::Open3                                    => 1.20       (want any version)
# Moose                                         => 2.2006     (want 2)      
# Moose::Exporter                               => 2.2006     (want any version)
# Moose::Role                                   => 2.2006     (want any version)
# MooseX::Aliases                               => 0.11       (want any version)
# MooseX::Types                                 => 0.50       (want any version)
# MooseX::Types::Moose                          => 0.50       (want any version)
# MooseX::UndefTolerant                         => 0.21       (want any version)
# Safe::Isa                                     => 1.000006   (want any version)
# Test::Method                                  => 0.001002   (want any version)
# Test::Moose                                   => 2.2006     (want any version)
# Test::More                                    => 1.302096   (want 0.88)   
# Test::Requires                                => 0.10       (want any version)
# namespace::autoclean                          => 0.28       (want any version)
# strict                                        => 1.11       (want any version)
# warnings                                      => 1.36       (want any version)
# 
# Thanks for using my code.  I hope it works for you.
# If not, please try and include this output in the bug report.
# That will help me reproduce the issue and solve your problem.
# 
t/000-report-versions-tiny.t .... ok
t/apply-trait.t ................. ok
t/author-critic.t ............... skipped: these tests are for testing by the author
t/author-pod-spell.t ............ skipped: these tests are for testing by the author
t/author-test-eol.t ............. skipped: these tests are for testing by the author
t/composite-array-of-objects.t .. ok
t/composite.t ................... ok
t/false_init_arg.t .............. ok
t/immutable.t ................... ok
t/init_args.t ................... ok
t/message-part.t ................ ok
t/mx-aliases.t .................. ok
t/release-cpan-changes.t ........ skipped: these tests are for release candidate testing
t/release-dist-manifest.t ....... skipped: these tests are for release candidate testing
t/release-distmeta.t ............ skipped: these tests are for release candidate testing
t/release-meta-json.t ........... skipped: these tests are for release candidate testing
t/release-minimum-version.t ..... skipped: these tests are for release candidate testing
t/release-mojibake.t ............ skipped: these tests are for release candidate testing
t/release-pod-coverage.t ........ skipped: these tests are for release candidate testing
t/release-pod-linkcheck.t ....... skipped: these tests are for release candidate testing
t/release-pod-syntax.t .......... skipped: these tests are for release candidate testing
t/release-portability.t ......... skipped: these tests are for release candidate testing
t/release-synopsis.t ............ skipped: these tests are for release candidate testing
t/release-test-version.t ........ skipped: these tests are for release candidate testing
t/release-unused-vars.t ......... skipped: these tests are for release candidate testing
t/role.t ........................ ok
t/serializer.t .................. ok
t/types.t ....................... ok
All tests successful.
Files=29, Tests=78,  7 wallclock secs ( 0.09 usr  0.03 sys +  5.42 cusr  0.90 csys =  6.44 CPU)
Result: PASS

------------------------------
PREREQUISITES
------------------------------

Prerequisite modules loaded:

requires:

    Module                Need Have    
    --------------------- ---- --------
    Moose                 2    2.2006  
    Moose::Exporter       0    2.2006  
    Moose::Role           0    2.2006  
    MooseX::Types         0    0.50    
    MooseX::Types::Moose  0    0.50    
    MooseX::UndefTolerant 0    0.21    
    namespace::autoclean  0    0.28    
    Safe::Isa             0    1.000006
    strict                0    1.11    
    warnings              0    1.36    

build_requires:

    Module                Need Have    
    --------------------- ---- --------
    File::Spec            0    3.63_01 
    IO::Handle            0    1.36    
    IPC::Open3            0    1.20    
    MooseX::Aliases       0    0.11    
    Test::Method          0    0.001002
    Test::Moose           0    2.2006  
    Test::More            0.88 1.302096
    Test::Requires        0    0.10    

configure_requires:

    Module                Need Have    
    --------------------- ---- --------
    ExtUtils::MakeMaker   6.30 7.30    


------------------------------
ENVIRONMENT AND OTHER CONTEXT
------------------------------

Environment variables:

    PATH = /usr/local/bin:/usr/bin:/bin:/usr/local/sbin:/usr/sbin:/sbin:/home/cpansand/bin/freebsd11.0:/home/cpansand/bin/sh:/home/cpansand/bin:/usr/games:/home/cpansand/devel:/home/eserte/src/srezic-misc/scripts
    PERL5LIB = 
    PERL5OPT = 
    PERL5_CPANPLUS_IS_RUNNING = 52332
    PERL5_CPAN_IS_RUNNING = 52332
    PERL5_CPAN_IS_RUNNING_IN_RECURSION = 92554,52332
    PERLDOC = -MPod::Perldoc::ToTextOverstrike
    PERL_BATCH = yes
    PERL_CANARY_STABILITY_NOPROMPT = 1
    PERL_CPAN_REPORTER_CONFIG = /var/tmp/cpansmoker-1023/2017091303/cpanreporter_000_config.ini
    PERL_EXTUTILS_AUTOINSTALL = --defaultdeps
    SHELL = /usr/local/bin/zsh
    TERM = screen
    TMPDIR = /var/tmp/cpansmoker-1023/2017091303

Perl special variables (and OS-specific diagnostics, for MSWin32):

    $^X = /usr/perl5.24.3-RC1p/bin/perl
    $UID/$EUID = 1023 / 1023
    $GID = 1023 1023
    $EGID = 1023 1023

Perl module toolchain versions installed:

    Module              Have      
    ------------------- ----------
    CPAN                2.16      
    CPAN::Meta          2.150005  
    Cwd                 3.63_01   
    ExtUtils::CBuilder  0.280226  
    ExtUtils::Command   7.30      
    ExtUtils::Install   2.14      
    ExtUtils::MakeMaker 7.30      
    ExtUtils::Manifest  1.70      
    ExtUtils::ParseXS   3.35      
    File::Spec          3.63_01   
    JSON                2.94      
    JSON::PP            2.94      
    Module::Build       0.4224    
    Module::Signature   0.81      
    Parse::CPAN::Meta   1.4417_001
    Test::Harness       3.39      
    Test::More          1.302096  
    YAML                1.23      
    YAML::Syck          1.30      
    version             0.9918    


--

Summary of my perl5 (revision 5 version 24 subversion 3) configuration:
   
  Platform:
    osname=freebsd, osvers=11.1-stable, archname=amd64-freebsd
    uname='freebsd ali3.bbbike.org 11.1-stable freebsd 11.1-stable #0 r313908+86423c22e2d(stable11): thu sep 7 22:30:27 utc 2017 root@ali3.bbbike.org:usrobjhomeprojectsfreebsdsysgeneric amd64 '
    config_args='-ds -e -Dprefix=/usr/perl5.24.3-RC1p -Dcf_email=srezic@cpan.org -Doptimize=-O2 -pipe'
    hint=recommended, useposix=true, d_sigaction=define
    useithreads=undef, usemultiplicity=undef
    use64bitint=define, use64bitall=define, uselongdouble=undef
    usemymalloc=n, bincompat5005=undef
  Compiler:
    cc='cc', ccflags ='-DHAS_FPSETMASK -DHAS_FLOATINGPOINT_H -fno-strict-aliasing -pipe -fstack-protector-strong -I/usr/local/include -D_FORTIFY_SOURCE=2',
    optimize='-O2 -pipe',
    cppflags='-DHAS_FPSETMASK -DHAS_FLOATINGPOINT_H -fno-strict-aliasing -pipe -fstack-protector-strong -I/usr/local/include'
    ccversion='', gccversion='4.2.1 Compatible FreeBSD Clang 4.0.0 (tags/RELEASE_400/final 297347)', gccosandvers=''
    intsize=4, longsize=8, ptrsize=8, doublesize=8, byteorder=12345678, doublekind=3
    d_longlong=define, longlongsize=8, d_longdbl=define, longdblsize=16, longdblkind=3
    ivtype='long', ivsize=8, nvtype='double', nvsize=8, Off_t='off_t', lseeksize=8
    alignbytes=8, prototype=define
  Linker and Libraries:
    ld='cc', ldflags ='-pthread -Wl,-E  -fstack-protector-strong -L/usr/local/lib'
    libpth=/usr/lib /usr/local/lib /usr/bin/../lib/clang/4.0.0/lib /usr/lib
    libs=-lpthread -lgdbm -lm -lcrypt -lutil -lc
    perllibs=-lpthread -lm -lcrypt -lutil -lc
    libc=, so=so, useshrplib=false, libperl=libperl.a
    gnulibc_version=''
  Dynamic Linking:
    dlsrc=dl_dlopen.xs, dlext=so, d_dlsymun=undef, ccdlflags=' '
    cccdlflags='-DPIC -fPIC', lddlflags='-shared  -L/usr/local/lib -fstack-protector-strong'


Characteristics of this binary (from libperl): 
  Compile-time options: HAS_TIMES PERLIO_LAYERS PERL_COPY_ON_WRITE
                        PERL_DONT_CREATE_GVSV
                        PERL_HASH_FUNC_ONE_AT_A_TIME_HARD PERL_MALLOC_WRAP
                        PERL_PRESERVE_IVUV USE_64_BIT_ALL USE_64_BIT_INT
                        USE_LARGE_FILES USE_LOCALE USE_LOCALE_COLLATE
                        USE_LOCALE_CTYPE USE_LOCALE_NUMERIC USE_LOCALE_TIME
                        USE_PERLIO USE_PERL_ATOF
  Locally applied patches:
	RC1
  Built under freebsd
  Compiled at Sep 10 2017 16:26:52
  %ENV:
    PERL5LIB=""
    PERL5OPT=""
    PERL5_CPANPLUS_IS_RUNNING="52332"
    PERL5_CPAN_IS_RUNNING="52332"
    PERL5_CPAN_IS_RUNNING_IN_RECURSION="92554,52332"
    PERLDOC="-MPod::Perldoc::ToTextOverstrike"
    PERL_BATCH="yes"
    PERL_CANARY_STABILITY_NOPROMPT="1"
    PERL_CPAN_REPORTER_CONFIG="/var/tmp/cpansmoker-1023/2017091303/cpanreporter_000_config.ini"
    PERL_EXTUTILS_AUTOINSTALL="--defaultdeps"
  @INC:
    /usr/perl5.24.3-RC1p/lib/site_perl/5.24.3/amd64-freebsd
    /usr/perl5.24.3-RC1p/lib/site_perl/5.24.3
    /usr/perl5.24.3-RC1p/lib/5.24.3/amd64-freebsd
    /usr/perl5.24.3-RC1p/lib/5.24.3
    .