Back
From: metabase:user:314402c4-2aae-11df-837a-5e0a49663a4f
Subject: PASS Filter-Crypto-2.02 v5.8.9 FreeBSD
Date: 2013-02-14T09:54:00Z
This distribution has been tested as part of the CPAN Testers
project, supporting the Perl programming language. See
http://wiki.cpantesters.org/ for more information or email
questions to cpan-testers-discuss@perl.org
--
Dear Steve Hay,
This is a computer-generated report for Filter-Crypto-2.02
on perl 5.8.9, created by CPAN-Reporter-1.2006.
Thank you for uploading your work to CPAN. Congratulations!
All tests were successful.
Sections of this report:
* Tester comments
* Program output
* Prerequisites
* Environment and other context
------------------------------
TESTER COMMENTS
------------------------------
Additional comments from tester:
none provided
------------------------------
PROGRAM OUTPUT
------------------------------
Output from '/usr/bin/make test':
PERL_DL_NONLAZY=1 /usr/perl5.8.9/bin/perl5.8.9 "-MExtUtils::Command::MM" "-e" "test_harness(0, 'inc', 'blib/lib', 'blib/arch')" t/01_constants.t t/02_function.t t/03_script.t t/04_par.t t/05_errstr.t t/06_pod.t
t/01_constants.t .. ok
t/02_function.t ... ok
t/03_script.t ..... ok
t/04_par.t ........ ok
t/05_errstr.t ..... ok
t/06_pod.t ........ ok
All tests successful.
Files=6, Tests=425, 22 wallclock secs ( 0.13 usr 0.02 sys + 14.79 cusr 3.45 csys = 18.38 CPU)
Result: PASS
------------------------------
PREREQUISITES
------------------------------
Prerequisite modules loaded:
requires:
Module Need Have
--------------------- ----- ---------
Archive::Zip 0 1.30
blib 0 1.04
Exporter 0 5.66
Fcntl 0 1.06
File::Temp 0 0.22
PAR::Filter 0 0.03
perl 5.006 5.008009
Scalar::Util 0 1.25
Test::More 0 0.98
Test::Pod 1.00 1.45
Text::ParseWords 0 3.27
XSLoader 0 0.16
build_requires:
Module Need Have
--------------------- ----- ---------
blib 0 1.04
Carp 0 1.26
Config 0 0
constant 0 1.21
Cwd 0 3.33
ExtUtils::MakeMaker 6.59 6.64
File::Basename 0 2.77
File::Copy 0 2.13
File::Find 0 1.13
File::Path 0 2.08
File::Spec 0 3.33
File::Spec::Functions 0 3.33
FindBin 0 1.49
Getopt::Long 0 2.38
parent 0 0.225
Pod::Usage 1.15 1.61
strict 0 1.03
Test::More 0 0.98
Text::Wrap 0 2009.0305
vars 0 1.01
warnings 0 1.05_01
configure_requires:
Module Need Have
--------------------- ----- ---------
Carp 0 1.26
Config 0 0
constant 0 1.21
Cwd 0 3.33
ExtUtils::MakeMaker 6.59 6.64
File::Basename 0 2.77
File::Copy 0 2.13
File::Find 0 1.13
File::Path 0 2.08
File::Spec 0 3.33
File::Spec::Functions 0 3.33
FindBin 0 1.49
Getopt::Long 0 2.38
parent 0 0.225
Pod::Usage 1.15 1.61
strict 0 1.03
Text::Wrap 0 2009.0305
vars 0 1.01
warnings 0 1.05_01
------------------------------
ENVIRONMENT AND OTHER CONTEXT
------------------------------
Environment variables:
DBIC_NO_WARN_BAD_PERL = 1
PATH = /usr/local/bin:/usr/X11R6/bin:/usr/X11/bin:/usr/perl5.8.0/bin:/usr/bin:/bin:/usr/local/sbin:/usr/sbin:/sbin:/usr/local/pilot/bin:/home/cpansand/bin/freebsd8.0:/home/cpansand/bin/sh:/home/cpansand/bin:/usr/X386/bin:/usr/games:/home/cpansand/devel:/usr/home/e/eserte/work/srezic-misc/scripts
PERL5LIB = /usr/local/src/CPAN/build/JSON-Path-0.204-8Zxity/blib/arch:/usr/local/src/CPAN/build/JSON-Path-0.204-8Zxity/blib/lib:/usr/local/src/CPAN/build/lvalue-0.01-bpdagg/blib/arch:/usr/local/src/CPAN/build/lvalue-0.01-bpdagg/blib/lib
PERL5OPT =
PERL5_CPANPLUS_IS_RUNNING = 36689
PERL5_CPAN_IS_RUNNING = 36689
PERL5_CPAN_IS_RUNNING_IN_RECURSION = 36667,36689
PERL_BATCH = yes
PERL_CPAN_REPORTER_CONFIG = /var/tmp/cpansmoker-1023/XHR0iF7o0A_config.ini
PERL_EXTUTILS_AUTOINSTALL = --defaultdeps
PERL_HTML_DISPLAY_CLASS = HTML::Display::Mozilla
SHELL = /usr/local/bin/zsh
TERM = screen
TMPDIR = /var/tmp/cpansmoker-1023
Perl special variables (and OS-specific diagnostics, for MSWin32):
$^X = /usr/perl5.8.9/bin/perl5.8.9
$UID/$EUID = 1023 / 1023
$GID = 1023 1023
$EGID = 1023 1023
Perl module toolchain versions installed:
Module Have
------------------- --------
CPAN 1.9800
CPAN::Meta 2.112621
Cwd 3.33
ExtUtils::CBuilder 0.280205
ExtUtils::Command 1.16
ExtUtils::Install 1.54
ExtUtils::MakeMaker 6.64
ExtUtils::Manifest 1.60
ExtUtils::ParseXS 3.15
File::Spec 3.33
JSON 2.53
JSON::PP 2.27200
Module::Build 0.4003
Module::Signature 0.68
Parse::CPAN::Meta 1.4404
Test::Harness 3.23
Test::More 0.98
YAML 0.84
YAML::Syck 1.20
version 0.9901
--
Summary of my perl5 (revision 5 version 8 subversion 9) configuration:
Platform:
osname=freebsd, osvers=8.0-release, archname=i386-freebsd
uname='freebsd biokovo.herceg.de 8.0-release freebsd 8.0-release #0: sat nov 21 15:48:17 utc 2009 root@almeida.cse.buffalo.edu:usrobjusrsrcsysgeneric i386 '
config_args='-Dprefix=/usr/perl5.8.9 -Dusemymalloc=n -D cc=ccache cc -Dgccansipedantic -Duse64bit -de -D hintfile=myfreebsd'
hint=recommended, useposix=true, d_sigaction=define
usethreads=undef use5005threads=undef useithreads=undef usemultiplicity=undef
useperlio=define d_sfio=undef uselargefiles=define usesocks=undef
use64bitint=undef use64bitall=undef uselongdouble=undef
usemymalloc=n, bincompat5005=undef
Compiler:
cc='ccache cc', ccflags ='-DHAS_FPSETMASK -DHAS_FLOATINGPOINT_H -fno-strict-aliasing -pipe -I/usr/local/include',
optimize='-O2 -mtune=athlon64 -pipe',
cppflags='-DHAS_FPSETMASK -DHAS_FLOATINGPOINT_H -fno-strict-aliasing -pipe -I/usr/local/include'
ccversion='', gccversion='4.2.1 20070719 [FreeBSD]', gccosandvers=''
intsize=4, longsize=4, ptrsize=4, doublesize=8, byteorder=1234
d_longlong=define, longlongsize=8, d_longdbl=define, longdblsize=12
ivtype='long', ivsize=4, nvtype='double', nvsize=8, Off_t='off_t', lseeksize=8
alignbytes=4, prototype=define
Linker and Libraries:
ld='ccache cc', ldflags ='-Wl,-E -L/usr/local/lib'
libpth=/usr/lib /usr/local/lib
libs=-lgdbm -lm -lcrypt -lutil -lc
perllibs=-lm -lcrypt -lutil -lc
libc=, so=so, useshrplib=false, libperl=libperl.a
gnulibc_version=''
Dynamic Linking:
dlsrc=dl_dlopen.xs, dlext=so, d_dlsymun=undef, ccdlflags=' '
cccdlflags='-DPIC -fPIC', lddlflags='-shared -L/usr/local/lib'
Characteristics of this binary (from libperl):
Compile-time options: PERL_MALLOC_WRAP USE_FAST_STDIO USE_LARGE_FILES
USE_PERLIO
Built under freebsd
Compiled at Jan 28 2011 08:40:05
%ENV:
PERL5LIB="/usr/local/src/CPAN/build/JSON-Path-0.204-8Zxity/blib/arch:/usr/local/src/CPAN/build/JSON-Path-0.204-8Zxity/blib/lib:/usr/local/src/CPAN/build/lvalue-0.01-bpdagg/blib/arch:/usr/local/src/CPAN/build/lvalue-0.01-bpdagg/blib/lib"
PERL5OPT=""
PERL5_CPANPLUS_IS_RUNNING="36689"
PERL5_CPAN_IS_RUNNING="36689"
PERL5_CPAN_IS_RUNNING_IN_RECURSION="36667,36689"
PERL_BATCH="yes"
PERL_CPAN_REPORTER_CONFIG="/var/tmp/cpansmoker-1023/XHR0iF7o0A_config.ini"
PERL_EXTUTILS_AUTOINSTALL="--defaultdeps"
PERL_HTML_DISPLAY_CLASS="HTML::Display::Mozilla"
@INC:
/usr/local/src/CPAN/build/JSON-Path-0.204-8Zxity/blib/arch
/usr/local/src/CPAN/build/JSON-Path-0.204-8Zxity/blib/lib
/usr/local/src/CPAN/build/lvalue-0.01-bpdagg/blib/arch
/usr/local/src/CPAN/build/lvalue-0.01-bpdagg/blib/lib
/usr/perl5.8.9/lib/5.8.9/i386-freebsd
/usr/perl5.8.9/lib/5.8.9
/usr/perl5.8.9/lib/site_perl/5.8.9/i386-freebsd
/usr/perl5.8.9/lib/site_perl/5.8.9
.