Module-Metadata v1.000033 Perl 5 v5.18.4 OpenBSD.amd64-openbsd

Status
Pass
From
Nigel Horne
Dist
Module-Metadata v1.000033
Platform
Perl 5 v5.18.4 OpenBSD.amd64-openbsd
Date
2018-05-19 10:00:28
ID
753ec76c-5b4b-11e8-b9c5-e41f4fb4fde3
This distribution has been tested as part of the CPAN Testers
project, supporting the Perl programming language.  See
http://wiki.cpantesters.org/ for more information or email
questions to cpan-testers-discuss@perl.org


--
Dear Karen Etheridge,

This is a computer-generated report for Module-Metadata-1.000033
on perl 5.18.4, created by CPAN-Reporter-1.2018.

Thank you for uploading your work to CPAN.  Congratulations!
All tests were successful.

Sections of this report:

    * Tester comments
    * Program output
    * Prerequisites
    * Environment and other context

------------------------------
TESTER COMMENTS
------------------------------

Additional comments from tester:

none provided

------------------------------
PROGRAM OUTPUT
------------------------------

Output from '/usr/bin/make test':

PERL_DL_NONLAZY=1 "/home/njh/perl5/perlbrew/perls/perl-5.18.4/bin/perl" "-MExtUtils::Command::MM" "-MTest::Harness" "-e" "undef *Test::Harness::Switches; test_harness(0, 'blib/lib', 'blib/arch')" t/*.t
# 
# Versions for all modules listed in MYMETA.json (including optional ones):
# 
# === Configure Requires ===
# 
#     Module              Want Have
#     ------------------- ---- ----
#     ExtUtils::MakeMaker  any 7.34
# 
# === Build Requires ===
# 
#     Module              Want Have
#     ------------------- ---- ----
#     ExtUtils::MakeMaker  any 7.34
# 
# === Test Requires ===
# 
#     Module              Want     Have
#     ------------------- ---- --------
#     Cwd                  any     3.40
#     Exporter             any     5.68
#     ExtUtils::MakeMaker  any     7.34
#     File::Basename       any     2.84
#     File::Path           any     2.09
#     File::Spec           any     3.40
#     File::Temp           any     0.23
#     IO::File             any     1.16
#     Test::More          0.82 1.302136
#     base                 any     2.18
#     lib                  any     0.63
# 
# === Test Recommends ===
# 
#     Module         Want     Have
#     ---------- -------- --------
#     CPAN::Meta 2.120900 2.143240
# 
# === Runtime Requires ===
# 
#     Module     Want   Have
#     ---------- ---- ------
#     Carp        any   1.29
#     Fcntl       any   1.11
#     File::Find  any   1.23
#     File::Spec  any   3.40
#     strict      any   1.07
#     version    0.87 0.9902
#     warnings    any   1.18
# 
# === Other Modules ===
# 
#     Module        Have
#     ------------- ----
#     Pod::Coverage 0.23
# 
t/00-report-prereqs.t .. ok
t/contains_pod.t ....... ok
t/encoding.t ........... ok
t/endpod.t ............. ok
# Got: '_private'
# Module contents:
# package _private;
# $::VERSION = 0.01;
# $VERSION = '999';
# Got: '_private'
# Module contents:
# package _private;
# $VERSION = '999';
# $::VERSION = 0.01;
t/extract-package.t .... ok
# parsed module: bless( {
#   'collect_pod' => undef,
#   'filename' => '/tmp/MMD-VZ38RbBk/Simple51/Simple.pm',
#   'inc' => undef,
#   'module' => 'Simple',
#   'packages' => [
#     'Simple'
#   ],
#   'pod' => {},
#   'pod_headings' => [],
#   'version' => bless( {
#     'original' => '0',
#     'version' => [
#       0
#     ]
#   }, 'version' ),
#   'versions' => {
#     'Simple' => $VAR1->{'version'}
#   }
# }, 'Module::Metadata' )
# parsed module: bless( {
#   'collect_pod' => undef,
#   'filename' => '/tmp/MMD-VZ38RbBk/Simple52/Simple.pm',
#   'inc' => undef,
#   'module' => 'Simple',
#   'packages' => [
#     'main',
#     'Simple'
#   ],
#   'pod' => {},
#   'pod_headings' => [],
#   'version' => bless( {
#     'original' => '0',
#     'version' => [
#       0
#     ]
#   }, 'version' ),
#   'versions' => {
#     'Simple' => $VAR1->{'version'},
#     'main' => ''
#   }
# }, 'Module::Metadata' )
# parsed module: bless( {
#   'collect_pod' => undef,
#   'filename' => '/tmp/MMD-VZ38RbBk/Simple54/Simple.pm',
#   'inc' => undef,
#   'module' => undef,
#   'packages' => [
#     'main'
#   ],
#   'pod' => {},
#   'pod_headings' => [],
#   'version' => undef,
#   'versions' => {
#     'main' => bless( {
#       'original' => '1.23',
#       'version' => [
#         1,
#         230
#       ]
#     }, 'version' )
#   }
# }, 'Module::Metadata' )
# parsed module: bless( {
#   'collect_pod' => undef,
#   'filename' => '/tmp/MMD-VZ38RbBk/Simple55/Simple.pm',
#   'inc' => undef,
#   'module' => undef,
#   'packages' => [
#     'main'
#   ],
#   'pod' => {},
#   'pod_headings' => [],
#   'version' => undef,
#   'versions' => {
#     'main' => bless( {
#       'original' => '1.23',
#       'version' => [
#         1,
#         230
#       ]
#     }, 'version' )
#   }
# }, 'Module::Metadata' )
t/extract-version.t .... ok
t/metadata.t ........... ok
t/taint.t .............. ok
t/version.t ............ ok
All tests successful.
Files=9, Tests=348,  2 wallclock secs ( 0.15 usr  0.02 sys +  0.98 cusr  0.32 csys =  1.47 CPU)
Result: PASS

------------------------------
PREREQUISITES
------------------------------

Prerequisite modules loaded:

requires:

    Module              Need  Have    
    ------------------- ----- --------
    Carp                0     1.29    
    Fcntl               0     1.11    
    File::Find          0     1.23    
    File::Spec          0     3.40    
    perl                5.006 5.018004
    strict              0     1.07    
    version             0.87  0.9902  
    warnings            0     1.18    

build_requires:

    Module              Need  Have    
    ------------------- ----- --------
    base                0     2.18    
    Cwd                 0     3.40    
    Exporter            0     5.68    
    ExtUtils::MakeMaker 0     7.34    
    File::Basename      0     2.84    
    File::Path          0     2.09    
    File::Spec          0     3.40    
    File::Temp          0     0.23    
    IO::File            0     1.16    
    lib                 0     0.63    
    Test::More          0.82  1.302136

configure_requires:

    Module              Need  Have    
    ------------------- ----- --------
    ExtUtils::MakeMaker 0     7.34    
    perl                5.006 5.018004


------------------------------
ENVIRONMENT AND OTHER CONTEXT
------------------------------

Environment variables:

    PATH = /home/njh/perl5/perlbrew/bin:/home/njh/perl5/perlbrew/perls/perl-5.18.4/bin:/home/njh/bin:/bin:/sbin:/usr/bin:/usr/sbin:/usr/X11R6/bin:/usr/local/bin:/usr/local/sbin:/usr/games
    PERL5LIB = 
    PERL5OPT = 
    PERL5_CPANPLUS_IS_RUNNING = 50958
    PERL5_CPAN_IS_RUNNING = 50958
    PERLBREW_HOME = /home/njh/.perlbrew
    PERLBREW_MANPATH = /home/njh/perl5/perlbrew/perls/perl-5.18.4/man
    PERLBREW_PATH = /home/njh/perl5/perlbrew/bin:/home/njh/perl5/perlbrew/perls/perl-5.18.4/bin
    PERLBREW_PERL = perl-5.18.4
    PERLBREW_ROOT = /home/njh/perl5/perlbrew
    PERLBREW_SHELLRC_VERSION = 0.82
    PERLBREW_VERSION = 0.82
    SHELL = /usr/local/bin/bash
    TERM = xterm-256color
    TMPDIR = /tmp

Perl special variables (and OS-specific diagnostics, for MSWin32):

    $^X = /home/njh/perl5/perlbrew/perls/perl-5.18.4/bin/perl
    $UID/$EUID = 1000 / 1000
    $GID = 1000 1000 0
    $EGID = 1000 1000 0

Perl module toolchain versions installed:

    Module              Have    
    ------------------- --------
    CPAN                2.16    
    CPAN::Meta          2.143240
    Cwd                 3.40    
    ExtUtils::CBuilder  0.280210
    ExtUtils::Command   7.34    
    ExtUtils::Install   2.06    
    ExtUtils::MakeMaker 7.34    
    ExtUtils::Manifest  1.70    
    ExtUtils::ParseXS   3.18    
    File::Spec          3.40    
    JSON                n/a     
    JSON::PP            2.97001 
    Module::Build       0.4224  
    Module::Signature   n/a     
    Parse::CPAN::Meta   1.4414  
    Test::Harness       3.42    
    Test::More          1.302136
    YAML                1.25    
    YAML::Syck          1.30    
    version             0.9902  


--

Summary of my perl5 (revision 5 version 18 subversion 4) configuration:
   
  Platform:
    osname=openbsd, osvers=6.3, archname=OpenBSD.amd64-openbsd
    uname='openbsd njh1.vultr.com 6.3 generic.mp#107 amd64 '
    config_args='-de -Dprefix=/home/njh/perl5/perlbrew/perls/perl-5.18.4 -Aeval:scriptdir=/home/njh/perl5/perlbrew/perls/perl-5.18.4/bin'
    hint=recommended, useposix=true, d_sigaction=define
    useithreads=undef, usemultiplicity=undef
    useperlio=define, d_sfio=undef, uselargefiles=define, usesocks=undef
    use64bitint=define, use64bitall=define, uselongdouble=undef
    usemymalloc=n, bincompat5005=undef
  Compiler:
    cc='cc', ccflags ='-fno-strict-aliasing -pipe -fstack-protector -I/usr/local/include',
    optimize='-O2',
    cppflags='-fno-strict-aliasing -pipe -fstack-protector -I/usr/local/include'
    ccversion='', gccversion='4.2.1 Compatible OpenBSD Clang 5.0.1 (tags/RELEASE_501/final)', gccosandvers=''
    intsize=4, longsize=8, ptrsize=8, doublesize=8, byteorder=12345678
    d_longlong=define, longlongsize=8, d_longdbl=define, longdblsize=16
    ivtype='long', ivsize=8, nvtype='double', nvsize=8, Off_t='off_t', lseeksize=8
    alignbytes=8, prototype=define
  Linker and Libraries:
    ld='cc', ldflags ='-Wl,-E  -fstack-protector -L/usr/local/lib'
    libpth=/usr/local/lib /usr/lib
    libs=-lm -lutil -lc
    perllibs=-lm -lutil -lc
    libc=/usr/lib/libc.so.92.3, so=so, useshrplib=false, libperl=libperl.a
    gnulibc_version=''
  Dynamic Linking:
    dlsrc=dl_dlopen.xs, dlext=so, d_dlsymun=undef, ccdlflags=' '
    cccdlflags='-DPIC -fPIC ', lddlflags='-shared -fPIC  -L/usr/local/lib -fstack-protector'


Characteristics of this binary (from libperl): 
  Compile-time options: HAS_TIMES PERLIO_LAYERS PERL_DONT_CREATE_GVSV
                        PERL_HASH_FUNC_ONE_AT_A_TIME_HARD PERL_MALLOC_WRAP
                        PERL_PRESERVE_IVUV PERL_SAWAMPERSAND USE_64_BIT_ALL
                        USE_64_BIT_INT USE_LARGE_FILES USE_LOCALE
                        USE_LOCALE_COLLATE USE_LOCALE_CTYPE
                        USE_LOCALE_NUMERIC USE_PERLIO USE_PERL_ATOF
  Locally applied patches:
	Devel::PatchPerl 1.48
  Built under openbsd
  Compiled at May 12 2018 04:39:22
  %ENV:
    PERL5LIB=""
    PERL5OPT=""
    PERL5_CPANPLUS_IS_RUNNING="50958"
    PERL5_CPAN_IS_RUNNING="50958"
    PERLBREW_HOME="/home/njh/.perlbrew"
    PERLBREW_MANPATH="/home/njh/perl5/perlbrew/perls/perl-5.18.4/man"
    PERLBREW_PATH="/home/njh/perl5/perlbrew/bin:/home/njh/perl5/perlbrew/perls/perl-5.18.4/bin"
    PERLBREW_PERL="perl-5.18.4"
    PERLBREW_ROOT="/home/njh/perl5/perlbrew"
    PERLBREW_SHELLRC_VERSION="0.82"
    PERLBREW_VERSION="0.82"
  @INC:
    /home/njh/perl5/perlbrew/perls/perl-5.18.4/lib/site_perl/5.18.4/OpenBSD.amd64-openbsd
    /home/njh/perl5/perlbrew/perls/perl-5.18.4/lib/site_perl/5.18.4
    /home/njh/perl5/perlbrew/perls/perl-5.18.4/lib/5.18.4/OpenBSD.amd64-openbsd
    /home/njh/perl5/perlbrew/perls/perl-5.18.4/lib/5.18.4
    .