Module-CPANTS-Analyse v1.01 Perl 5 v5.33.5 amd64-freebsd
- Status
- Pass
- From
- Carlos Guevara
- Dist
-
Module-CPANTS-Analyse v1.01
- Platform
- Perl 5 v5.33.5 amd64-freebsd
- Date
- 2020-11-25 23:53:47
- ID
- 7549801c-2f79-11eb-a7e7-43c6f9c6acf8
This distribution has been tested as part of the CPAN Testers
project, supporting the Perl programming language. See
http://wiki.cpantesters.org/ for more information or email
questions to cpan-testers-discuss@perl.org
--
Dear Kenichi Ishigaki,
This is a computer-generated report for Module-CPANTS-Analyse-1.01
on perl 5.33.5, created by CPAN-Reporter-1.2018.
Thank you for uploading your work to CPAN. Congratulations!
All tests were successful.
Sections of this report:
* Tester comments
* Program output
* Prerequisites
* Environment and other context
------------------------------
TESTER COMMENTS
------------------------------
Additional comments from tester:
this report is from an automated smoke testing program
and was not reviewed by a human for accuracy
------------------------------
PROGRAM OUTPUT
------------------------------
Output from '/usr/bin/make test':
PERL_DL_NONLAZY=1 "/usr/home/cpan/bin/perl-blead/bin/perl5.33.5" "-MExtUtils::Command::MM" "-MTest::Harness" "-e" "undef *Test::Harness::Switches; test_harness(0, 'blib/lib', 'blib/arch')" t/*.t t/*/*.t
t/00_load.t .............. ok
t/05_testdir.t ........... ok
t/05_testfile.t .......... ok
t/analyse/manifest.t ..... ok
t/analyse/pod.t .......... ok
t/analyse/uses.t ......... ok
t/older_test_kwalitee.t .. ok
t/x_cpants.t ............. ok
All tests successful.
Files=8, Tests=51, 4 wallclock secs ( 0.03 usr 0.04 sys + 2.48 cusr 0.93 csys = 3.48 CPU)
Result: PASS
------------------------------
PREREQUISITES
------------------------------
Prerequisite modules loaded:
requires:
Module Need Have
--------------------------------- -------- --------
Archive::Any::Lite 0.06 0.11
Archive::Tar 1.76 2.38
Array::Diff 0.04 0.09
Class::Accessor 0.19 0.51
CPAN::DistnameInfo 0.06 0.12
CPAN::Meta::Validator 2.133380 2.150010
CPAN::Meta::YAML 0.008 0.018
Data::Binary 0 0.01
File::Find::Object v0.2.1 0.3.5
JSON::PP 0 4.05
List::Util 1.33 1.55
Module::Find 0 0.15
perl 5.008001 5.033005
Perl::PrereqScanner::NotQuiteLite 0.9901 0.9913
Software::License 0.103012 0.103014
Text::Balanced 0 2.03
version 0.73 0.9928
build_requires:
Module Need Have
--------------------------------- -------- --------
Cwd 0 3.79
ExtUtils::MakeMaker 0 7.56
Test::FailWarnings 0 0.008
Test::More 0.88 1.302183
configure_requires:
Module Need Have
--------------------------------- -------- --------
ExtUtils::MakeMaker::CPANfile 0.08 0.09
perl 5.008001 5.033005
------------------------------
ENVIRONMENT AND OTHER CONTEXT
------------------------------
Environment variables:
AUTOMATED_TESTING = 1
DATE_MANIP_TEST_DM5 = 1
LC_ALL = C
NONINTERACTIVE_TESTING = 1
PATH = /home/cpan/bin/perl-blead/bin:/home/cpan/bin:/sbin:/bin:/usr/sbin:/usr/bin:/usr/local/sbin:/usr/local/bin:/home/cpan/bin
PERL5LIB =
PERL5OPT =
PERL5_CPANPLUS_IS_RUNNING = 25680
PERL5_CPAN_IS_RUNNING = 25680
PERL_MM_USE_DEFAULT = 1
PERL_USE_UNSAFE_INC = 1
PERL_VERSION = blead
SHELL = /usr/local/bin/bash
TERM = screen.xterm-256color
TMPDIR = /home/cpan/tmp
Perl special variables (and OS-specific diagnostics, for MSWin32):
$^X = /usr/home/cpan/bin/perl-blead/bin/perl5.33.5
$UID/$EUID = 1002 / 1002
$GID = 1002 1002
$EGID = 1002 1002
Perl module toolchain versions installed:
Module Have
------------------- --------
CPAN 2.28
CPAN::Meta 2.150010
Cwd 3.79
ExtUtils::CBuilder 0.280235
ExtUtils::Command 7.56
ExtUtils::Install 2.18
ExtUtils::MakeMaker 7.56
ExtUtils::Manifest 1.72
ExtUtils::ParseXS 3.41
File::Spec 3.79
JSON 4.02
JSON::PP 4.05
Module::Build 0.4231
Module::Signature n/a
Parse::CPAN::Meta 2.150010
Test::Harness 3.42
Test::More 1.302183
YAML 1.30
YAML::Syck 1.34
version 0.9928
--
Summary of my perl5 (revision 5 version 33 subversion 5) configuration:
Commit id: 24d9bd5f3ce52745f522f236cc2301e7b8b2e8a2
Platform:
osname=freebsd
osvers=12.1-release-p10
archname=amd64-freebsd
uname='freebsd cjg-freebsd12 12.1-release-p10 freebsd 12.1-release-p10 generic amd64 '
config_args='-des -Dprefix=~/bin/perl-blead -Dscriptdir=~/bin/perl-blead/bin -Dusedevel -Duse64bitall'
hint=recommended
useposix=true
d_sigaction=define
useithreads=undef
usemultiplicity=undef
use64bitint=define
use64bitall=define
uselongdouble=undef
usemymalloc=n
default_inc_excludes_dot=define
Compiler:
cc='cc'
ccflags ='-DHAS_FPSETMASK -DHAS_FLOATINGPOINT_H -fno-strict-aliasing -pipe -fstack-protector-strong -I/usr/local/include -D_FORTIFY_SOURCE=2'
optimize='-O2'
cppflags='-DHAS_FPSETMASK -DHAS_FLOATINGPOINT_H -fno-strict-aliasing -pipe -fstack-protector-strong -I/usr/local/include'
ccversion=''
gccversion='4.2.1 Compatible FreeBSD Clang 8.0.1 (tags/RELEASE_801/final 366581)'
gccosandvers=''
intsize=4
longsize=8
ptrsize=8
doublesize=8
byteorder=12345678
doublekind=3
d_longlong=define
longlongsize=8
d_longdbl=define
longdblsize=16
longdblkind=3
ivtype='long'
ivsize=8
nvtype='double'
nvsize=8
Off_t='off_t'
lseeksize=8
alignbytes=8
prototype=define
Linker and Libraries:
ld='cc'
ldflags ='-Wl,-E -fstack-protector-strong -L/usr/local/lib'
libpth=/usr/lib /usr/local/lib /usr/lib/clang/8.0.1/lib /usr/lib
libs=-lpthread -lgdbm -ldl -lm -lcrypt -lutil -lc
perllibs=-lpthread -ldl -lm -lcrypt -lutil -lc
libc=
so=so
useshrplib=false
libperl=libperl.a
gnulibc_version=''
Dynamic Linking:
dlsrc=dl_dlopen.xs
dlext=so
d_dlsymun=undef
ccdlflags=' '
cccdlflags='-DPIC -fPIC'
lddlflags='-shared -L/usr/local/lib -fstack-protector-strong'
Characteristics of this binary (from libperl):
Compile-time options:
HAS_TIMES
PERLIO_LAYERS
PERL_COPY_ON_WRITE
PERL_DONT_CREATE_GVSV
PERL_MALLOC_WRAP
PERL_OP_PARENT
PERL_PRESERVE_IVUV
PERL_USE_DEVEL
USE_64_BIT_ALL
USE_64_BIT_INT
USE_LARGE_FILES
USE_LOCALE
USE_LOCALE_COLLATE
USE_LOCALE_CTYPE
USE_LOCALE_NUMERIC
USE_LOCALE_TIME
USE_PERLIO
USE_PERL_ATOF
Built under freebsd
Compiled at Nov 25 2020 13:51:50
%ENV:
PERL5LIB=""
PERL5OPT=""
PERL5_CPANPLUS_IS_RUNNING="25680"
PERL5_CPAN_IS_RUNNING="25680"
PERL_MM_USE_DEFAULT="1"
PERL_USE_UNSAFE_INC="1"
PERL_VERSION="blead"
@INC:
/home/cpan/bin/perl-blead/lib/site_perl/5.33.5/amd64-freebsd
/home/cpan/bin/perl-blead/lib/site_perl/5.33.5
/home/cpan/bin/perl-blead/lib/5.33.5/amd64-freebsd
/home/cpan/bin/perl-blead/lib/5.33.5
.