Data-Random-Structure-UTF8 v0.06 Perl 5 v5.38.0 i86pc-solaris-thread-multi
- Status
- Pass
- From
- Nigel Horne
- Dist
-
Data-Random-Structure-UTF8 v0.06
- Platform
- Perl 5 v5.38.0 i86pc-solaris-thread-multi
- Date
- 2023-09-04 06:29:53
- ID
- 755c8cac-4aec-11ee-bc4f-0ce5a81a0ace
This distribution has been tested as part of the CPAN Testers
project, supporting the Perl programming language. See
http://wiki.cpantesters.org/ for more information or email
questions to cpan-testers-discuss@perl.org
--
Dear Andreas Hadjiprocopis,
This is a computer-generated report for Data-Random-Structure-UTF8-0.06
on perl 5.38.0, created by CPAN-Reporter-1.2019.
Thank you for uploading your work to CPAN. Congratulations!
All tests were successful.
Sections of this report:
* Tester comments
* Program output
* Prerequisites
* Environment and other context
------------------------------
TESTER COMMENTS
------------------------------
Additional comments from tester:
this report is from an automated smoke testing program
and was not reviewed by a human for accuracy
------------------------------
PROGRAM OUTPUT
------------------------------
Output from '/usr/bin/make test':
PERL_DL_NONLAZY=1 "/export/home/njh/perl5/perlbrew/perls/perl-5.38.0-thread/bin/perl5.38.0" "-MExtUtils::Command::MM" "-MTest::Harness" "-e" "undef *Test::Harness::Switches; test_harness(0, 'blib/lib', 'blib/arch')" t/*.t
# Testing Data::Random::Structure::UTF8 0.06, Perl 5.038000, /export/home/njh/perl5/perlbrew/perls/perl-5.38.0-thread/bin/perl5.38.0
t/00-load.t ....................... ok
t/01-basic.t ...................... ok
t/02-check-content-recursively.t .. ok
t/03-only-unicode.t ............... ok
t/manifest.t ...................... skipped: Author tests not required for installation
t/pod-coverage.t .................. skipped: Author tests not required for installation
t/pod.t ........................... skipped: Author tests not required for installation
All tests successful.
Files=7, Tests=119, 2 wallclock secs ( 0.05 usr 0.03 sys + 1.71 cusr 0.33 csys = 2.12 CPU)
Result: PASS
------------------------------
PREREQUISITES
------------------------------
Prerequisite modules loaded:
requires:
Module Need Have
----------------------- -------- --------
Data::Random::Structure 0 0.01
perl 5.008000 5.038000
Scalar::Util 0 1.63
build_requires:
Module Need Have
----------------------- -------- --------
Data::Dump 0 1.25
Data::Dumper 0 2.188
ExtUtils::MakeMaker 0 7.70
Scalar::Util 0 1.63
Test::More 0 1.302194
configure_requires:
Module Need Have
----------------------- -------- --------
ExtUtils::MakeMaker 0 7.70
------------------------------
ENVIRONMENT AND OTHER CONTEXT
------------------------------
Environment variables:
AUTOMATED_TESTING = 1
NONINTERACTIVE_TESTING = 1
PATH = /export/home/njh/perl5/perlbrew/bin:/export/home/njh/perl5/perlbrew/perls/perl-5.38.0-thread/bin:/export/home/njh/perl5/perlbrew/bin:/export/home/njh/src/njh/smoker/bin:/usr/bin
PERL5LIB = /export/home/njh/.cpan/build/Data-Random-Structure-0.01-1/blib/arch:/export/home/njh/.cpan/build/Data-Random-Structure-0.01-1/blib/lib:/export/home/njh/.cpan/build/Data-Random-0.13-1/blib/arch:/export/home/njh/.cpan/build/Data-Random-0.13-1/blib/lib:/export/home/njh/.cpan/build/ExtUtils-PkgConfig-1.16-1/blib/arch:/export/home/njh/.cpan/build/ExtUtils-PkgConfig-1.16-1/blib/lib:/export/home/njh/.cpan/build/Test-MockTime-0.17-1/blib/arch:/export/home/njh/.cpan/build/Test-MockTime-0.17-1/blib/lib:/export/home/njh/.cpan/build/File-ShareDir-Install-0.14-1/blib/arch:/export/home/njh/.cpan/build/File-ShareDir-Install-0.14-1/blib/lib:/export/home/njh/.cpan/build/Data-Dump-1.25-1/blib/arch:/export/home/njh/.cpan/build/Data-Dump-1.25-1/blib/lib:/export/home/njh/.cpan/build/App-FileComposer-0.02-3/blib/arch:/export/home/njh/.cpan/build/App-FileComposer-0.02-3/blib/lib
PERL5OPT =
PERL5_CPANPLUS_IS_RUNNING = 10510
PERL5_CPAN_IS_RUNNING = 10510
PERL5_CPAN_IS_RUNNING_IN_RECURSION = 10499,10510
PERLBREW_LIB =
PERLBREW_MANPATH = /export/home/njh/perl5/perlbrew/perls/perl-5.38.0-thread/man
PERLBREW_PATH = /export/home/njh/perl5/perlbrew/bin:/export/home/njh/perl5/perlbrew/perls/perl-5.38.0-thread/bin
PERLBREW_PERL = perl-5.38.0-thread
PERLBREW_ROOT = /export/home/njh/perl5/perlbrew
PERLBREW_SHELLRC_VERSION = 0.97
PERLBREW_VERSION = 0.97
PERL_LOCAL_LIB_ROOT =
PERL_MM_USE_DEFAULT = 1
PERL_USE_UNSAFE_INC = 1
SHELL = /usr/bin/bash
TMPDIR = /tmp/smoker-s2wbo/testwrapper.10502
Perl special variables (and OS-specific diagnostics, for MSWin32):
$^X = /export/home/njh/perl5/perlbrew/perls/perl-5.38.0-thread/bin/perl5.38.0
$UID/$EUID = 101 / 101
$GID = 10 10
$EGID = 10 10
Perl module toolchain versions installed:
Module Have
------------------- --------
CPAN 2.36
CPAN::Meta 2.150010
Cwd 3.89
ExtUtils::CBuilder 0.280238
ExtUtils::Command 7.70
ExtUtils::Install 2.22
ExtUtils::MakeMaker 7.70
ExtUtils::Manifest 1.73
ExtUtils::ParseXS 3.51
File::Spec 3.88
JSON n/a
JSON::PP 4.16
Module::Build 0.4234
Module::Signature n/a
Parse::CPAN::Meta 2.150010
Test2 1.302194
Test::Harness 3.44
Test::More 1.302194
YAML 1.30
YAML::Syck 1.34
version 0.9929
--
Summary of my perl5 (revision 5 version 38 subversion 0) configuration:
Platform:
osname=solaris
osvers=2.11
archname=i86pc-solaris-thread-multi
uname='sunos njh1 5.11 illumos-06524cf4e4 i86pc i386 i86pc '
config_args='-de -Dprefix=/export/home/njh/perl5/perlbrew/perls/perl-5.38.0-thread -Dusedevel -Dusethreads -Accflags=-O2 -W -Wformat=2 -Wswitch -Wshadow -Wwrite-strings -Wuninitialized -Wall -pipe -fomit-frame-pointer -pedantic -D_FORTIFY_SOURCE=2 -Wpointer-arith -Wstrict-prototypes -fstack-protector -Wstack-protector -Wextra -Wbad-function-cast -Wcast-align -Wcast-qual -Wdisabled-optimization -Wendif-labels -Wfloat-equal -Wformat-nonliteral -Winline -Wmissing-declarations -Wmissing-prototypes -Wnested-externs -Wpointer-arith -Wundef -Wformat-security -ftree-vectorize -mmmx -msse -mfpmath=sse -msse2 -msse3 -msse4.1 -msse4.2 -mtune=native -Aeval:scriptdir=/export/home/njh/perl5/perlbrew/perls/perl-5.38.0-thread/bin'
hint=recommended
useposix=true
d_sigaction=define
useithreads=define
usemultiplicity=define
use64bitint=undef
use64bitall=undef
uselongdouble=undef
usemymalloc=n
default_inc_excludes_dot=define
Compiler:
cc='/usr/bin/gcc'
ccflags ='-D_REENTRANT -O2 -W -Wformat=2 -Wswitch -Wshadow -Wwrite-strings -Wuninitialized -Wall -pipe -fomit-frame-pointer -pedantic -D_FORTIFY_SOURCE=2 -Wpointer-arith -Wstrict-prototypes -fstack-protector -Wstack-protector -Wextra -Wbad-function-cast -Wcast-align -Wcast-qual -Wdisabled-optimization -Wendif-labels -Wfloat-equal -Wformat-nonliteral -Winline -Wmissing-declarations -Wmissing-prototypes -Wnested-externs -Wpointer-arith -Wundef -Wformat-security -ftree-vectorize -mmmx -msse -mfpmath=sse -msse2 -msse3 -msse4.1 -msse4.2 -mtune=native -fwrapv -fno-strict-aliasing -fstack-protector-strong -I/usr/gnu/include -D_LARGEFILE_SOURCE -D_FILE_OFFSET_BITS=64'
optimize='-O'
cppflags='-D_REENTRANT -O2 -W -Wformat=2 -Wswitch -Wshadow -Wwrite-strings -Wuninitialized -Wall -pipe -fomit-frame-pointer -pedantic -D_FORTIFY_SOURCE=2 -Wpointer-arith -Wstrict-prototypes -fstack-protector -Wstack-protector -Wextra -Wbad-function-cast -Wcast-align -Wcast-qual -Wdisabled-optimization -Wendif-labels -Wfloat-equal -Wformat-nonliteral -Winline -Wmissing-declarations -Wmissing-prototypes -Wnested-externs -Wpointer-arith -Wundef -Wformat-security -ftree-vectorize -mmmx -msse -mfpmath=sse -msse2 -msse3 -msse4.1 -msse4.2 -mtune=native -fwrapv -fno-strict-aliasing -fstack-protector-strong -I/usr/gnu/include'
ccversion=''
gccversion='7.5.0'
gccosandvers=''
intsize=4
longsize=4
ptrsize=4
doublesize=8
byteorder=1234
doublekind=3
d_longlong=define
longlongsize=8
d_longdbl=define
longdblsize=12
longdblkind=3
ivtype='long'
ivsize=4
nvtype='double'
nvsize=8
Off_t='off_t'
lseeksize=8
alignbytes=4
prototype=define
Linker and Libraries:
ld='/usr/bin/gcc'
ldflags =' -fstack-protector-strong -L/usr/gnu/lib '
libpth=/usr/gcc/7/lib /usr/lib /usr/gnu/lib /usr/ccs/lib
libs=-lpthread -lsocket -lnsl -lgdbm -ldb -ldl -lm -lc
perllibs=-lpthread -lsocket -lnsl -ldl -lm -lc
libc=/lib/libc.so
so=so
useshrplib=true
libperl=libperl.so
gnulibc_version=''
Dynamic Linking:
dlsrc=dl_dlopen.xs
dlext=so
d_dlsymun=undef
ccdlflags=' -R /export/home/njh/perl5/perlbrew/perls/perl-5.38.0-thread/lib/5.38.0/i86pc-solaris-thread-multi/CORE'
cccdlflags='-fPIC'
lddlflags='-shared -L/usr/gnu/lib -fstack-protector-strong'
Characteristics of this binary (from libperl):
Compile-time options:
HAS_LONG_DOUBLE
HAS_STRTOLD
HAS_TIMES
MULTIPLICITY
PERLIO_LAYERS
PERL_COPY_ON_WRITE
PERL_DONT_CREATE_GVSV
PERL_HASH_FUNC_ZAPHOD32
PERL_HASH_USE_SBOX32
PERL_MALLOC_WRAP
PERL_OP_PARENT
PERL_PRESERVE_IVUV
PERL_USE_DEVEL
PERL_USE_SAFE_PUTENV
USE_ITHREADS
USE_LARGE_FILES
USE_LOCALE
USE_LOCALE_COLLATE
USE_LOCALE_CTYPE
USE_LOCALE_NUMERIC
USE_LOCALE_TIME
USE_PERLIO
USE_PERL_ATOF
USE_REENTRANT_API
USE_THREAD_SAFE_LOCALE
Built under solaris
Compiled at Jul 3 2023 11:16:47
%ENV:
PERL5LIB="/export/home/njh/.cpan/build/Data-Random-Structure-0.01-1/blib/arch:/export/home/njh/.cpan/build/Data-Random-Structure-0.01-1/blib/lib:/export/home/njh/.cpan/build/Data-Random-0.13-1/blib/arch:/export/home/njh/.cpan/build/Data-Random-0.13-1/blib/lib:/export/home/njh/.cpan/build/ExtUtils-PkgConfig-1.16-1/blib/arch:/export/home/njh/.cpan/build/ExtUtils-PkgConfig-1.16-1/blib/lib:/export/home/njh/.cpan/build/Test-MockTime-0.17-1/blib/arch:/export/home/njh/.cpan/build/Test-MockTime-0.17-1/blib/lib:/export/home/njh/.cpan/build/File-ShareDir-Install-0.14-1/blib/arch:/export/home/njh/.cpan/build/File-ShareDir-Install-0.14-1/blib/lib:/export/home/njh/.cpan/build/Data-Dump-1.25-1/blib/arch:/export/home/njh/.cpan/build/Data-Dump-1.25-1/blib/lib:/export/home/njh/.cpan/build/App-FileComposer-0.02-3/blib/arch:/export/home/njh/.cpan/build/App-FileComposer-0.02-3/blib/lib"
PERL5OPT=""
PERL5_CPANPLUS_IS_RUNNING="10510"
PERL5_CPAN_IS_RUNNING="10510"
PERL5_CPAN_IS_RUNNING_IN_RECURSION="10499,10510"
PERLBREW_LIB=""
PERLBREW_MANPATH="/export/home/njh/perl5/perlbrew/perls/perl-5.38.0-thread/man"
PERLBREW_PATH="/export/home/njh/perl5/perlbrew/bin:/export/home/njh/perl5/perlbrew/perls/perl-5.38.0-thread/bin"
PERLBREW_PERL="perl-5.38.0-thread"
PERLBREW_ROOT="/export/home/njh/perl5/perlbrew"
PERLBREW_SHELLRC_VERSION="0.97"
PERLBREW_VERSION="0.97"
PERL_LOCAL_LIB_ROOT=""
PERL_MM_USE_DEFAULT="1"
PERL_USE_UNSAFE_INC="1"
@INC:
/export/home/njh/.cpan/build/Data-Random-Structure-0.01-1/blib/arch
/export/home/njh/.cpan/build/Data-Random-Structure-0.01-1/blib/lib
/export/home/njh/.cpan/build/Data-Random-0.13-1/blib/arch
/export/home/njh/.cpan/build/Data-Random-0.13-1/blib/lib
/export/home/njh/.cpan/build/ExtUtils-PkgConfig-1.16-1/blib/arch
/export/home/njh/.cpan/build/ExtUtils-PkgConfig-1.16-1/blib/lib
/export/home/njh/.cpan/build/Test-MockTime-0.17-1/blib/arch
/export/home/njh/.cpan/build/Test-MockTime-0.17-1/blib/lib
/export/home/njh/.cpan/build/File-ShareDir-Install-0.14-1/blib/arch
/export/home/njh/.cpan/build/File-ShareDir-Install-0.14-1/blib/lib
/export/home/njh/.cpan/build/Data-Dump-1.25-1/blib/arch
/export/home/njh/.cpan/build/Data-Dump-1.25-1/blib/lib
/export/home/njh/.cpan/build/App-FileComposer-0.02-3/blib/arch
/export/home/njh/.cpan/build/App-FileComposer-0.02-3/blib/lib
/export/home/njh/perl5/perlbrew/perls/perl-5.38.0-thread/lib/site_perl/5.38.0/i86pc-solaris-thread-multi
/export/home/njh/perl5/perlbrew/perls/perl-5.38.0-thread/lib/site_perl/5.38.0
/export/home/njh/perl5/perlbrew/perls/perl-5.38.0-thread/lib/5.38.0/i86pc-solaris-thread-multi
/export/home/njh/perl5/perlbrew/perls/perl-5.38.0-thread/lib/5.38.0
.