App-CSE v0.016 Perl 5 v5.22.1 MSWin32-x86-multi-thread-64int
- Status
- Pass
- From
- Alexandr Ciornii (CHORNY)
- Dist
-
App-CSE v0.016
- Platform
- Perl 5 v5.22.1 MSWin32-x86-multi-thread-64int
- Date
- 2021-02-18 22:55:28
- ID
- 75bb214e-6bf5-1014-9c28-60e20a291913
This distribution has been tested as part of the CPAN Testers
project, supporting the Perl programming language. See
http://wiki.cpantesters.org/ for more information or email
questions to cpan-testers-discuss@perl.org
--
Dear Jerome Eteve,
This is a computer-generated report for App-CSE-0.016
on perl 5.22.1, created by CPAN-Reporter-1.2018_01.
Thank you for uploading your work to CPAN. Congratulations!
All tests were successful.
Sections of this report:
* Tester comments
* Program output
* Prerequisites
* Environment and other context
------------------------------
TESTER COMMENTS
------------------------------
Additional comments from tester:
this report is from an automated smoke testing program
and was not reviewed by a human for accuracy
------------------------------
PROGRAM OUTPUT
------------------------------
Output from 'C:\STRAWB~1\c\bin\dmake.exe test':
"C:\Strawberry221\perl\bin\perl.exe" "-MExtUtils::Command::MM" "-MTest::Harness" "-e" "undef *Test::Harness::Switches; test_harness(0, 'blib\lib', 'blib\arch')" t/*.t t/toindex/perl/*.t
t/00-load.t ............. ok
t/01-help.t ............. ok
t/02-check.t ............ ok
t/03-index.t ............ skipped: No mime-info database on the machine. The shared-mime-info package is available from http://freedesktop.org/
t/04-search.t ........... skipped: No mime-info database on the machine. The shared-mime-info package is available from http://freedesktop.org/
t/05-more-search.t ...... skipped: No mime-info database on the machine. The shared-mime-info package is available from http://freedesktop.org/
t/06-update.t ........... skipped: No mime-info database on the machine. The shared-mime-info package is available from http://freedesktop.org/
t/07-decl.t ............. skipped: No mime-info database on the machine. The shared-mime-info package is available from http://freedesktop.org/
t/08-meta.t ............. skipped: No mime-info database on the machine. The shared-mime-info package is available from http://freedesktop.org/
t/09-watch.t ............ skipped: No mime-info database on the machine. The shared-mime-info package is available from http://freedesktop.org/
t/10-hidden.t ........... skipped: No mime-info database on the machine. The shared-mime-info package is available from http://freedesktop.org/
# this_is_a_test
t/toindex/perl/hello.t .. ok
All tests successful.
Files=12, Tests=17, 31 wallclock secs ( 0.13 usr + 0.11 sys = 0.24 CPU)
Result: PASS
------------------------------
PREREQUISITES
------------------------------
Prerequisite modules loaded:
requires:
Module Need Have
----------------------- ----------- --------
Carp 0 1.38
Class::InsideOut 0 1.14
Class::Load 0 0.23
DateTime 0 1.26
Encode 0 2.83
File::BaseDir 0 0.07
File::Find 0 1.29
File::MimeInfo::Magic 0 0.27
File::Slurp 0 9999.19
File::stat 0 1.07
! Filesys::Notify::Simple 0 broken
Getopt::Long 0 2.48
IO::Interactive 0 1.021
JSON 0 2.90
Log::Dispatch::Syslog 0 2.54
Log::Log4perl 0 1.47
Lucy 0.006000004 0.006002
Moose 0 2.1605
Path::Class::Dir 0 0.36
Pod::Text 0 4.07
PPI 0 1.220
Regexp::Assemble 0 0.36
Scalar::Util 0 1.45
String::CamelCase 0 0.02
Term::ProgressBar 2.17 2.17
Text::Glob 0.09 0.09
Time::HiRes 0 1.9732
Win32::ChangeNotify 0 1.09
XML::LibXML 0 2.0124
build_requires:
Module Need Have
----------------------- ----------- --------
Carp::Always 0 0.13
ExtUtils::MakeMaker 0 7.10
File::Copy::Recursive 0 0.38
File::Slurp 0 9999.19
File::Temp 0 0.2304
Test::More 0 1.001014
configure_requires:
Module Need Have
----------------------- ----------- --------
ExtUtils::MakeMaker 0 7.10
------------------------------
ENVIRONMENT AND OTHER CONTEXT
------------------------------
Environment variables:
AUTOMATED_TESTING = 1
COMSPEC = C:\WINDOWS\system32\cmd.exe
NUMBER_OF_PROCESSORS = 1
PATH = C:\WINDOWS\system32;C:\WINDOWS;C:\WINDOWS\System32\Wbem;C:\Strawberry221\c\bin;C:\Strawberry221\perl\site\bin;C:\Strawberry221\perl\bin;C:\Git\cmd
PERL5LIB = C:\STRAWB~1\cpan\build\Lucy-0.6.2-ers4KY/blib/arch;C:\STRAWB~1\cpan\build\Lucy-0.6.2-ers4KY/blib/lib;C:\STRAWB~1\cpan\build\Clownfish-0.6.3-Uhp_vE/blib/arch;C:\STRAWB~1\cpan\build\Clownfish-0.6.3-Uhp_vE/blib/lib;C:\STRAWB~1\cpan\build\Clownfish-CFC-0.6.3-2aMF5M/blib/arch;C:\STRAWB~1\cpan\build\Clownfish-CFC-0.6.3-2aMF5M/blib/lib;C:\STRAWB~1\cpan\build\Class-InsideOut-1.14-_jGqLJ/blib/arch;C:\STRAWB~1\cpan\build\Class-InsideOut-1.14-_jGqLJ/blib/lib
PERL5OPT =
PERL5_CPANPLUS_IS_RUNNING = 1160
PERL5_CPAN_IS_RUNNING = 1160
PERL5_CPAN_IS_RUNNING_IN_RECURSION = 1432,1160
PERL_CR_SMOKER_CURRENT = App-CSE-0.016
PERL_CR_SMOKER_RUNONCE = 1
PERL_EXTUTILS_AUTOINSTALL = --defaultdeps
PERL_HASH_SEED = 0x11111111
PERL_MM_USE_DEFAULT = 1
PROCESSOR_IDENTIFIER = x86 Family 16 Model 5 Stepping 3, AuthenticAMD
TEMP = C:\DOCUME~1\c\LOCALS~1\Temp
Perl special variables (and OS-specific diagnostics, for MSWin32):
$^X = C:\Strawberry221\perl\bin\perl.exe
$UID/$EUID = 0 / 0
$GID = 0
$EGID = 0
Win32::GetOSName = WinXP/.Net
Win32::GetOSVersion = Service Pack 3, 5, 1, 2600, 2, 3, 0, 256, 1
Win32::FsType = NTFS
Win32::IsAdminUser = 1
Perl module toolchain versions installed:
Module Have
------------------- --------
CPAN 2.11
CPAN::Meta 2.150005
Cwd 3.62
ExtUtils::CBuilder 0.280224
ExtUtils::Command 7.10
ExtUtils::Install 2.04
ExtUtils::MakeMaker 7.10
ExtUtils::Manifest 1.70
ExtUtils::ParseXS 3.30
File::Spec 3.62
JSON 2.90
JSON::PP 2.27300
Module::Build 0.4216
Module::Signature 0.79
Parse::CPAN::Meta 1.4417
Test::Harness 3.36
Test::More 1.001014
YAML 1.15
YAML::Syck 1.29
version 0.9916
--
Summary of my perl5 (revision 5 version 22 subversion 1) configuration:
Platform:
osname=MSWin32, osvers=4.0, archname=MSWin32-x86-multi-thread-64int
uname='Win32 strawberry-perl 5.22.1.4 #1 Sat Mar 26 14:08:02 2016 i386'
config_args='undef'
hint=recommended, useposix=true, d_sigaction=undef
useithreads=define, usemultiplicity=define
use64bitint=define, use64bitall=undef, uselongdouble=undef
usemymalloc=n, bincompat5005=undef
Compiler:
cc='gcc', ccflags =' -s -O2 -DWIN32 -DPERL_TEXTMODE_SCRIPTS -DPERL_IMPLICIT_CONTEXT -DPERL_IMPLICIT_SYS -fwrapv -fno-strict-aliasing -mms-bitfields',
optimize='-s -O2',
cppflags='-DWIN32'
ccversion='', gccversion='4.9.2', gccosandvers=''
intsize=4, longsize=4, ptrsize=4, doublesize=8, byteorder=12345678, doublekind=3
d_longlong=define, longlongsize=8, d_longdbl=define, longdblsize=12, longdblkind=3
ivtype='long long', ivsize=8, nvtype='double', nvsize=8, Off_t='long long', lseeksize=8
alignbytes=8, prototype=define
Linker and Libraries:
ld='g++', ldflags ='-s -L"C:\STRAWB~1\perl\lib\CORE" -L"C:\STRAWB~1\c\lib"'
libpth=C:\STRAWB~1\c\lib C:\STRAWB~1\c\i686-w64-mingw32\lib C:\STRAWB~1\c\lib\gcc\i686-w64-mingw32\4.9.2
libs=-lmoldname -lkernel32 -luser32 -lgdi32 -lwinspool -lcomdlg32 -ladvapi32 -lshell32 -lole32 -loleaut32 -lnetapi32 -luuid -lws2_32 -lmpr -lwinmm -lversion -lodbc32 -lodbccp32 -lcomctl32
perllibs=-lmoldname -lkernel32 -luser32 -lgdi32 -lwinspool -lcomdlg32 -ladvapi32 -lshell32 -lole32 -loleaut32 -lnetapi32 -luuid -lws2_32 -lmpr -lwinmm -lversion -lodbc32 -lodbccp32 -lcomctl32
libc=, so=dll, useshrplib=true, libperl=libperl522.a
gnulibc_version=''
Dynamic Linking:
dlsrc=dl_win32.xs, dlext=xs.dll, d_dlsymun=undef, ccdlflags=' '
cccdlflags=' ', lddlflags='-mdll -s -L"C:\STRAWB~1\perl\lib\CORE" -L"C:\STRAWB~1\c\lib"'
Characteristics of this binary (from libperl):
Compile-time options: HAS_TIMES HAVE_INTERP_INTERN MULTIPLICITY
PERLIO_LAYERS PERL_DONT_CREATE_GVSV
PERL_HASH_FUNC_ONE_AT_A_TIME_HARD
PERL_IMPLICIT_CONTEXT PERL_IMPLICIT_SYS
PERL_MALLOC_WRAP PERL_NEW_COPY_ON_WRITE
PERL_PRESERVE_IVUV USE_64_BIT_INT USE_ITHREADS
USE_LARGE_FILES USE_LOCALE USE_LOCALE_COLLATE
USE_LOCALE_CTYPE USE_LOCALE_NUMERIC USE_LOCALE_TIME
USE_PERLIO USE_PERL_ATOF
Built under MSWin32
Compiled at Mar 26 2016 14:12:26
%ENV:
PERL5LIB="C:\STRAWB~1\cpan\build\Lucy-0.6.2-ers4KY/blib/arch;C:\STRAWB~1\cpan\build\Lucy-0.6.2-ers4KY/blib/lib;C:\STRAWB~1\cpan\build\Clownfish-0.6.3-Uhp_vE/blib/arch;C:\STRAWB~1\cpan\build\Clownfish-0.6.3-Uhp_vE/blib/lib;C:\STRAWB~1\cpan\build\Clownfish-CFC-0.6.3-2aMF5M/blib/arch;C:\STRAWB~1\cpan\build\Clownfish-CFC-0.6.3-2aMF5M/blib/lib;C:\STRAWB~1\cpan\build\Class-InsideOut-1.14-_jGqLJ/blib/arch;C:\STRAWB~1\cpan\build\Class-InsideOut-1.14-_jGqLJ/blib/lib"
PERL5_CPANPLUS_IS_RUNNING="1160"
PERL5_CPAN_IS_RUNNING="1160"
PERL5_CPAN_IS_RUNNING_IN_RECURSION="1432,1160"
PERL_CR_SMOKER_CURRENT="App-CSE-0.016"
PERL_CR_SMOKER_RUNONCE="1"
PERL_EXTUTILS_AUTOINSTALL="--defaultdeps"
PERL_HASH_SEED="0x11111111"
PERL_MM_USE_DEFAULT="1"
@INC:
C:\STRAWB~1\cpan\build\Lucy-0.6.2-ers4KY/blib/arch
C:\STRAWB~1\cpan\build\Lucy-0.6.2-ers4KY/blib/lib
C:\STRAWB~1\cpan\build\Clownfish-0.6.3-Uhp_vE/blib/arch
C:\STRAWB~1\cpan\build\Clownfish-0.6.3-Uhp_vE/blib/lib
C:\STRAWB~1\cpan\build\Clownfish-CFC-0.6.3-2aMF5M/blib/arch
C:\STRAWB~1\cpan\build\Clownfish-CFC-0.6.3-2aMF5M/blib/lib
C:\STRAWB~1\cpan\build\Class-InsideOut-1.14-_jGqLJ/blib/arch
C:\STRAWB~1\cpan\build\Class-InsideOut-1.14-_jGqLJ/blib/lib
C:/Strawberry221/perl/site/lib
C:/Strawberry221/perl/vendor/lib
C:/Strawberry221/perl/lib
.